BEGIN:VCALENDAR
PRODID:-//Microsoft Corporation//Outlook 11.0 MIMEDIR//EN
VERSION:2.0
METHOD:PUBLISH
BEGIN:VEVENT
DTSTART:2024-07-12T03:30:00Z
DTEND:2024-07-12T06:00:00Z
LOCATION:HV1: Hidden Valley, Field 1
CATEGORIES:Softball,Moss Bombers,BB/SAA
UID:D87EF5D6C9B5DB459DA253719648C86C:
DTSTAMP:2026-04-23T11:44:04Z:
SUMMARY:Moss Bombers at Carpet To Go
DESCRIPTION;ENCODING=QUOTED-PRINTABLE:Moss Bombers at Carpet To Go=0D=0A Time: 8:30 PM=0D=0A Location: Hidden Valley, Field 1
CLASS:PUBLIC
PRIORITY:5
BEGIN:VALARM
TRIGGER:-PT330M
ACTION:DISPLAY
DESCRIPTION:Reminder
END:VALARM
END:VEVENT
BEGIN:VEVENT
DTSTART:2024-07-26T01:00:00Z
DTEND:2024-07-26T03:30:00Z
LOCATION:MM6: Marymoor, Field 6
CATEGORIES:Softball,Moss Bombers,BB/SAA
UID:CEA299FE84EC49B24BA0C3EFED6BF0:
DTSTAMP:2026-04-23T11:44:04Z:
SUMMARY:Moss Bombers at Big Balls, Tiny Bats
DESCRIPTION;ENCODING=QUOTED-PRINTABLE:Moss Bombers at Big Balls, Tiny Bats=0D=0A Time: 6:00 PM=0D=0A Location: Marymoor, Field 6
CLASS:PUBLIC
PRIORITY:5
BEGIN:VALARM
TRIGGER:-PT180M
ACTION:DISPLAY
DESCRIPTION:Reminder
END:VALARM
END:VEVENT
BEGIN:VEVENT
DTSTART:2024-08-02T01:00:00Z
DTEND:2024-08-02T03:30:00Z
LOCATION:MM7: Marymoor, Field 7
CATEGORIES:Softball,Moss Bombers,BB/SAA
UID:DEFC61C659DF17478534DF5188E4ECEA:
DTSTAMP:2026-04-23T11:44:04Z:
SUMMARY:Moss Bombers at Achin' Hawgs
DESCRIPTION;ENCODING=QUOTED-PRINTABLE:Moss Bombers at Achin' Hawgs=0D=0A Time: 6:00 PM=0D=0A Location: Marymoor, Field 7
CLASS:PUBLIC
PRIORITY:5
BEGIN:VALARM
TRIGGER:-PT180M
ACTION:DISPLAY
DESCRIPTION:Reminder
END:VALARM
END:VEVENT
BEGIN:VEVENT
DTSTART:2024-08-09T03:30:00Z
DTEND:2024-08-09T06:00:00Z
LOCATION:HV1: Hidden Valley, Field 1
CATEGORIES:Softball,Moss Bombers,BB/SAA
UID:7F9B9D5DB42C6A42A71DD8EB617EE6:
DTSTAMP:2026-04-23T11:44:04Z:
SUMMARY:Ice Cold Pitchers at Moss Bombers
DESCRIPTION;ENCODING=QUOTED-PRINTABLE:Ice Cold Pitchers at Moss Bombers=0D=0A Time: 8:30 PM=0D=0A Location: Hidden Valley, Field 1
CLASS:PUBLIC
PRIORITY:5
BEGIN:VALARM
TRIGGER:-PT330M
ACTION:DISPLAY
DESCRIPTION:Reminder
END:VALARM
END:VEVENT
BEGIN:VEVENT
DTSTART:2024-08-16T03:30:00Z
DTEND:2024-08-16T06:00:00Z
LOCATION:MM7: Marymoor, Field 7
CATEGORIES:Softball,Moss Bombers,BB/SAA
UID:6FDBAAD38099649BE1EF0CD77C5D833:
DTSTAMP:2026-04-23T11:44:04Z:
SUMMARY:Seattle Rain Delays at Moss Bombers
DESCRIPTION;ENCODING=QUOTED-PRINTABLE:Seattle Rain Delays at Moss Bombers=0D=0A Time: 8:30 PM=0D=0A Location: Marymoor, Field 7
CLASS:PUBLIC
PRIORITY:5
BEGIN:VALARM
TRIGGER:-PT330M
ACTION:DISPLAY
DESCRIPTION:Reminder
END:VALARM
END:VEVENT
BEGIN:VEVENT
DTSTART:2024-08-23T01:00:00Z
DTEND:2024-08-23T03:30:00Z
LOCATION:HV1: Hidden Valley, Field 1
CATEGORIES:Softball,Moss Bombers,BB/SAA
UID:526DEDEC9F847746A0593629C756C7:
DTSTAMP:2026-04-23T11:44:04Z:
SUMMARY:Booze on First at Moss Bombers
DESCRIPTION;ENCODING=QUOTED-PRINTABLE:Booze on First at Moss Bombers=0D=0A Time: 6:00 PM=0D=0A Location: Hidden Valley, Field 1
CLASS:PUBLIC
PRIORITY:5
BEGIN:VALARM
TRIGGER:-PT180M
ACTION:DISPLAY
DESCRIPTION:Reminder
END:VALARM
END:VEVENT
BEGIN:VEVENT
DTSTART:2024-08-30T03:30:00Z
DTEND:2024-08-30T06:00:00Z
LOCATION:HV1: Hidden Valley, Field 1
CATEGORIES:Softball,Moss Bombers,BB/SAA
UID:3411C8E980C6F54DA07EA5301A32994D:
DTSTAMP:2026-04-23T11:44:04Z:
SUMMARY:Moss Bombers at Carpet To Go
DESCRIPTION;ENCODING=QUOTED-PRINTABLE:Moss Bombers at Carpet To Go=0D=0A Time: 8:30 PM=0D=0A Location: Hidden Valley, Field 1
CLASS:PUBLIC
PRIORITY:5
BEGIN:VALARM
TRIGGER:-PT330M
ACTION:DISPLAY
DESCRIPTION:Reminder
END:VALARM
END:VEVENT
BEGIN:VEVENT
DTSTART:2024-09-06T01:00:00Z
DTEND:2024-09-06T03:30:00Z
LOCATION:HV1: Hidden Valley, Field 1
CATEGORIES:Softball,Moss Bombers,BB/SAA
UID:D9699E96814A641B511353B9C1B3C3:
DTSTAMP:2026-04-23T11:44:04Z:
SUMMARY:Swingers at Moss Bombers
DESCRIPTION;ENCODING=QUOTED-PRINTABLE:Swingers at Moss Bombers=0D=0A Time: 6:00 PM=0D=0A Location: Hidden Valley, Field 1
CLASS:PUBLIC
PRIORITY:5
BEGIN:VALARM
TRIGGER:-PT180M
ACTION:DISPLAY
DESCRIPTION:Reminder
END:VALARM
END:VEVENT
END:VCALENDAR
