BEGIN:VCALENDAR
PRODID:-//Microsoft Corporation//Outlook 11.0 MIMEDIR//EN
VERSION:2.0
METHOD:PUBLISH
BEGIN:VEVENT
DTSTART:2024-07-12T01:00:00Z
DTEND:2024-07-12T03:30:00Z
LOCATION:MM7: Marymoor, Field 7
CATEGORIES:Softball,Ice Cold Pitchers,BB/SAA
UID:2713AA39C7DBAE42B0D47FDE2A8D6E:
DTSTAMP:2026-04-23T11:35:30Z:
SUMMARY:Achin' Hawgs at Ice Cold Pitchers
DESCRIPTION;ENCODING=QUOTED-PRINTABLE:Achin' Hawgs at Ice Cold Pitchers=0D=0A Time: 6:00 PM=0D=0A Location: Marymoor, Field 7
CLASS:PUBLIC
PRIORITY:5
BEGIN:VALARM
TRIGGER:-PT180M
ACTION:DISPLAY
DESCRIPTION:Reminder
END:VALARM
END:VEVENT
BEGIN:VEVENT
DTSTART:2024-07-19T03:30:00Z
DTEND:2024-07-19T06:00:00Z
LOCATION:HV1: Hidden Valley, Field 1
CATEGORIES:Softball,Ice Cold Pitchers,BB/SAA
UID:D8B1C1713D8D3E449DCB983346FB01:
DTSTAMP:2026-04-23T11:35:30Z:
SUMMARY:Carpet To Go at Ice Cold Pitchers
DESCRIPTION;ENCODING=QUOTED-PRINTABLE:Carpet To Go at Ice Cold Pitchers=0D=0A Time: 8:30 PM=0D=0A Location: Hidden Valley, Field 1
CLASS:PUBLIC
PRIORITY:5
BEGIN:VALARM
TRIGGER:-PT330M
ACTION:DISPLAY
DESCRIPTION:Reminder
END:VALARM
END:VEVENT
BEGIN:VEVENT
DTSTART:2024-07-26T01:00:00Z
DTEND:2024-07-26T03:30:00Z
LOCATION:HV1: Hidden Valley, Field 1
CATEGORIES:Softball,Ice Cold Pitchers,BB/SAA
UID:3BCB81FDD9E47AF7C22C7C2B50C5:
DTSTAMP:2026-04-23T11:35:30Z:
SUMMARY:Ice Cold Pitchers at Seattle Rain Delays
DESCRIPTION;ENCODING=QUOTED-PRINTABLE:Ice Cold Pitchers at Seattle Rain Delays=0D=0A Time: 6:00 PM=0D=0A Location: Hidden Valley, Field 1
CLASS:PUBLIC
PRIORITY:5
BEGIN:VALARM
TRIGGER:-PT180M
ACTION:DISPLAY
DESCRIPTION:Reminder
END:VALARM
END:VEVENT
BEGIN:VEVENT
DTSTART:2024-08-02T01:00:00Z
DTEND:2024-08-02T03:30:00Z
LOCATION:MM6: Marymoor, Field 6
CATEGORIES:Softball,Ice Cold Pitchers,BB/SAA
UID:717FB3795C2DD4DAE6F40C4655C4EBD:
DTSTAMP:2026-04-23T11:35:30Z:
SUMMARY:Ice Cold Pitchers at Booze on First
DESCRIPTION;ENCODING=QUOTED-PRINTABLE:Ice Cold Pitchers at Booze on First=0D=0A Time: 6:00 PM=0D=0A Location: Marymoor, Field 6
CLASS:PUBLIC
PRIORITY:5
BEGIN:VALARM
TRIGGER:-PT180M
ACTION:DISPLAY
DESCRIPTION:Reminder
END:VALARM
END:VEVENT
BEGIN:VEVENT
DTSTART:2024-08-09T03:30:00Z
DTEND:2024-08-09T06:00:00Z
LOCATION:HV1: Hidden Valley, Field 1
CATEGORIES:Softball,Ice Cold Pitchers,BB/SAA
UID:8139AE27F19DA842BD9441D74BD4BC4D:
DTSTAMP:2026-04-23T11:35:30Z:
SUMMARY:Ice Cold Pitchers at Moss Bombers
DESCRIPTION;ENCODING=QUOTED-PRINTABLE:Ice Cold Pitchers at Moss Bombers=0D=0A Time: 8:30 PM=0D=0A Location: Hidden Valley, Field 1
CLASS:PUBLIC
PRIORITY:5
BEGIN:VALARM
TRIGGER:-PT330M
ACTION:DISPLAY
DESCRIPTION:Reminder
END:VALARM
END:VEVENT
BEGIN:VEVENT
DTSTART:2024-08-16T03:30:00Z
DTEND:2024-08-16T06:00:00Z
LOCATION:MM6: Marymoor, Field 6
CATEGORIES:Softball,Ice Cold Pitchers,BB/SAA
UID:724F1DC214684395EE560DF17AAF:
DTSTAMP:2026-04-23T11:35:30Z:
SUMMARY:Swingers at Ice Cold Pitchers
DESCRIPTION;ENCODING=QUOTED-PRINTABLE:Swingers at Ice Cold Pitchers=0D=0A Time: 8:30 PM=0D=0A Location: Marymoor, Field 6
CLASS:PUBLIC
PRIORITY:5
BEGIN:VALARM
TRIGGER:-PT330M
ACTION:DISPLAY
DESCRIPTION:Reminder
END:VALARM
END:VEVENT
BEGIN:VEVENT
DTSTART:2024-08-23T03:30:00Z
DTEND:2024-08-23T06:00:00Z
LOCATION:MM6: Marymoor, Field 6
CATEGORIES:Softball,Ice Cold Pitchers,BB/SAA
UID:63E61CB7FF03E4EB5ACC321CB9878C2:
DTSTAMP:2026-04-23T11:35:30Z:
SUMMARY:Ice Cold Pitchers at Big Balls, Tiny Bats
DESCRIPTION;ENCODING=QUOTED-PRINTABLE:Ice Cold Pitchers at Big Balls, Tiny Bats=0D=0A Time: 8:30 PM=0D=0A Location: Marymoor, Field 6
CLASS:PUBLIC
PRIORITY:5
BEGIN:VALARM
TRIGGER:-PT330M
ACTION:DISPLAY
DESCRIPTION:Reminder
END:VALARM
END:VEVENT
BEGIN:VEVENT
DTSTART:2024-08-30T01:00:00Z
DTEND:2024-08-30T03:30:00Z
LOCATION:MM7: Marymoor, Field 7
CATEGORIES:Softball,Ice Cold Pitchers,BB/SAA
UID:63E63C4F6F4FC0478D568DF69F6AD5C0:
DTSTAMP:2026-04-23T11:35:30Z:
SUMMARY:Achin' Hawgs at Ice Cold Pitchers
DESCRIPTION;ENCODING=QUOTED-PRINTABLE:Achin' Hawgs at Ice Cold Pitchers=0D=0A Time: 6:00 PM=0D=0A Location: Marymoor, Field 7
CLASS:PUBLIC
PRIORITY:5
BEGIN:VALARM
TRIGGER:-PT180M
ACTION:DISPLAY
DESCRIPTION:Reminder
END:VALARM
END:VEVENT
END:VCALENDAR
