BEGIN:VCALENDAR
PRODID:-//Microsoft Corporation//Outlook 11.0 MIMEDIR//EN
VERSION:2.0
METHOD:PUBLISH
BEGIN:VEVENT
DTSTART:2024-07-12T03:30:00Z
DTEND:2024-07-12T06:00:00Z
LOCATION:HV1: Hidden Valley, Field 1
CATEGORIES:Softball,Carpet To Go,BB/SAA
UID:BA1DAA0DBFC224BA5948D72FCD3EDD:
DTSTAMP:2026-04-25T12:48:49Z:
SUMMARY:Moss Bombers at Carpet To Go
DESCRIPTION;ENCODING=QUOTED-PRINTABLE:Moss Bombers at Carpet To Go=0D=0A Time: 8:30 PM=0D=0A Location: Hidden Valley, Field 1
CLASS:PUBLIC
PRIORITY:5
BEGIN:VALARM
TRIGGER:-PT330M
ACTION:DISPLAY
DESCRIPTION:Reminder
END:VALARM
END:VEVENT
BEGIN:VEVENT
DTSTART:2024-07-19T03:30:00Z
DTEND:2024-07-19T06:00:00Z
LOCATION:HV1: Hidden Valley, Field 1
CATEGORIES:Softball,Carpet To Go,BB/SAA
UID:C7172B41DD91E4383302D9FA123CCA:
DTSTAMP:2026-04-25T12:48:49Z:
SUMMARY:Carpet To Go at Ice Cold Pitchers
DESCRIPTION;ENCODING=QUOTED-PRINTABLE:Carpet To Go at Ice Cold Pitchers=0D=0A Time: 8:30 PM=0D=0A Location: Hidden Valley, Field 1
CLASS:PUBLIC
PRIORITY:5
BEGIN:VALARM
TRIGGER:-PT330M
ACTION:DISPLAY
DESCRIPTION:Reminder
END:VALARM
END:VEVENT
BEGIN:VEVENT
DTSTART:2024-07-26T03:30:00Z
DTEND:2024-07-26T06:00:00Z
LOCATION:MM7: Marymoor, Field 7
CATEGORIES:Softball,Carpet To Go,BB/SAA
UID:F49EB4DBA575C34493AFF79836C445A:
DTSTAMP:2026-04-25T12:48:49Z:
SUMMARY:Carpet To Go at Swingers
DESCRIPTION;ENCODING=QUOTED-PRINTABLE:Carpet To Go at Swingers=0D=0A Time: 8:30 PM=0D=0A Location: Marymoor, Field 7
CLASS:PUBLIC
PRIORITY:5
BEGIN:VALARM
TRIGGER:-PT330M
ACTION:DISPLAY
DESCRIPTION:Reminder
END:VALARM
END:VEVENT
BEGIN:VEVENT
DTSTART:2024-08-02T03:30:00Z
DTEND:2024-08-02T06:00:00Z
LOCATION:MM6: Marymoor, Field 6
CATEGORIES:Softball,Carpet To Go,BB/SAA
UID:145E4A838E06849AD752CA06AA4AB:
DTSTAMP:2026-04-25T12:48:49Z:
SUMMARY:Seattle Rain Delays at Carpet To Go
DESCRIPTION;ENCODING=QUOTED-PRINTABLE:Seattle Rain Delays at Carpet To Go=0D=0A Time: 8:30 PM=0D=0A Location: Marymoor, Field 6
CLASS:PUBLIC
PRIORITY:5
BEGIN:VALARM
TRIGGER:-PT330M
ACTION:DISPLAY
DESCRIPTION:Reminder
END:VALARM
END:VEVENT
BEGIN:VEVENT
DTSTART:2024-08-09T03:30:00Z
DTEND:2024-08-09T06:00:00Z
LOCATION:MM7: Marymoor, Field 7
CATEGORIES:Softball,Carpet To Go,BB/SAA
UID:E111FCE85CBCAD48970D7F194725130:
DTSTAMP:2026-04-25T12:48:49Z:
SUMMARY:Carpet To Go at Big Balls, Tiny Bats
DESCRIPTION;ENCODING=QUOTED-PRINTABLE:Carpet To Go at Big Balls, Tiny Bats=0D=0A Time: 8:30 PM=0D=0A Location: Marymoor, Field 7
CLASS:PUBLIC
PRIORITY:5
BEGIN:VALARM
TRIGGER:-PT330M
ACTION:DISPLAY
DESCRIPTION:Reminder
END:VALARM
END:VEVENT
BEGIN:VEVENT
DTSTART:2024-08-16T03:30:00Z
DTEND:2024-08-16T06:00:00Z
LOCATION:HV1: Hidden Valley, Field 1
CATEGORIES:Softball,Carpet To Go,BB/SAA
UID:325F342E3B8E894792CC5281AF824DB:
DTSTAMP:2026-04-25T12:48:49Z:
SUMMARY:Carpet To Go at Booze on First
DESCRIPTION;ENCODING=QUOTED-PRINTABLE:Carpet To Go at Booze on First=0D=0A Time: 8:30 PM=0D=0A Location: Hidden Valley, Field 1
CLASS:PUBLIC
PRIORITY:5
BEGIN:VALARM
TRIGGER:-PT330M
ACTION:DISPLAY
DESCRIPTION:Reminder
END:VALARM
END:VEVENT
BEGIN:VEVENT
DTSTART:2024-08-23T03:30:00Z
DTEND:2024-08-23T06:00:00Z
LOCATION:HV1: Hidden Valley, Field 1
CATEGORIES:Softball,Carpet To Go,BB/SAA
UID:4A8991B492231F4FB7CE4E6E75A766EE:
DTSTAMP:2026-04-25T12:48:49Z:
SUMMARY:Achin' Hawgs at Carpet To Go
DESCRIPTION;ENCODING=QUOTED-PRINTABLE:Achin' Hawgs at Carpet To Go=0D=0A Time: 8:30 PM=0D=0A Location: Hidden Valley, Field 1
CLASS:PUBLIC
PRIORITY:5
BEGIN:VALARM
TRIGGER:-PT330M
ACTION:DISPLAY
DESCRIPTION:Reminder
END:VALARM
END:VEVENT
BEGIN:VEVENT
DTSTART:2024-08-30T03:30:00Z
DTEND:2024-08-30T06:00:00Z
LOCATION:HV1: Hidden Valley, Field 1
CATEGORIES:Softball,Carpet To Go,BB/SAA
UID:C01FA24D65D48241B9EE38D7ADBB2E8:
DTSTAMP:2026-04-25T12:48:49Z:
SUMMARY:Moss Bombers at Carpet To Go
DESCRIPTION;ENCODING=QUOTED-PRINTABLE:Moss Bombers at Carpet To Go=0D=0A Time: 8:30 PM=0D=0A Location: Hidden Valley, Field 1
CLASS:PUBLIC
PRIORITY:5
BEGIN:VALARM
TRIGGER:-PT330M
ACTION:DISPLAY
DESCRIPTION:Reminder
END:VALARM
END:VEVENT
END:VCALENDAR
