BEGIN:VCALENDAR
PRODID:-//Microsoft Corporation//Outlook 11.0 MIMEDIR//EN
VERSION:2.0
METHOD:PUBLISH
BEGIN:VEVENT
DTSTART:2024-04-11T01:00:00Z
DTEND:2024-04-11T03:30:00Z
LOCATION:MM7: Marymoor, Field 7
CATEGORIES:Softball,S.O.P,BB/SAA
UID:35C8475BE88CCF4998AE73BE65DCE77:
DTSTAMP:2026-04-21T05:28:07Z:
SUMMARY:MN Custom Homes at S.O.P
DESCRIPTION;ENCODING=QUOTED-PRINTABLE:MN Custom Homes at S.O.P=0D=0A Time: 6:00 PM=0D=0A Location: Marymoor, Field 7
CLASS:PUBLIC
PRIORITY:5
BEGIN:VALARM
TRIGGER:-PT180M
ACTION:DISPLAY
DESCRIPTION:Reminder
END:VALARM
END:VEVENT
BEGIN:VEVENT
DTSTART:2024-04-18T03:30:00Z
DTEND:2024-04-18T06:00:00Z
LOCATION:HV1: Hidden Valley, Field 1
CATEGORIES:Softball,S.O.P,BB/SAA
UID:A0192CAAC8DC459674466B616338F0:
DTSTAMP:2026-04-21T05:28:07Z:
SUMMARY:S.O.P at The Leftovers
DESCRIPTION;ENCODING=QUOTED-PRINTABLE:S.O.P at The Leftovers=0D=0A Time: 8:30 PM=0D=0A Location: Hidden Valley, Field 1
CLASS:PUBLIC
PRIORITY:5
BEGIN:VALARM
TRIGGER:-PT330M
ACTION:DISPLAY
DESCRIPTION:Reminder
END:VALARM
END:VEVENT
BEGIN:VEVENT
DTSTART:2024-04-25T01:00:00Z
DTEND:2024-04-25T03:30:00Z
LOCATION:HV1: Hidden Valley, Field 1
CATEGORIES:Softball,S.O.P,BB/SAA
UID:BBE556F4DC224B4183C58B699D77302C:
DTSTAMP:2026-04-21T05:28:07Z:
SUMMARY:Almost Pro at S.O.P
DESCRIPTION;ENCODING=QUOTED-PRINTABLE:Almost Pro at S.O.P=0D=0A Time: 6:00 PM=0D=0A Location: Hidden Valley, Field 1
CLASS:PUBLIC
PRIORITY:5
BEGIN:VALARM
TRIGGER:-PT180M
ACTION:DISPLAY
DESCRIPTION:Reminder
END:VALARM
END:VEVENT
BEGIN:VEVENT
DTSTART:2024-05-02T01:00:00Z
DTEND:2024-05-02T03:30:00Z
LOCATION:HV1: Hidden Valley, Field 1
CATEGORIES:Softball,S.O.P,BB/SAA
UID:79D6CE997C5B7B44AEE9F23FD7F5CB4:
DTSTAMP:2026-04-21T05:28:07Z:
SUMMARY:The Leftovers at S.O.P
DESCRIPTION;ENCODING=QUOTED-PRINTABLE:The Leftovers at S.O.P=0D=0A Time: 6:00 PM=0D=0A Location: Hidden Valley, Field 1
CLASS:PUBLIC
PRIORITY:5
BEGIN:VALARM
TRIGGER:-PT180M
ACTION:DISPLAY
DESCRIPTION:Reminder
END:VALARM
END:VEVENT
BEGIN:VEVENT
DTSTART:2024-05-10T01:00:00Z
DTEND:2024-05-10T03:30:00Z
LOCATION:MM7: Marymoor, Field 7
CATEGORIES:Softball,S.O.P,BB/SAA
UID:EA91BC6AFC61843B8DDD1F57AB666CF:
DTSTAMP:2026-04-21T05:28:07Z:
SUMMARY:S.O.P at Big Balls, Tiny Bats
DESCRIPTION;ENCODING=QUOTED-PRINTABLE:S.O.P at Big Balls, Tiny Bats=0D=0A Time: 6:00 PM=0D=0A Location: Marymoor, Field 7
CLASS:PUBLIC
PRIORITY:5
BEGIN:VALARM
TRIGGER:-PT180M
ACTION:DISPLAY
DESCRIPTION:Reminder
END:VALARM
END:VEVENT
BEGIN:VEVENT
DTSTART:2024-05-17T01:00:00Z
DTEND:2024-05-17T03:30:00Z
LOCATION:HV1: Hidden Valley, Field 1
CATEGORIES:Softball,S.O.P,BB/SAA
UID:9FBA2E11A4B2884B97C8EA36185DF711:
DTSTAMP:2026-04-21T05:28:07Z:
SUMMARY:S.O.P at Achin' Hawgs
DESCRIPTION;ENCODING=QUOTED-PRINTABLE:S.O.P at Achin' Hawgs=0D=0A Time: 6:00 PM=0D=0A Location: Hidden Valley, Field 1
CLASS:PUBLIC
PRIORITY:5
BEGIN:VALARM
TRIGGER:-PT180M
ACTION:DISPLAY
DESCRIPTION:Reminder
END:VALARM
END:VEVENT
BEGIN:VEVENT
DTSTART:2024-05-23T03:30:00Z
DTEND:2024-05-23T06:00:00Z
LOCATION:HV1: Hidden Valley, Field 1
CATEGORIES:Softball,S.O.P,BB/SAA
UID:944720DCA1A1C4E846E36E5BB9616A:
DTSTAMP:2026-04-21T05:28:07Z:
SUMMARY:S.O.P at Almost Pro
DESCRIPTION;ENCODING=QUOTED-PRINTABLE:S.O.P at Almost Pro=0D=0A Time: 8:30 PM=0D=0A Location: Hidden Valley, Field 1
CLASS:PUBLIC
PRIORITY:5
BEGIN:VALARM
TRIGGER:-PT330M
ACTION:DISPLAY
DESCRIPTION:Reminder
END:VALARM
END:VEVENT
BEGIN:VEVENT
DTSTART:2024-05-30T03:30:00Z
DTEND:2024-05-30T06:00:00Z
LOCATION:HV1: Hidden Valley, Field 1
CATEGORIES:Softball,S.O.P,BB/SAA
UID:19EC945FA6A2B34A8B8A518090C59E9:
DTSTAMP:2026-04-21T05:28:07Z:
SUMMARY:Carpet To Go at S.O.P
DESCRIPTION;ENCODING=QUOTED-PRINTABLE:Carpet To Go at S.O.P=0D=0A Time: 8:30 PM=0D=0A Location: Hidden Valley, Field 1
CLASS:PUBLIC
PRIORITY:5
BEGIN:VALARM
TRIGGER:-PT330M
ACTION:DISPLAY
DESCRIPTION:Reminder
END:VALARM
END:VEVENT
END:VCALENDAR
