BEGIN:VCALENDAR
PRODID:-//Microsoft Corporation//Outlook 11.0 MIMEDIR//EN
VERSION:2.0
METHOD:PUBLISH
BEGIN:VEVENT
DTSTART:2024-04-11T03:30:00Z
DTEND:2024-04-11T06:00:00Z
LOCATION:MM7: Marymoor, Field 7
CATEGORIES:Softball,Almost Pro,BB/SAA
UID:E8DB6328E8B45C4C8C3CD98BEA03F65:
DTSTAMP:2026-04-21T05:29:14Z:
SUMMARY:The Leftovers at Almost Pro
DESCRIPTION;ENCODING=QUOTED-PRINTABLE:The Leftovers at Almost Pro=0D=0A Time: 8:30 PM=0D=0A Location: Marymoor, Field 7
CLASS:PUBLIC
PRIORITY:5
BEGIN:VALARM
TRIGGER:-PT330M
ACTION:DISPLAY
DESCRIPTION:Reminder
END:VALARM
END:VEVENT
BEGIN:VEVENT
DTSTART:2024-04-18T01:00:00Z
DTEND:2024-04-18T03:30:00Z
LOCATION:HV1: Hidden Valley, Field 1
CATEGORIES:Softball,Almost Pro,BB/SAA
UID:3A7F4030E682E34A95E7D12F13E87839:
DTSTAMP:2026-04-21T05:29:14Z:
SUMMARY:Almost Pro at MN Custom Homes
DESCRIPTION;ENCODING=QUOTED-PRINTABLE:Almost Pro at MN Custom Homes=0D=0A Time: 6:00 PM=0D=0A Location: Hidden Valley, Field 1
CLASS:PUBLIC
PRIORITY:5
BEGIN:VALARM
TRIGGER:-PT180M
ACTION:DISPLAY
DESCRIPTION:Reminder
END:VALARM
END:VEVENT
BEGIN:VEVENT
DTSTART:2024-04-25T01:00:00Z
DTEND:2024-04-25T03:30:00Z
LOCATION:HV1: Hidden Valley, Field 1
CATEGORIES:Softball,Almost Pro,BB/SAA
UID:D02BC471241FAF48ABCA348A8EEE2262:
DTSTAMP:2026-04-21T05:29:14Z:
SUMMARY:Almost Pro at S.O.P
DESCRIPTION;ENCODING=QUOTED-PRINTABLE:Almost Pro at S.O.P=0D=0A Time: 6:00 PM=0D=0A Location: Hidden Valley, Field 1
CLASS:PUBLIC
PRIORITY:5
BEGIN:VALARM
TRIGGER:-PT180M
ACTION:DISPLAY
DESCRIPTION:Reminder
END:VALARM
END:VEVENT
BEGIN:VEVENT
DTSTART:2024-05-02T03:30:00Z
DTEND:2024-05-02T06:00:00Z
LOCATION:HV1: Hidden Valley, Field 1
CATEGORIES:Softball,Almost Pro,BB/SAA
UID:9FFDF378A9868A44B17E64AA72BA8A26:
DTSTAMP:2026-04-21T05:29:14Z:
SUMMARY:Carpet To Go at Almost Pro
DESCRIPTION;ENCODING=QUOTED-PRINTABLE:Carpet To Go at Almost Pro=0D=0A Time: 8:30 PM=0D=0A Location: Hidden Valley, Field 1
CLASS:PUBLIC
PRIORITY:5
BEGIN:VALARM
TRIGGER:-PT330M
ACTION:DISPLAY
DESCRIPTION:Reminder
END:VALARM
END:VEVENT
BEGIN:VEVENT
DTSTART:2024-05-09T03:30:00Z
DTEND:2024-05-09T06:00:00Z
LOCATION:HV1: Hidden Valley, Field 1
CATEGORIES:Softball,Almost Pro,BB/SAA
UID:B08609BA48CFE418AAD259FD6C6112B:
DTSTAMP:2026-04-21T05:29:14Z:
SUMMARY:Almost Pro at Swingers
DESCRIPTION;ENCODING=QUOTED-PRINTABLE:Almost Pro at Swingers=0D=0A Time: 8:30 PM=0D=0A Location: Hidden Valley, Field 1
CLASS:PUBLIC
PRIORITY:5
BEGIN:VALARM
TRIGGER:-PT330M
ACTION:DISPLAY
DESCRIPTION:Reminder
END:VALARM
END:VEVENT
BEGIN:VEVENT
DTSTART:2024-05-16T01:00:00Z
DTEND:2024-05-16T03:30:00Z
LOCATION:MM7: Marymoor, Field 7
CATEGORIES:Softball,Almost Pro,BB/SAA
UID:16615CF692EC045A839C26CC9784E14:
DTSTAMP:2026-04-21T05:29:14Z:
SUMMARY:Almost Pro at MN Custom Homes
DESCRIPTION;ENCODING=QUOTED-PRINTABLE:Almost Pro at MN Custom Homes=0D=0A Time: 6:00 PM=0D=0A Location: Marymoor, Field 7
CLASS:PUBLIC
PRIORITY:5
BEGIN:VALARM
TRIGGER:-PT180M
ACTION:DISPLAY
DESCRIPTION:Reminder
END:VALARM
END:VEVENT
BEGIN:VEVENT
DTSTART:2024-05-23T03:30:00Z
DTEND:2024-05-23T06:00:00Z
LOCATION:HV1: Hidden Valley, Field 1
CATEGORIES:Softball,Almost Pro,BB/SAA
UID:C13EBFD8E59B19438CA6B2492581CE11:
DTSTAMP:2026-04-21T05:29:14Z:
SUMMARY:S.O.P at Almost Pro
DESCRIPTION;ENCODING=QUOTED-PRINTABLE:S.O.P at Almost Pro=0D=0A Time: 8:30 PM=0D=0A Location: Hidden Valley, Field 1
CLASS:PUBLIC
PRIORITY:5
BEGIN:VALARM
TRIGGER:-PT330M
ACTION:DISPLAY
DESCRIPTION:Reminder
END:VALARM
END:VEVENT
BEGIN:VEVENT
DTSTART:2024-05-30T01:00:00Z
DTEND:2024-05-30T03:30:00Z
LOCATION:MM7: Marymoor, Field 7
CATEGORIES:Softball,Almost Pro,BB/SAA
UID:25A15E2740B3104286CCA4B96FA0633D:
DTSTAMP:2026-04-21T05:29:14Z:
SUMMARY:The Leftovers at Almost Pro
DESCRIPTION;ENCODING=QUOTED-PRINTABLE:The Leftovers at Almost Pro=0D=0A Time: 6:00 PM=0D=0A Location: Marymoor, Field 7
CLASS:PUBLIC
PRIORITY:5
BEGIN:VALARM
TRIGGER:-PT180M
ACTION:DISPLAY
DESCRIPTION:Reminder
END:VALARM
END:VEVENT
BEGIN:VEVENT
DTSTART:2024-06-13T01:00:00Z
DTEND:2024-06-13T03:30:00Z
LOCATION:HV1: Hidden Valley, Field 1
CATEGORIES:Softball,Almost Pro,BB/SAA
UID:C046BBC6DCEF44C933E7E9C5FDAB79:
DTSTAMP:2026-04-21T05:29:14Z:
SUMMARY:The Leftovers at Almost Pro
DESCRIPTION;ENCODING=QUOTED-PRINTABLE:The Leftovers at Almost Pro=0D=0A Time: 6:00 PM=0D=0A Location: Hidden Valley, Field 1
CLASS:PUBLIC
PRIORITY:5
BEGIN:VALARM
TRIGGER:-PT180M
ACTION:DISPLAY
DESCRIPTION:Reminder
END:VALARM
END:VEVENT
END:VCALENDAR
