BEGIN:VCALENDAR
PRODID:-//Microsoft Corporation//Outlook 11.0 MIMEDIR//EN
VERSION:2.0
METHOD:PUBLISH
BEGIN:VEVENT
DTSTART:2024-04-12T03:30:00Z
DTEND:2024-04-12T06:00:00Z
LOCATION:HV1: Hidden Valley, Field 1
CATEGORIES:Softball,Big Balls, Tiny Bats,BB/SAA
UID:4B499A14DD496047AACED8C841725536:
DTSTAMP:2026-04-21T07:18:44Z:
SUMMARY:Big Balls, Tiny Bats at Achin' Hawgs
DESCRIPTION;ENCODING=QUOTED-PRINTABLE:Big Balls, Tiny Bats at Achin' Hawgs=0D=0A Time: 8:30 PM=0D=0A Location: Hidden Valley, Field 1
CLASS:PUBLIC
PRIORITY:5
BEGIN:VALARM
TRIGGER:-PT330M
ACTION:DISPLAY
DESCRIPTION:Reminder
END:VALARM
END:VEVENT
BEGIN:VEVENT
DTSTART:2024-04-19T03:30:00Z
DTEND:2024-04-19T06:00:00Z
LOCATION:HV1: Hidden Valley, Field 1
CATEGORIES:Softball,Big Balls, Tiny Bats,BB/SAA
UID:B0FCC5E7AAA2204AB1F966DE725EB783:
DTSTAMP:2026-04-21T07:18:44Z:
SUMMARY:Big Balls, Tiny Bats at Carpet To Go
DESCRIPTION;ENCODING=QUOTED-PRINTABLE:Big Balls, Tiny Bats at Carpet To Go=0D=0A Time: 8:30 PM=0D=0A Location: Hidden Valley, Field 1
CLASS:PUBLIC
PRIORITY:5
BEGIN:VALARM
TRIGGER:-PT330M
ACTION:DISPLAY
DESCRIPTION:Reminder
END:VALARM
END:VEVENT
BEGIN:VEVENT
DTSTART:2024-05-03T01:00:00Z
DTEND:2024-05-03T03:30:00Z
LOCATION:MM7: Marymoor, Field 7
CATEGORIES:Softball,Big Balls, Tiny Bats,BB/SAA
UID:61C88832CC33045B0EF1821EF27A6C:
DTSTAMP:2026-04-21T07:18:44Z:
SUMMARY:Achin' Hawgs at Big Balls, Tiny Bats
DESCRIPTION;ENCODING=QUOTED-PRINTABLE:Achin' Hawgs at Big Balls, Tiny Bats=0D=0A Time: 6:00 PM=0D=0A Location: Marymoor, Field 7
CLASS:PUBLIC
PRIORITY:5
BEGIN:VALARM
TRIGGER:-PT180M
ACTION:DISPLAY
DESCRIPTION:Reminder
END:VALARM
END:VEVENT
BEGIN:VEVENT
DTSTART:2024-05-10T01:00:00Z
DTEND:2024-05-10T03:30:00Z
LOCATION:MM7: Marymoor, Field 7
CATEGORIES:Softball,Big Balls, Tiny Bats,BB/SAA
UID:3973F8234B811F4493885097AA51BFE7:
DTSTAMP:2026-04-21T07:18:44Z:
SUMMARY:S.O.P at Big Balls, Tiny Bats
DESCRIPTION;ENCODING=QUOTED-PRINTABLE:S.O.P at Big Balls, Tiny Bats=0D=0A Time: 6:00 PM=0D=0A Location: Marymoor, Field 7
CLASS:PUBLIC
PRIORITY:5
BEGIN:VALARM
TRIGGER:-PT180M
ACTION:DISPLAY
DESCRIPTION:Reminder
END:VALARM
END:VEVENT
BEGIN:VEVENT
DTSTART:2024-05-17T03:30:00Z
DTEND:2024-05-17T06:00:00Z
LOCATION:MM7: Marymoor, Field 7
CATEGORIES:Softball,Big Balls, Tiny Bats,BB/SAA
UID:A8B0DE5A8C463546B17A863096AB146:
DTSTAMP:2026-04-21T07:18:44Z:
SUMMARY:Swingers at Big Balls, Tiny Bats
DESCRIPTION;ENCODING=QUOTED-PRINTABLE:Swingers at Big Balls, Tiny Bats=0D=0A Time: 8:30 PM=0D=0A Location: Marymoor, Field 7
CLASS:PUBLIC
PRIORITY:5
BEGIN:VALARM
TRIGGER:-PT330M
ACTION:DISPLAY
DESCRIPTION:Reminder
END:VALARM
END:VEVENT
BEGIN:VEVENT
DTSTART:2024-05-31T01:00:00Z
DTEND:2024-05-31T03:30:00Z
LOCATION:MM7: Marymoor, Field 7
CATEGORIES:Softball,Big Balls, Tiny Bats,BB/SAA
UID:7632BFCB6B2AF4EB71AB0756596C9E4:
DTSTAMP:2026-04-21T07:18:44Z:
SUMMARY:Big Balls, Tiny Bats at Achin' Hawgs
DESCRIPTION;ENCODING=QUOTED-PRINTABLE:Big Balls, Tiny Bats at Achin' Hawgs=0D=0A Time: 6:00 PM=0D=0A Location: Marymoor, Field 7
CLASS:PUBLIC
PRIORITY:5
BEGIN:VALARM
TRIGGER:-PT180M
ACTION:DISPLAY
DESCRIPTION:Reminder
END:VALARM
END:VEVENT
BEGIN:VEVENT
DTSTART:2024-06-07T01:00:00Z
DTEND:2024-06-07T03:30:00Z
LOCATION:HV1: Hidden Valley, Field 1
CATEGORIES:Softball,Big Balls, Tiny Bats,BB/SAA
UID:81F8544DC11474994E5F6CB74921AB0:
DTSTAMP:2026-04-21T07:18:44Z:
SUMMARY:MN Custom Homes at Big Balls, Tiny Bats
DESCRIPTION;ENCODING=QUOTED-PRINTABLE:MN Custom Homes at Big Balls, Tiny Bats=0D=0A Time: 6:00 PM=0D=0A Location: Hidden Valley, Field 1
CLASS:PUBLIC
PRIORITY:5
BEGIN:VALARM
TRIGGER:-PT180M
ACTION:DISPLAY
DESCRIPTION:Reminder
END:VALARM
END:VEVENT
BEGIN:VEVENT
DTSTART:2024-06-14T03:30:00Z
DTEND:2024-06-14T06:00:00Z
LOCATION:HV1: Hidden Valley, Field 1
CATEGORIES:Softball,Big Balls, Tiny Bats,BB/SAA
UID:A39628935FBF34EA4F1B1C41D6D7A4:
DTSTAMP:2026-04-21T07:18:44Z:
SUMMARY:Big Balls, Tiny Bats at Carpet To Go
DESCRIPTION;ENCODING=QUOTED-PRINTABLE:Big Balls, Tiny Bats at Carpet To Go=0D=0A Time: 8:30 PM=0D=0A Location: Hidden Valley, Field 1
CLASS:PUBLIC
PRIORITY:5
BEGIN:VALARM
TRIGGER:-PT330M
ACTION:DISPLAY
DESCRIPTION:Reminder
END:VALARM
END:VEVENT
END:VCALENDAR
