BEGIN:VCALENDAR
PRODID:-//Microsoft Corporation//Outlook 11.0 MIMEDIR//EN
VERSION:2.0
METHOD:PUBLISH
BEGIN:VEVENT
DTSTART:2024-04-11T03:30:00Z
DTEND:2024-04-11T06:00:00Z
LOCATION:HV1: Hidden Valley, Field 1
CATEGORIES:Softball,Carpet To Go,BB/SAA
UID:2CC0423E69BC4D4FAAAD83321F854036:
DTSTAMP:2026-04-21T05:33:57Z:
SUMMARY:Swingers at Carpet To Go
DESCRIPTION;ENCODING=QUOTED-PRINTABLE:Swingers at Carpet To Go=0D=0A Time: 8:30 PM=0D=0A Location: Hidden Valley, Field 1
CLASS:PUBLIC
PRIORITY:5
BEGIN:VALARM
TRIGGER:-PT330M
ACTION:DISPLAY
DESCRIPTION:Reminder
END:VALARM
END:VEVENT
BEGIN:VEVENT
DTSTART:2024-04-19T03:30:00Z
DTEND:2024-04-19T06:00:00Z
LOCATION:HV1: Hidden Valley, Field 1
CATEGORIES:Softball,Carpet To Go,BB/SAA
UID:E0DB315643FA604FB4AEC3562FE159:
DTSTAMP:2026-04-21T05:33:57Z:
SUMMARY:Big Balls, Tiny Bats at Carpet To Go
DESCRIPTION;ENCODING=QUOTED-PRINTABLE:Big Balls, Tiny Bats at Carpet To Go=0D=0A Time: 8:30 PM=0D=0A Location: Hidden Valley, Field 1
CLASS:PUBLIC
PRIORITY:5
BEGIN:VALARM
TRIGGER:-PT330M
ACTION:DISPLAY
DESCRIPTION:Reminder
END:VALARM
END:VEVENT
BEGIN:VEVENT
DTSTART:2024-05-02T03:30:00Z
DTEND:2024-05-02T06:00:00Z
LOCATION:HV1: Hidden Valley, Field 1
CATEGORIES:Softball,Carpet To Go,BB/SAA
UID:101DAA10AFD5648BD7821222B86860:
DTSTAMP:2026-04-21T05:33:57Z:
SUMMARY:Carpet To Go at Almost Pro
DESCRIPTION;ENCODING=QUOTED-PRINTABLE:Carpet To Go at Almost Pro=0D=0A Time: 8:30 PM=0D=0A Location: Hidden Valley, Field 1
CLASS:PUBLIC
PRIORITY:5
BEGIN:VALARM
TRIGGER:-PT330M
ACTION:DISPLAY
DESCRIPTION:Reminder
END:VALARM
END:VEVENT
BEGIN:VEVENT
DTSTART:2024-05-10T03:30:00Z
DTEND:2024-05-10T06:00:00Z
LOCATION:MM7: Marymoor, Field 7
CATEGORIES:Softball,Carpet To Go,BB/SAA
UID:BCE9DC59F4E3B46BDB4A9B16FE2DEE9:
DTSTAMP:2026-04-21T05:33:57Z:
SUMMARY:Achin' Hawgs at Carpet To Go
DESCRIPTION;ENCODING=QUOTED-PRINTABLE:Achin' Hawgs at Carpet To Go=0D=0A Time: 8:30 PM=0D=0A Location: Marymoor, Field 7
CLASS:PUBLIC
PRIORITY:5
BEGIN:VALARM
TRIGGER:-PT330M
ACTION:DISPLAY
DESCRIPTION:Reminder
END:VALARM
END:VEVENT
BEGIN:VEVENT
DTSTART:2024-05-16T03:30:00Z
DTEND:2024-05-16T06:00:00Z
LOCATION:HV1: Hidden Valley, Field 1
CATEGORIES:Softball,Carpet To Go,BB/SAA
UID:BAD6D54C51B48B44A6B195C4BED8B55F:
DTSTAMP:2026-04-21T05:33:57Z:
SUMMARY:Carpet To Go at The Leftovers
DESCRIPTION;ENCODING=QUOTED-PRINTABLE:Carpet To Go at The Leftovers=0D=0A Time: 8:30 PM=0D=0A Location: Hidden Valley, Field 1
CLASS:PUBLIC
PRIORITY:5
BEGIN:VALARM
TRIGGER:-PT330M
ACTION:DISPLAY
DESCRIPTION:Reminder
END:VALARM
END:VEVENT
BEGIN:VEVENT
DTSTART:2024-05-30T03:30:00Z
DTEND:2024-05-30T06:00:00Z
LOCATION:HV1: Hidden Valley, Field 1
CATEGORIES:Softball,Carpet To Go,BB/SAA
UID:56D3BBC79A4BB38D9A53D261953:
DTSTAMP:2026-04-21T05:33:57Z:
SUMMARY:Carpet To Go at S.O.P
DESCRIPTION;ENCODING=QUOTED-PRINTABLE:Carpet To Go at S.O.P=0D=0A Time: 8:30 PM=0D=0A Location: Hidden Valley, Field 1
CLASS:PUBLIC
PRIORITY:5
BEGIN:VALARM
TRIGGER:-PT330M
ACTION:DISPLAY
DESCRIPTION:Reminder
END:VALARM
END:VEVENT
BEGIN:VEVENT
DTSTART:2024-06-07T03:30:00Z
DTEND:2024-06-07T06:00:00Z
LOCATION:MM7: Marymoor, Field 7
CATEGORIES:Softball,Carpet To Go,BB/SAA
UID:D5EDF695C52448868B93B3579024C8:
DTSTAMP:2026-04-21T05:33:57Z:
SUMMARY:Carpet To Go at Achin' Hawgs
DESCRIPTION;ENCODING=QUOTED-PRINTABLE:Carpet To Go at Achin' Hawgs=0D=0A Time: 8:30 PM=0D=0A Location: Marymoor, Field 7
CLASS:PUBLIC
PRIORITY:5
BEGIN:VALARM
TRIGGER:-PT330M
ACTION:DISPLAY
DESCRIPTION:Reminder
END:VALARM
END:VEVENT
BEGIN:VEVENT
DTSTART:2024-06-14T03:30:00Z
DTEND:2024-06-14T06:00:00Z
LOCATION:HV1: Hidden Valley, Field 1
CATEGORIES:Softball,Carpet To Go,BB/SAA
UID:E1DDE785C32D7498E8AB6E8EB291CC5:
DTSTAMP:2026-04-21T05:33:57Z:
SUMMARY:Big Balls, Tiny Bats at Carpet To Go
DESCRIPTION;ENCODING=QUOTED-PRINTABLE:Big Balls, Tiny Bats at Carpet To Go=0D=0A Time: 8:30 PM=0D=0A Location: Hidden Valley, Field 1
CLASS:PUBLIC
PRIORITY:5
BEGIN:VALARM
TRIGGER:-PT330M
ACTION:DISPLAY
DESCRIPTION:Reminder
END:VALARM
END:VEVENT
END:VCALENDAR
