BEGIN:VCALENDAR
PRODID:-//Microsoft Corporation//Outlook 11.0 MIMEDIR//EN
VERSION:2.0
METHOD:PUBLISH
BEGIN:VEVENT
DTSTART:2024-04-10T01:00:00Z
DTEND:2024-04-10T03:30:00Z
LOCATION:HV1: Hidden Valley, Field 1
CATEGORIES:Softball,Dreadsox,BB/SAA
UID:E65A80C2E122744F8DB04DD1F83735C8:
DTSTAMP:2026-04-25T12:22:26Z:
SUMMARY:Dreadsox at Blueline
DESCRIPTION;ENCODING=QUOTED-PRINTABLE:Dreadsox at Blueline=0D=0A Time: 6:00 PM=0D=0A Location: Hidden Valley, Field 1
CLASS:PUBLIC
PRIORITY:5
BEGIN:VALARM
TRIGGER:-PT180M
ACTION:DISPLAY
DESCRIPTION:Reminder
END:VALARM
END:VEVENT
BEGIN:VEVENT
DTSTART:2024-04-17T03:30:00Z
DTEND:2024-04-17T06:00:00Z
LOCATION:HV1: Hidden Valley, Field 1
CATEGORIES:Softball,Dreadsox,BB/SAA
UID:743F7FE22617A4ABF8EC830AFF55976:
DTSTAMP:2026-04-25T12:22:26Z:
SUMMARY:Bat Intentions at Dreadsox
DESCRIPTION;ENCODING=QUOTED-PRINTABLE:Bat Intentions at Dreadsox=0D=0A Time: 8:30 PM=0D=0A Location: Hidden Valley, Field 1
CLASS:PUBLIC
PRIORITY:5
BEGIN:VALARM
TRIGGER:-PT330M
ACTION:DISPLAY
DESCRIPTION:Reminder
END:VALARM
END:VEVENT
BEGIN:VEVENT
DTSTART:2024-04-24T03:30:00Z
DTEND:2024-04-24T06:00:00Z
LOCATION:HV1: Hidden Valley, Field 1
CATEGORIES:Softball,Dreadsox,BB/SAA
UID:2B3D9F7D3F5BEE428672A5563D9D25E7:
DTSTAMP:2026-04-25T12:22:26Z:
SUMMARY:Team Ryan at Dreadsox
DESCRIPTION;ENCODING=QUOTED-PRINTABLE:Team Ryan at Dreadsox=0D=0A Time: 8:30 PM=0D=0A Location: Hidden Valley, Field 1
CLASS:PUBLIC
PRIORITY:5
BEGIN:VALARM
TRIGGER:-PT330M
ACTION:DISPLAY
DESCRIPTION:Reminder
END:VALARM
END:VEVENT
BEGIN:VEVENT
DTSTART:2024-05-01T01:00:00Z
DTEND:2024-05-01T03:30:00Z
LOCATION:HV1: Hidden Valley, Field 1
CATEGORIES:Softball,Dreadsox,BB/SAA
UID:A13A8CD6DE5CD04890939B562F4FA9E2:
DTSTAMP:2026-04-25T12:22:26Z:
SUMMARY:Dreadsox at Blueline
DESCRIPTION;ENCODING=QUOTED-PRINTABLE:Dreadsox at Blueline=0D=0A Time: 6:00 PM=0D=0A Location: Hidden Valley, Field 1
CLASS:PUBLIC
PRIORITY:5
BEGIN:VALARM
TRIGGER:-PT180M
ACTION:DISPLAY
DESCRIPTION:Reminder
END:VALARM
END:VEVENT
BEGIN:VEVENT
DTSTART:2024-05-08T01:00:00Z
DTEND:2024-05-08T03:30:00Z
LOCATION:HV1: Hidden Valley, Field 1
CATEGORIES:Softball,Dreadsox,BB/SAA
UID:88344D19C36FF347907E2818DBB948F6:
DTSTAMP:2026-04-25T12:22:26Z:
SUMMARY:Dreadsox at Bat Intentions
DESCRIPTION;ENCODING=QUOTED-PRINTABLE:Dreadsox at Bat Intentions=0D=0A Time: 6:00 PM=0D=0A Location: Hidden Valley, Field 1
CLASS:PUBLIC
PRIORITY:5
BEGIN:VALARM
TRIGGER:-PT180M
ACTION:DISPLAY
DESCRIPTION:Reminder
END:VALARM
END:VEVENT
BEGIN:VEVENT
DTSTART:2024-05-15T01:00:00Z
DTEND:2024-05-15T03:30:00Z
LOCATION:HV1: Hidden Valley, Field 1
CATEGORIES:Softball,Dreadsox,BB/SAA
UID:AD399FA3C678754FB3F33581FC0CF95:
DTSTAMP:2026-04-25T12:22:26Z:
SUMMARY:Team Ryan at Dreadsox
DESCRIPTION;ENCODING=QUOTED-PRINTABLE:Team Ryan at Dreadsox=0D=0A Time: 6:00 PM=0D=0A Location: Hidden Valley, Field 1
CLASS:PUBLIC
PRIORITY:5
BEGIN:VALARM
TRIGGER:-PT180M
ACTION:DISPLAY
DESCRIPTION:Reminder
END:VALARM
END:VEVENT
BEGIN:VEVENT
DTSTART:2024-05-22T03:30:00Z
DTEND:2024-05-22T06:00:00Z
LOCATION:HV1: Hidden Valley, Field 1
CATEGORIES:Softball,Dreadsox,BB/SAA
UID:6250988BA75F5345AA707E5ECE152A7C:
DTSTAMP:2026-04-25T12:22:26Z:
SUMMARY:Dreadsox at Pirates
DESCRIPTION;ENCODING=QUOTED-PRINTABLE:Dreadsox at Pirates=0D=0A Time: 8:30 PM=0D=0A Location: Hidden Valley, Field 1
CLASS:PUBLIC
PRIORITY:5
BEGIN:VALARM
TRIGGER:-PT330M
ACTION:DISPLAY
DESCRIPTION:Reminder
END:VALARM
END:VEVENT
BEGIN:VEVENT
DTSTART:2024-05-29T03:30:00Z
DTEND:2024-05-29T06:00:00Z
LOCATION:HV1: Hidden Valley, Field 1
CATEGORIES:Softball,Dreadsox,BB/SAA
UID:82D33E6EB8F79A4C909B55FBB099EEA9:
DTSTAMP:2026-04-25T12:22:26Z:
SUMMARY:Bat Intentions at Dreadsox
DESCRIPTION;ENCODING=QUOTED-PRINTABLE:Bat Intentions at Dreadsox=0D=0A Time: 8:30 PM=0D=0A Location: Hidden Valley, Field 1
CLASS:PUBLIC
PRIORITY:5
BEGIN:VALARM
TRIGGER:-PT330M
ACTION:DISPLAY
DESCRIPTION:Reminder
END:VALARM
END:VEVENT
END:VCALENDAR
