BEGIN:VCALENDAR
PRODID:-//Microsoft Corporation//Outlook 11.0 MIMEDIR//EN
VERSION:2.0
METHOD:PUBLISH
BEGIN:VEVENT
DTSTART:2024-04-10T03:30:00Z
DTEND:2024-04-10T06:00:00Z
LOCATION:HV1: Hidden Valley, Field 1
CATEGORIES:Softball,Bat Intentions,BB/SAA
UID:F615911E68796C4A994192BF9F6C2B76:
DTSTAMP:2026-04-25T12:23:23Z:
SUMMARY:Team Ryan at Bat Intentions
DESCRIPTION;ENCODING=QUOTED-PRINTABLE:Team Ryan at Bat Intentions=0D=0A Time: 8:30 PM=0D=0A Location: Hidden Valley, Field 1
CLASS:PUBLIC
PRIORITY:5
BEGIN:VALARM
TRIGGER:-PT330M
ACTION:DISPLAY
DESCRIPTION:Reminder
END:VALARM
END:VEVENT
BEGIN:VEVENT
DTSTART:2024-04-17T03:30:00Z
DTEND:2024-04-17T06:00:00Z
LOCATION:HV1: Hidden Valley, Field 1
CATEGORIES:Softball,Bat Intentions,BB/SAA
UID:52BF1C2F39E5A84D98EC9422EE2750:
DTSTAMP:2026-04-25T12:23:23Z:
SUMMARY:Bat Intentions at Dreadsox
DESCRIPTION;ENCODING=QUOTED-PRINTABLE:Bat Intentions at Dreadsox=0D=0A Time: 8:30 PM=0D=0A Location: Hidden Valley, Field 1
CLASS:PUBLIC
PRIORITY:5
BEGIN:VALARM
TRIGGER:-PT330M
ACTION:DISPLAY
DESCRIPTION:Reminder
END:VALARM
END:VEVENT
BEGIN:VEVENT
DTSTART:2024-04-24T01:00:00Z
DTEND:2024-04-24T03:30:00Z
LOCATION:HV1: Hidden Valley, Field 1
CATEGORIES:Softball,Bat Intentions,BB/SAA
UID:5DDD183F4CB0F24D90FD50D12180F294:
DTSTAMP:2026-04-25T12:23:23Z:
SUMMARY:Bat Intentions at Blueline
DESCRIPTION;ENCODING=QUOTED-PRINTABLE:Bat Intentions at Blueline=0D=0A Time: 6:00 PM=0D=0A Location: Hidden Valley, Field 1
CLASS:PUBLIC
PRIORITY:5
BEGIN:VALARM
TRIGGER:-PT180M
ACTION:DISPLAY
DESCRIPTION:Reminder
END:VALARM
END:VEVENT
BEGIN:VEVENT
DTSTART:2024-05-01T03:30:00Z
DTEND:2024-05-01T06:00:00Z
LOCATION:HV1: Hidden Valley, Field 1
CATEGORIES:Softball,Bat Intentions,BB/SAA
UID:47B45D9CB059B6409443B5B2015A644:
DTSTAMP:2026-04-25T12:23:23Z:
SUMMARY:Bat Intentions at Team Ryan
DESCRIPTION;ENCODING=QUOTED-PRINTABLE:Bat Intentions at Team Ryan=0D=0A Time: 8:30 PM=0D=0A Location: Hidden Valley, Field 1
CLASS:PUBLIC
PRIORITY:5
BEGIN:VALARM
TRIGGER:-PT330M
ACTION:DISPLAY
DESCRIPTION:Reminder
END:VALARM
END:VEVENT
BEGIN:VEVENT
DTSTART:2024-05-08T01:00:00Z
DTEND:2024-05-08T03:30:00Z
LOCATION:HV1: Hidden Valley, Field 1
CATEGORIES:Softball,Bat Intentions,BB/SAA
UID:CAC96BC44CCAC4D85BB3F9F38A61644:
DTSTAMP:2026-04-25T12:23:23Z:
SUMMARY:Dreadsox at Bat Intentions
DESCRIPTION;ENCODING=QUOTED-PRINTABLE:Dreadsox at Bat Intentions=0D=0A Time: 6:00 PM=0D=0A Location: Hidden Valley, Field 1
CLASS:PUBLIC
PRIORITY:5
BEGIN:VALARM
TRIGGER:-PT180M
ACTION:DISPLAY
DESCRIPTION:Reminder
END:VALARM
END:VEVENT
BEGIN:VEVENT
DTSTART:2024-05-14T01:00:00Z
DTEND:2024-05-14T03:30:00Z
LOCATION:HV1: Hidden Valley, Field 1
CATEGORIES:Softball,Bat Intentions,BB/SAA
UID:F58C6D456E5C247828B9E14D2428973:
DTSTAMP:2026-04-25T12:23:23Z:
SUMMARY:Chix & Stix at Bat Intentions
DESCRIPTION;ENCODING=QUOTED-PRINTABLE:Chix & Stix at Bat Intentions=0D=0A Time: 6:00 PM=0D=0A Location: Hidden Valley, Field 1
CLASS:PUBLIC
PRIORITY:5
BEGIN:VALARM
TRIGGER:-PT180M
ACTION:DISPLAY
DESCRIPTION:Reminder
END:VALARM
END:VEVENT
BEGIN:VEVENT
DTSTART:2024-05-22T01:00:00Z
DTEND:2024-05-22T03:30:00Z
LOCATION:HV1: Hidden Valley, Field 1
CATEGORIES:Softball,Bat Intentions,BB/SAA
UID:EE76EA433BCB8428977FE0CB493C1F:
DTSTAMP:2026-04-25T12:23:23Z:
SUMMARY:Team Ryan at Bat Intentions
DESCRIPTION;ENCODING=QUOTED-PRINTABLE:Team Ryan at Bat Intentions=0D=0A Time: 6:00 PM=0D=0A Location: Hidden Valley, Field 1
CLASS:PUBLIC
PRIORITY:5
BEGIN:VALARM
TRIGGER:-PT180M
ACTION:DISPLAY
DESCRIPTION:Reminder
END:VALARM
END:VEVENT
BEGIN:VEVENT
DTSTART:2024-05-29T03:30:00Z
DTEND:2024-05-29T06:00:00Z
LOCATION:HV1: Hidden Valley, Field 1
CATEGORIES:Softball,Bat Intentions,BB/SAA
UID:629F13C18C29B1468455FC3ACA0EF3A:
DTSTAMP:2026-04-25T12:23:23Z:
SUMMARY:Bat Intentions at Dreadsox
DESCRIPTION;ENCODING=QUOTED-PRINTABLE:Bat Intentions at Dreadsox=0D=0A Time: 8:30 PM=0D=0A Location: Hidden Valley, Field 1
CLASS:PUBLIC
PRIORITY:5
BEGIN:VALARM
TRIGGER:-PT330M
ACTION:DISPLAY
DESCRIPTION:Reminder
END:VALARM
END:VEVENT
END:VCALENDAR
