BEGIN:VCALENDAR
PRODID:-//Microsoft Corporation//Outlook 11.0 MIMEDIR//EN
VERSION:2.0
METHOD:PUBLISH
BEGIN:VEVENT
DTSTART:2022-04-14T01:00:00Z
DTEND:2022-04-14T03:30:00Z
LOCATION:HV1: Hidden Valley, Field 1
CATEGORIES:Softball,Balls Deep,BB/SAA
UID:C0B7B17C82B394DA0A7D214062A073:
DTSTAMP:2026-04-22T10:44:12Z:
SUMMARY:BC Bombers at Balls Deep
DESCRIPTION;ENCODING=QUOTED-PRINTABLE:BC Bombers at Balls Deep=0D=0A Time: 6:00 PM=0D=0A Location: Hidden Valley, Field 1
CLASS:PUBLIC
PRIORITY:5
BEGIN:VALARM
TRIGGER:-PT180M
ACTION:DISPLAY
DESCRIPTION:Reminder
END:VALARM
END:VEVENT
BEGIN:VEVENT
DTSTART:2022-04-21T01:00:00Z
DTEND:2022-04-21T03:30:00Z
LOCATION:HV1: Hidden Valley, Field 1
CATEGORIES:Softball,Balls Deep,BB/SAA
UID:241CA77EBC0AB4F83E228B066ACBCE3:
DTSTAMP:2026-04-22T10:44:12Z:
SUMMARY:Goose Pub 1 at Balls Deep
DESCRIPTION;ENCODING=QUOTED-PRINTABLE:Goose Pub 1 at Balls Deep=0D=0A Time: 6:00 PM=0D=0A Location: Hidden Valley, Field 1
CLASS:PUBLIC
PRIORITY:5
BEGIN:VALARM
TRIGGER:-PT180M
ACTION:DISPLAY
DESCRIPTION:Reminder
END:VALARM
END:VEVENT
BEGIN:VEVENT
DTSTART:2022-04-28T01:00:00Z
DTEND:2022-04-28T03:30:00Z
LOCATION:HV1: Hidden Valley, Field 1
CATEGORIES:Softball,Balls Deep,BB/SAA
UID:6B9E13EBA427394B8FE0F29BCBCF8E1D:
DTSTAMP:2026-04-22T10:44:12Z:
SUMMARY:Balls Deep at Almost Pro
DESCRIPTION;ENCODING=QUOTED-PRINTABLE:Balls Deep at Almost Pro=0D=0A Time: 6:00 PM=0D=0A Location: Hidden Valley, Field 1
CLASS:PUBLIC
PRIORITY:5
BEGIN:VALARM
TRIGGER:-PT180M
ACTION:DISPLAY
DESCRIPTION:Reminder
END:VALARM
END:VEVENT
BEGIN:VEVENT
DTSTART:2022-05-05T01:00:00Z
DTEND:2022-05-05T03:30:00Z
LOCATION:HV1: Hidden Valley, Field 1
CATEGORIES:Softball,Balls Deep,BB/SAA
UID:4F4D7540D36E46A0E03C1DDCB2786:
DTSTAMP:2026-04-22T10:44:12Z:
SUMMARY:Balls Deep at Manchild United
DESCRIPTION;ENCODING=QUOTED-PRINTABLE:Balls Deep at Manchild United=0D=0A Time: 6:00 PM=0D=0A Location: Hidden Valley, Field 1
CLASS:PUBLIC
PRIORITY:5
BEGIN:VALARM
TRIGGER:-PT180M
ACTION:DISPLAY
DESCRIPTION:Reminder
END:VALARM
END:VEVENT
BEGIN:VEVENT
DTSTART:2022-05-12T01:00:00Z
DTEND:2022-05-12T03:30:00Z
LOCATION:HV1: Hidden Valley, Field 1
CATEGORIES:Softball,Balls Deep,BB/SAA
UID:551693129254BA42BFF0767913531F17:
DTSTAMP:2026-04-22T10:44:12Z:
SUMMARY:Aftershock at Balls Deep
DESCRIPTION;ENCODING=QUOTED-PRINTABLE:Aftershock at Balls Deep=0D=0A Time: 6:00 PM=0D=0A Location: Hidden Valley, Field 1
CLASS:PUBLIC
PRIORITY:5
BEGIN:VALARM
TRIGGER:-PT180M
ACTION:DISPLAY
DESCRIPTION:Reminder
END:VALARM
END:VEVENT
BEGIN:VEVENT
DTSTART:2022-05-19T03:30:00Z
DTEND:2022-05-19T06:00:00Z
LOCATION:HV1: Hidden Valley, Field 1
CATEGORIES:Softball,Balls Deep,BB/SAA
UID:AEC070B0315F534CA35EAFABE4DF3611:
DTSTAMP:2026-04-22T10:44:12Z:
SUMMARY:BC Bombers at Balls Deep
DESCRIPTION;ENCODING=QUOTED-PRINTABLE:BC Bombers at Balls Deep=0D=0A Time: 8:30 PM=0D=0A Location: Hidden Valley, Field 1
CLASS:PUBLIC
PRIORITY:5
BEGIN:VALARM
TRIGGER:-PT330M
ACTION:DISPLAY
DESCRIPTION:Reminder
END:VALARM
END:VEVENT
BEGIN:VEVENT
DTSTART:2022-05-26T01:00:00Z
DTEND:2022-05-26T03:30:00Z
LOCATION:MM7: Marymoor, Field 7
CATEGORIES:Softball,Balls Deep,BB/SAA
UID:D81BFE799AD97646B54FAEEFF1F1C249:
DTSTAMP:2026-04-22T10:44:12Z:
SUMMARY:Balls Deep at Goose Pub 1
DESCRIPTION;ENCODING=QUOTED-PRINTABLE:Balls Deep at Goose Pub 1=0D=0A Time: 6:00 PM=0D=0A Location: Marymoor, Field 7
CLASS:PUBLIC
PRIORITY:5
BEGIN:VALARM
TRIGGER:-PT180M
ACTION:DISPLAY
DESCRIPTION:Reminder
END:VALARM
END:VEVENT
BEGIN:VEVENT
DTSTART:2022-06-02T01:00:00Z
DTEND:2022-06-02T03:30:00Z
LOCATION:MM7: Marymoor, Field 7
CATEGORIES:Softball,Balls Deep,BB/SAA
UID:B8E172D353E9F48B220F9B38498EBB5:
DTSTAMP:2026-04-22T10:44:12Z:
SUMMARY:Balls Deep at Almost Pro
DESCRIPTION;ENCODING=QUOTED-PRINTABLE:Balls Deep at Almost Pro=0D=0A Time: 6:00 PM=0D=0A Location: Marymoor, Field 7
CLASS:PUBLIC
PRIORITY:5
BEGIN:VALARM
TRIGGER:-PT180M
ACTION:DISPLAY
DESCRIPTION:Reminder
END:VALARM
END:VEVENT
BEGIN:VEVENT
DTSTART:2022-06-16T02:15:00Z
DTEND:2022-06-16T04:45:00Z
LOCATION:HV1: Hidden Valley, Field 1
CATEGORIES:Softball,Balls Deep,BB/SAA
UID:25AD5C1AFB9DC04592ADBA9C7A771EBD:
DTSTAMP:2026-04-22T10:44:12Z:
SUMMARY:Aftershock at Balls Deep
DESCRIPTION;ENCODING=QUOTED-PRINTABLE:Aftershock at Balls Deep=0D=0A Time: 7:15 PM=0D=0A Location: Hidden Valley, Field 1
CLASS:PUBLIC
PRIORITY:5
BEGIN:VALARM
TRIGGER:-PT255M
ACTION:DISPLAY
DESCRIPTION:Reminder
END:VALARM
END:VEVENT
BEGIN:VEVENT
DTSTART:2022-06-16T03:30:00Z
DTEND:2022-06-16T06:00:00Z
LOCATION:HV1: Hidden Valley, Field 1
CATEGORIES:Softball,Balls Deep,BB/SAA
UID:D257D5587D0894E92B946B75A663AD:
DTSTAMP:2026-04-22T10:44:12Z:
SUMMARY:Manchild United at Balls Deep
DESCRIPTION;ENCODING=QUOTED-PRINTABLE:Manchild United at Balls Deep=0D=0A Time: 8:30 PM=0D=0A Location: Hidden Valley, Field 1
CLASS:PUBLIC
PRIORITY:5
BEGIN:VALARM
TRIGGER:-PT330M
ACTION:DISPLAY
DESCRIPTION:Reminder
END:VALARM
END:VEVENT
END:VCALENDAR
