BEGIN:VCALENDAR
PRODID:-//Microsoft Corporation//Outlook 11.0 MIMEDIR//EN
VERSION:2.0
METHOD:PUBLISH
BEGIN:VEVENT
DTSTART:2019-07-11T01:00:00Z
DTEND:2019-07-11T03:30:00Z
LOCATION:HP1: Highland Park, Field 1
CATEGORIES:Softball,Mad Dogs,BB/SAA
UID:F5CFC417EF5BA7459018FDA16C2728D3:
DTSTAMP:2026-04-22T08:51:45Z:
SUMMARY:Mad Dogs at Cougars
DESCRIPTION;ENCODING=QUOTED-PRINTABLE:Mad Dogs at Cougars=0D=0A Time: 6:00 PM=0D=0A Location: Highland Park, Field 1
CLASS:PUBLIC
PRIORITY:5
BEGIN:VALARM
TRIGGER:-PT180M
ACTION:DISPLAY
DESCRIPTION:Reminder
END:VALARM
END:VEVENT
BEGIN:VEVENT
DTSTART:2019-07-18T03:30:00Z
DTEND:2019-07-18T06:00:00Z
LOCATION:HP1: Highland Park, Field 1
CATEGORIES:Softball,Mad Dogs,BB/SAA
UID:5047C7BAD851784EBC871F2923F5D181:
DTSTAMP:2026-04-22T08:51:45Z:
SUMMARY:Manchild United at Mad Dogs
DESCRIPTION;ENCODING=QUOTED-PRINTABLE:Manchild United at Mad Dogs=0D=0A Time: 8:30 PM=0D=0A Location: Highland Park, Field 1
CLASS:PUBLIC
PRIORITY:5
BEGIN:VALARM
TRIGGER:-PT330M
ACTION:DISPLAY
DESCRIPTION:Reminder
END:VALARM
END:VEVENT
BEGIN:VEVENT
DTSTART:2019-07-25T01:00:00Z
DTEND:2019-07-25T03:30:00Z
LOCATION:HP1: Highland Park, Field 1
CATEGORIES:Softball,Mad Dogs,BB/SAA
UID:3EBC939B1A6362469D94FC7746F4425:
DTSTAMP:2026-04-22T08:51:45Z:
SUMMARY:Junk Yard Dawgs at Mad Dogs
DESCRIPTION;ENCODING=QUOTED-PRINTABLE:Junk Yard Dawgs at Mad Dogs=0D=0A Time: 6:00 PM=0D=0A Location: Highland Park, Field 1
CLASS:PUBLIC
PRIORITY:5
BEGIN:VALARM
TRIGGER:-PT180M
ACTION:DISPLAY
DESCRIPTION:Reminder
END:VALARM
END:VEVENT
BEGIN:VEVENT
DTSTART:2019-08-01T01:00:00Z
DTEND:2019-08-01T03:30:00Z
LOCATION:MM6: Marymoor, Field 6
CATEGORIES:Softball,Mad Dogs,BB/SAA
UID:30D4FF69E396CB4AB3F820D26CBBBE91:
DTSTAMP:2026-04-22T08:51:45Z:
SUMMARY:Goose Pub 1 at Mad Dogs
DESCRIPTION;ENCODING=QUOTED-PRINTABLE:Goose Pub 1 at Mad Dogs=0D=0A Time: 6:00 PM=0D=0A Location: Marymoor, Field 6
CLASS:PUBLIC
PRIORITY:5
BEGIN:VALARM
TRIGGER:-PT180M
ACTION:DISPLAY
DESCRIPTION:Reminder
END:VALARM
END:VEVENT
BEGIN:VEVENT
DTSTART:2019-08-15T01:00:00Z
DTEND:2019-08-15T03:30:00Z
LOCATION:HP1: Highland Park, Field 1
CATEGORIES:Softball,Mad Dogs,BB/SAA
UID:B1A97012346A41418275801FA85BEE4A:
DTSTAMP:2026-04-22T08:51:45Z:
SUMMARY:Cougars at Mad Dogs
DESCRIPTION;ENCODING=QUOTED-PRINTABLE:Cougars at Mad Dogs=0D=0A Time: 6:00 PM=0D=0A Location: Highland Park, Field 1
CLASS:PUBLIC
PRIORITY:5
BEGIN:VALARM
TRIGGER:-PT180M
ACTION:DISPLAY
DESCRIPTION:Reminder
END:VALARM
END:VEVENT
BEGIN:VEVENT
DTSTART:2019-08-22T01:00:00Z
DTEND:2019-08-22T03:30:00Z
LOCATION:MM6: Marymoor, Field 6
CATEGORIES:Softball,Mad Dogs,BB/SAA
UID:DEE630AD43DF6D4297A451668E6FA34D:
DTSTAMP:2026-04-22T08:51:45Z:
SUMMARY:Mad Dogs at Manchild United
DESCRIPTION;ENCODING=QUOTED-PRINTABLE:Mad Dogs at Manchild United=0D=0A Time: 6:00 PM=0D=0A Location: Marymoor, Field 6
CLASS:PUBLIC
PRIORITY:5
BEGIN:VALARM
TRIGGER:-PT180M
ACTION:DISPLAY
DESCRIPTION:Reminder
END:VALARM
END:VEVENT
BEGIN:VEVENT
DTSTART:2019-08-29T03:30:00Z
DTEND:2019-08-29T06:00:00Z
LOCATION:HP1: Highland Park, Field 1
CATEGORIES:Softball,Mad Dogs,BB/SAA
UID:374CE5C5153322449AE42D314ED9F590:
DTSTAMP:2026-04-22T08:51:45Z:
SUMMARY:Mad Dogs at Junk Yard Dawgs
DESCRIPTION;ENCODING=QUOTED-PRINTABLE:Mad Dogs at Junk Yard Dawgs=0D=0A Time: 8:30 PM=0D=0A Location: Highland Park, Field 1
CLASS:PUBLIC
PRIORITY:5
BEGIN:VALARM
TRIGGER:-PT330M
ACTION:DISPLAY
DESCRIPTION:Reminder
END:VALARM
END:VEVENT
BEGIN:VEVENT
DTSTART:2019-09-05T01:00:00Z
DTEND:2019-09-05T03:30:00Z
LOCATION:MM7: Marymoor, Field 7
CATEGORIES:Softball,Mad Dogs,BB/SAA
UID:891A1527444044A5D14830FAE602F:
DTSTAMP:2026-04-22T08:51:45Z:
SUMMARY:Mad Dogs at Goose Pub 1
DESCRIPTION;ENCODING=QUOTED-PRINTABLE:Mad Dogs at Goose Pub 1=0D=0A Time: 6:00 PM=0D=0A Location: Marymoor, Field 7
CLASS:PUBLIC
PRIORITY:5
BEGIN:VALARM
TRIGGER:-PT180M
ACTION:DISPLAY
DESCRIPTION:Reminder
END:VALARM
END:VEVENT
BEGIN:VEVENT
DTSTART:2019-09-19T01:00:00Z
DTEND:2019-09-19T03:30:00Z
LOCATION:HP1: Highland Park, Field 1
CATEGORIES:Softball,Mad Dogs,BB/SAA
UID:BED088B36659C94E964B76C8C11D8B4:
DTSTAMP:2026-04-22T08:51:45Z:
SUMMARY:Mad Dogs at Cougars
DESCRIPTION;ENCODING=QUOTED-PRINTABLE:Mad Dogs at Cougars=0D=0A Time: 6:00 PM=0D=0A Location: Highland Park, Field 1
CLASS:PUBLIC
PRIORITY:5
BEGIN:VALARM
TRIGGER:-PT180M
ACTION:DISPLAY
DESCRIPTION:Reminder
END:VALARM
END:VEVENT
END:VCALENDAR
