BEGIN:VCALENDAR
PRODID:-//Microsoft Corporation//Outlook 11.0 MIMEDIR//EN
VERSION:2.0
METHOD:PUBLISH
BEGIN:VEVENT
DTSTART:2019-07-11T01:00:00Z
DTEND:2019-07-11T03:30:00Z
LOCATION:MM8: Marymoor, Field 8
CATEGORIES:Softball,Junk Yard Dawgs,BB/SAA
UID:36BEA468DDB46741A231B9282D7679C0:
DTSTAMP:2026-04-20T10:32:48Z:
SUMMARY:Manchild United at Junk Yard Dawgs
DESCRIPTION;ENCODING=QUOTED-PRINTABLE:Manchild United at Junk Yard Dawgs=0D=0A Time: 6:00 PM=0D=0A Location: Marymoor, Field 8
CLASS:PUBLIC
PRIORITY:5
BEGIN:VALARM
TRIGGER:-PT180M
ACTION:DISPLAY
DESCRIPTION:Reminder
END:VALARM
END:VEVENT
BEGIN:VEVENT
DTSTART:2019-07-18T01:00:00Z
DTEND:2019-07-18T03:30:00Z
LOCATION:HP1: Highland Park, Field 1
CATEGORIES:Softball,Junk Yard Dawgs,BB/SAA
UID:28FF3F94B94C8340B9695F8E4B57998:
DTSTAMP:2026-04-20T10:32:48Z:
SUMMARY:Goose Pub 1 at Junk Yard Dawgs
DESCRIPTION;ENCODING=QUOTED-PRINTABLE:Goose Pub 1 at Junk Yard Dawgs=0D=0A Time: 6:00 PM=0D=0A Location: Highland Park, Field 1
CLASS:PUBLIC
PRIORITY:5
BEGIN:VALARM
TRIGGER:-PT180M
ACTION:DISPLAY
DESCRIPTION:Reminder
END:VALARM
END:VEVENT
BEGIN:VEVENT
DTSTART:2019-07-25T01:00:00Z
DTEND:2019-07-25T03:30:00Z
LOCATION:HP1: Highland Park, Field 1
CATEGORIES:Softball,Junk Yard Dawgs,BB/SAA
UID:7A91E79AB7688B489D8554C22A77E77:
DTSTAMP:2026-04-20T10:32:48Z:
SUMMARY:Junk Yard Dawgs at Mad Dogs
DESCRIPTION;ENCODING=QUOTED-PRINTABLE:Junk Yard Dawgs at Mad Dogs=0D=0A Time: 6:00 PM=0D=0A Location: Highland Park, Field 1
CLASS:PUBLIC
PRIORITY:5
BEGIN:VALARM
TRIGGER:-PT180M
ACTION:DISPLAY
DESCRIPTION:Reminder
END:VALARM
END:VEVENT
BEGIN:VEVENT
DTSTART:2019-08-08T03:30:00Z
DTEND:2019-08-08T06:00:00Z
LOCATION:MM7: Marymoor, Field 7
CATEGORIES:Softball,Junk Yard Dawgs,BB/SAA
UID:6421058FD8C124BA45A4FFFB38A9121:
DTSTAMP:2026-04-20T10:32:48Z:
SUMMARY:Cougars at Junk Yard Dawgs
DESCRIPTION;ENCODING=QUOTED-PRINTABLE:Cougars at Junk Yard Dawgs=0D=0A Time: 8:30 PM=0D=0A Location: Marymoor, Field 7
CLASS:PUBLIC
PRIORITY:5
BEGIN:VALARM
TRIGGER:-PT330M
ACTION:DISPLAY
DESCRIPTION:Reminder
END:VALARM
END:VEVENT
BEGIN:VEVENT
DTSTART:2019-08-15T03:30:00Z
DTEND:2019-08-15T06:00:00Z
LOCATION:HV1: Hidden Valley, Field 1
CATEGORIES:Softball,Junk Yard Dawgs,BB/SAA
UID:86AD821EA77FE468FE08B3B74459F3A:
DTSTAMP:2026-04-20T10:32:48Z:
SUMMARY:Junk Yard Dawgs at Manchild United
DESCRIPTION;ENCODING=QUOTED-PRINTABLE:Junk Yard Dawgs at Manchild United=0D=0A Time: 8:30 PM=0D=0A Location: Hidden Valley, Field 1
CLASS:PUBLIC
PRIORITY:5
BEGIN:VALARM
TRIGGER:-PT330M
ACTION:DISPLAY
DESCRIPTION:Reminder
END:VALARM
END:VEVENT
BEGIN:VEVENT
DTSTART:2019-08-22T01:00:00Z
DTEND:2019-08-22T03:30:00Z
LOCATION:HP1: Highland Park, Field 1
CATEGORIES:Softball,Junk Yard Dawgs,BB/SAA
UID:467758404231B242A147BE9B9E7E4C0:
DTSTAMP:2026-04-20T10:32:48Z:
SUMMARY:Junk Yard Dawgs at Goose Pub 1
DESCRIPTION;ENCODING=QUOTED-PRINTABLE:Junk Yard Dawgs at Goose Pub 1=0D=0A Time: 6:00 PM=0D=0A Location: Highland Park, Field 1
CLASS:PUBLIC
PRIORITY:5
BEGIN:VALARM
TRIGGER:-PT180M
ACTION:DISPLAY
DESCRIPTION:Reminder
END:VALARM
END:VEVENT
BEGIN:VEVENT
DTSTART:2019-08-29T03:30:00Z
DTEND:2019-08-29T06:00:00Z
LOCATION:HP1: Highland Park, Field 1
CATEGORIES:Softball,Junk Yard Dawgs,BB/SAA
UID:5BABC6E65F8B6D48A4954F8A87655A6:
DTSTAMP:2026-04-20T10:32:48Z:
SUMMARY:Mad Dogs at Junk Yard Dawgs
DESCRIPTION;ENCODING=QUOTED-PRINTABLE:Mad Dogs at Junk Yard Dawgs=0D=0A Time: 8:30 PM=0D=0A Location: Highland Park, Field 1
CLASS:PUBLIC
PRIORITY:5
BEGIN:VALARM
TRIGGER:-PT330M
ACTION:DISPLAY
DESCRIPTION:Reminder
END:VALARM
END:VEVENT
BEGIN:VEVENT
DTSTART:2019-09-05T01:00:00Z
DTEND:2019-09-05T03:30:00Z
LOCATION:HV1: Hidden Valley, Field 1
CATEGORIES:Softball,Junk Yard Dawgs,BB/SAA
UID:71C9A79AB4E594CB8593E8911CC309F:
DTSTAMP:2026-04-20T10:32:48Z:
SUMMARY:Manchild United at Junk Yard Dawgs
DESCRIPTION;ENCODING=QUOTED-PRINTABLE:Manchild United at Junk Yard Dawgs=0D=0A Time: 6:00 PM=0D=0A Location: Hidden Valley, Field 1
CLASS:PUBLIC
PRIORITY:5
BEGIN:VALARM
TRIGGER:-PT180M
ACTION:DISPLAY
DESCRIPTION:Reminder
END:VALARM
END:VEVENT
BEGIN:VEVENT
DTSTART:2019-09-12T03:30:00Z
DTEND:2019-09-12T06:00:00Z
LOCATION:HV1: Hidden Valley, Field 1
CATEGORIES:Softball,Junk Yard Dawgs,BB/SAA
UID:94FD174E4813046BBE4EB32CAB69BAA:
DTSTAMP:2026-04-20T10:32:48Z:
SUMMARY:Junk Yard Dawgs at Cougars
DESCRIPTION;ENCODING=QUOTED-PRINTABLE:Junk Yard Dawgs at Cougars=0D=0A Time: 8:30 PM=0D=0A Location: Hidden Valley, Field 1
CLASS:PUBLIC
PRIORITY:5
BEGIN:VALARM
TRIGGER:-PT330M
ACTION:DISPLAY
DESCRIPTION:Reminder
END:VALARM
END:VEVENT
BEGIN:VEVENT
DTSTART:2019-09-19T02:15:00Z
DTEND:2019-09-19T04:45:00Z
LOCATION:HP1: Highland Park, Field 1
CATEGORIES:Softball,Junk Yard Dawgs,BB/SAA
UID:CEF488AA2E6B2A4E88F8E14B29EB194:
DTSTAMP:2026-04-20T10:32:48Z:
SUMMARY:Junk Yard Dawgs at Manchild United
DESCRIPTION;ENCODING=QUOTED-PRINTABLE:Junk Yard Dawgs at Manchild United=0D=0A Time: 7:15 PM=0D=0A Location: Highland Park, Field 1
CLASS:PUBLIC
PRIORITY:5
BEGIN:VALARM
TRIGGER:-PT255M
ACTION:DISPLAY
DESCRIPTION:Reminder
END:VALARM
END:VEVENT
END:VCALENDAR
