BEGIN:VCALENDAR
PRODID:-//Microsoft Corporation//Outlook 11.0 MIMEDIR//EN
VERSION:2.0
METHOD:PUBLISH
BEGIN:VEVENT
DTSTART:2019-07-12T03:30:00Z
DTEND:2019-07-12T06:00:00Z
LOCATION:HP1: Highland Park, Field 1
CATEGORIES:Softball,Ice Cold Pitchers,BB/SAA
UID:ACEC9B686A047B680824AC5306F96:
DTSTAMP:2026-04-22T10:45:46Z:
SUMMARY:Ice Cold Pitchers at Booze on First
DESCRIPTION;ENCODING=QUOTED-PRINTABLE:Ice Cold Pitchers at Booze on First=0D=0A Time: 8:30 PM=0D=0A Location: Highland Park, Field 1
CLASS:PUBLIC
PRIORITY:5
BEGIN:VALARM
TRIGGER:-PT330M
ACTION:DISPLAY
DESCRIPTION:Reminder
END:VALARM
END:VEVENT
BEGIN:VEVENT
DTSTART:2019-07-19T01:00:00Z
DTEND:2019-07-19T03:30:00Z
LOCATION:HV1: Hidden Valley, Field 1
CATEGORIES:Softball,Ice Cold Pitchers,BB/SAA
UID:6F487A13F56F243A9A3391C5D28AC3:
DTSTAMP:2026-04-22T10:45:46Z:
SUMMARY:Cream of the Crop at Ice Cold Pitchers
DESCRIPTION;ENCODING=QUOTED-PRINTABLE:Cream of the Crop at Ice Cold Pitchers=0D=0A Time: 6:00 PM=0D=0A Location: Hidden Valley, Field 1
CLASS:PUBLIC
PRIORITY:5
BEGIN:VALARM
TRIGGER:-PT180M
ACTION:DISPLAY
DESCRIPTION:Reminder
END:VALARM
END:VEVENT
BEGIN:VEVENT
DTSTART:2019-07-25T03:30:00Z
DTEND:2019-07-25T06:00:00Z
LOCATION:MM7: Marymoor, Field 7
CATEGORIES:Softball,Ice Cold Pitchers,BB/SAA
UID:EED65FCE3CF67E428127C25AF482B365:
DTSTAMP:2026-04-22T10:45:46Z:
SUMMARY:Ice Cold Pitchers at ID HIT IT
DESCRIPTION;ENCODING=QUOTED-PRINTABLE:Ice Cold Pitchers at ID HIT IT=0D=0A Time: 8:30 PM=0D=0A Location: Marymoor, Field 7
CLASS:PUBLIC
PRIORITY:5
BEGIN:VALARM
TRIGGER:-PT330M
ACTION:DISPLAY
DESCRIPTION:Reminder
END:VALARM
END:VEVENT
BEGIN:VEVENT
DTSTART:2019-08-02T03:30:00Z
DTEND:2019-08-02T06:00:00Z
LOCATION:HP1: Highland Park, Field 1
CATEGORIES:Softball,Ice Cold Pitchers,BB/SAA
UID:CD257428239A7A42B885F4BBC18E5C94:
DTSTAMP:2026-04-22T10:45:46Z:
SUMMARY:Ice Cold Pitchers at Silver Foxes
DESCRIPTION;ENCODING=QUOTED-PRINTABLE:Ice Cold Pitchers at Silver Foxes=0D=0A Time: 8:30 PM=0D=0A Location: Highland Park, Field 1
CLASS:PUBLIC
PRIORITY:5
BEGIN:VALARM
TRIGGER:-PT330M
ACTION:DISPLAY
DESCRIPTION:Reminder
END:VALARM
END:VEVENT
BEGIN:VEVENT
DTSTART:2019-08-09T03:30:00Z
DTEND:2019-08-09T06:00:00Z
LOCATION:HP1: Highland Park, Field 1
CATEGORIES:Softball,Ice Cold Pitchers,BB/SAA
UID:2F09F4538306C46ABFF45C5FF1B1D65:
DTSTAMP:2026-04-22T10:45:46Z:
SUMMARY:Carpet To Go at Ice Cold Pitchers
DESCRIPTION;ENCODING=QUOTED-PRINTABLE:Carpet To Go at Ice Cold Pitchers=0D=0A Time: 8:30 PM=0D=0A Location: Highland Park, Field 1
CLASS:PUBLIC
PRIORITY:5
BEGIN:VALARM
TRIGGER:-PT330M
ACTION:DISPLAY
DESCRIPTION:Reminder
END:VALARM
END:VEVENT
BEGIN:VEVENT
DTSTART:2019-08-16T01:00:00Z
DTEND:2019-08-16T03:30:00Z
LOCATION:MM7: Marymoor, Field 7
CATEGORIES:Softball,Ice Cold Pitchers,BB/SAA
UID:FBFAB2EDFA714894C595E84A7F3D:
DTSTAMP:2026-04-22T10:45:46Z:
SUMMARY:Eskimo Bros at Ice Cold Pitchers
DESCRIPTION;ENCODING=QUOTED-PRINTABLE:Eskimo Bros at Ice Cold Pitchers=0D=0A Time: 6:00 PM=0D=0A Location: Marymoor, Field 7
CLASS:PUBLIC
PRIORITY:5
BEGIN:VALARM
TRIGGER:-PT180M
ACTION:DISPLAY
DESCRIPTION:Reminder
END:VALARM
END:VEVENT
BEGIN:VEVENT
DTSTART:2019-08-22T01:00:00Z
DTEND:2019-08-22T03:30:00Z
LOCATION:MM7: Marymoor, Field 7
CATEGORIES:Softball,Ice Cold Pitchers,BB/SAA
UID:FAE59B82712DA4FBE8D7193C86D71C:
DTSTAMP:2026-04-22T10:45:46Z:
SUMMARY:Moneyballs at Ice Cold Pitchers
DESCRIPTION;ENCODING=QUOTED-PRINTABLE:Moneyballs at Ice Cold Pitchers=0D=0A Time: 6:00 PM=0D=0A Location: Marymoor, Field 7
CLASS:PUBLIC
PRIORITY:5
BEGIN:VALARM
TRIGGER:-PT180M
ACTION:DISPLAY
DESCRIPTION:Reminder
END:VALARM
END:VEVENT
BEGIN:VEVENT
DTSTART:2019-08-30T01:00:00Z
DTEND:2019-08-30T03:30:00Z
LOCATION:HV1: Hidden Valley, Field 1
CATEGORIES:Softball,Ice Cold Pitchers,BB/SAA
UID:DDFFB9DDFC8442BDA51918E28AE860:
DTSTAMP:2026-04-22T10:45:46Z:
SUMMARY:Ice Cold Pitchers at Booze on First
DESCRIPTION;ENCODING=QUOTED-PRINTABLE:Ice Cold Pitchers at Booze on First=0D=0A Time: 6:00 PM=0D=0A Location: Hidden Valley, Field 1
CLASS:PUBLIC
PRIORITY:5
BEGIN:VALARM
TRIGGER:-PT180M
ACTION:DISPLAY
DESCRIPTION:Reminder
END:VALARM
END:VEVENT
BEGIN:VEVENT
DTSTART:2019-09-20T02:15:00Z
DTEND:2019-09-20T04:45:00Z
LOCATION:HV1: Hidden Valley, Field 1
CATEGORIES:Softball,Ice Cold Pitchers,BB/SAA
UID:73A03F2B98ED5742AD5B2DC18BD235B4:
DTSTAMP:2026-04-22T10:45:46Z:
SUMMARY:Carpet To Go at Ice Cold Pitchers
DESCRIPTION;ENCODING=QUOTED-PRINTABLE:Carpet To Go at Ice Cold Pitchers=0D=0A Time: 7:15 PM=0D=0A Location: Hidden Valley, Field 1
CLASS:PUBLIC
PRIORITY:5
BEGIN:VALARM
TRIGGER:-PT255M
ACTION:DISPLAY
DESCRIPTION:Reminder
END:VALARM
END:VEVENT
END:VCALENDAR
