BEGIN:VCALENDAR
PRODID:-//Microsoft Corporation//Outlook 11.0 MIMEDIR//EN
VERSION:2.0
METHOD:PUBLISH
BEGIN:VEVENT
DTSTART:2019-07-17T03:30:00Z
DTEND:2019-07-17T06:00:00Z
LOCATION:MM7: Marymoor, Field 7
CATEGORIES:Softball,Staypineapple,BB/SAA
UID:2B9A12D4CCB7824898253077B0F3D4F2:
DTSTAMP:2026-04-20T10:22:32Z:
SUMMARY:MOD Squad at Staypineapple
DESCRIPTION;ENCODING=QUOTED-PRINTABLE:MOD Squad at Staypineapple=0D=0A Time: 8:30 PM=0D=0A Location: Marymoor, Field 7
CLASS:PUBLIC
PRIORITY:5
BEGIN:VALARM
TRIGGER:-PT330M
ACTION:DISPLAY
DESCRIPTION:Reminder
END:VALARM
END:VEVENT
BEGIN:VEVENT
DTSTART:2019-07-24T01:00:00Z
DTEND:2019-07-24T03:30:00Z
LOCATION:MM6: Marymoor, Field 6
CATEGORIES:Softball,Staypineapple,BB/SAA
UID:2354DCA91FC86469B0E58DF058C48:
DTSTAMP:2026-04-20T10:22:32Z:
SUMMARY:Intermedia at Staypineapple
DESCRIPTION;ENCODING=QUOTED-PRINTABLE:Intermedia at Staypineapple=0D=0A Time: 6:00 PM=0D=0A Location: Marymoor, Field 6
CLASS:PUBLIC
PRIORITY:5
BEGIN:VALARM
TRIGGER:-PT180M
ACTION:DISPLAY
DESCRIPTION:Reminder
END:VALARM
END:VEVENT
BEGIN:VEVENT
DTSTART:2019-07-31T01:00:00Z
DTEND:2019-07-31T03:30:00Z
LOCATION:HP1: Highland Park, Field 1
CATEGORIES:Softball,Staypineapple,BB/SAA
UID:546E21E74B423469F923A678593782:
DTSTAMP:2026-04-20T10:22:32Z:
SUMMARY:Staypineapple at Basecampers
DESCRIPTION;ENCODING=QUOTED-PRINTABLE:Staypineapple at Basecampers=0D=0A Time: 6:00 PM=0D=0A Location: Highland Park, Field 1
CLASS:PUBLIC
PRIORITY:5
BEGIN:VALARM
TRIGGER:-PT180M
ACTION:DISPLAY
DESCRIPTION:Reminder
END:VALARM
END:VEVENT
BEGIN:VEVENT
DTSTART:2019-08-07T01:00:00Z
DTEND:2019-08-07T03:30:00Z
LOCATION:HP1: Highland Park, Field 1
CATEGORIES:Softball,Staypineapple,BB/SAA
UID:4FF5116F935CEB4AB4E9C7083E84FAC:
DTSTAMP:2026-04-20T10:22:32Z:
SUMMARY:Meet the Feekers at Staypineapple
DESCRIPTION;ENCODING=QUOTED-PRINTABLE:Meet the Feekers at Staypineapple=0D=0A Time: 6:00 PM=0D=0A Location: Highland Park, Field 1
CLASS:PUBLIC
PRIORITY:5
BEGIN:VALARM
TRIGGER:-PT180M
ACTION:DISPLAY
DESCRIPTION:Reminder
END:VALARM
END:VEVENT
BEGIN:VEVENT
DTSTART:2019-08-14T01:00:00Z
DTEND:2019-08-14T03:30:00Z
LOCATION:MM7: Marymoor, Field 7
CATEGORIES:Softball,Staypineapple,BB/SAA
UID:574001036B23040965C7CCE4F02043:
DTSTAMP:2026-04-20T10:22:32Z:
SUMMARY:Staypineapple at Apptio
DESCRIPTION;ENCODING=QUOTED-PRINTABLE:Staypineapple at Apptio=0D=0A Time: 6:00 PM=0D=0A Location: Marymoor, Field 7
CLASS:PUBLIC
PRIORITY:5
BEGIN:VALARM
TRIGGER:-PT180M
ACTION:DISPLAY
DESCRIPTION:Reminder
END:VALARM
END:VEVENT
BEGIN:VEVENT
DTSTART:2019-08-21T03:30:00Z
DTEND:2019-08-21T06:00:00Z
LOCATION:MM7: Marymoor, Field 7
CATEGORIES:Softball,Staypineapple,BB/SAA
UID:78F5BFDC7BDF834DB6A0F5846A1BFF79:
DTSTAMP:2026-04-20T10:22:32Z:
SUMMARY:Staypineapple at Bellevue Club
DESCRIPTION;ENCODING=QUOTED-PRINTABLE:Staypineapple at Bellevue Club=0D=0A Time: 8:30 PM=0D=0A Location: Marymoor, Field 7
CLASS:PUBLIC
PRIORITY:5
BEGIN:VALARM
TRIGGER:-PT330M
ACTION:DISPLAY
DESCRIPTION:Reminder
END:VALARM
END:VEVENT
BEGIN:VEVENT
DTSTART:2019-09-04T01:00:00Z
DTEND:2019-09-04T03:30:00Z
LOCATION:HP1: Highland Park, Field 1
CATEGORIES:Softball,Staypineapple,BB/SAA
UID:3D14612B85ECFF4FA1F434E5CC273AF4:
DTSTAMP:2026-04-20T10:22:32Z:
SUMMARY:Staypineapple at MOD Squad
DESCRIPTION;ENCODING=QUOTED-PRINTABLE:Staypineapple at MOD Squad=0D=0A Time: 6:00 PM=0D=0A Location: Highland Park, Field 1
CLASS:PUBLIC
PRIORITY:5
BEGIN:VALARM
TRIGGER:-PT180M
ACTION:DISPLAY
DESCRIPTION:Reminder
END:VALARM
END:VEVENT
BEGIN:VEVENT
DTSTART:2019-09-11T03:30:00Z
DTEND:2019-09-11T06:00:00Z
LOCATION:HV1: Hidden Valley, Field 1
CATEGORIES:Softball,Staypineapple,BB/SAA
UID:E63DB2E226636A4099F58C5394CB1058:
DTSTAMP:2026-04-20T10:22:32Z:
SUMMARY:Apptio at Staypineapple
DESCRIPTION;ENCODING=QUOTED-PRINTABLE:Apptio at Staypineapple=0D=0A Time: 8:30 PM=0D=0A Location: Hidden Valley, Field 1
CLASS:PUBLIC
PRIORITY:5
BEGIN:VALARM
TRIGGER:-PT330M
ACTION:DISPLAY
DESCRIPTION:Reminder
END:VALARM
END:VEVENT
BEGIN:VEVENT
DTSTART:2019-09-18T01:00:00Z
DTEND:2019-09-18T03:30:00Z
LOCATION:HV1: Hidden Valley, Field 1
CATEGORIES:Softball,Staypineapple,BB/SAA
UID:608E9594ED699144A40B86D23E322BC:
DTSTAMP:2026-04-20T10:22:32Z:
SUMMARY:Bellevue Club at Staypineapple
DESCRIPTION;ENCODING=QUOTED-PRINTABLE:Bellevue Club at Staypineapple=0D=0A Time: 6:00 PM=0D=0A Location: Hidden Valley, Field 1
CLASS:PUBLIC
PRIORITY:5
BEGIN:VALARM
TRIGGER:-PT180M
ACTION:DISPLAY
DESCRIPTION:Reminder
END:VALARM
END:VEVENT
END:VCALENDAR
