BEGIN:VCALENDAR
PRODID:-//Microsoft Corporation//Outlook 11.0 MIMEDIR//EN
VERSION:2.0
METHOD:PUBLISH
BEGIN:VEVENT
DTSTART:2019-07-16T03:30:00Z
DTEND:2019-07-16T06:00:00Z
LOCATION:HP1: Highland Park, Field 1
CATEGORIES:Softball,Sweeney Conrad Sluggers,BB/SAA
UID:ED612F6CBAE08D47A091A349A3D077FB:
DTSTAMP:2026-04-20T08:52:25Z:
SUMMARY:Savers at Sweeney Conrad Sluggers
DESCRIPTION;ENCODING=QUOTED-PRINTABLE:Savers at Sweeney Conrad Sluggers=0D=0A Time: 8:30 PM=0D=0A Location: Highland Park, Field 1
CLASS:PUBLIC
PRIORITY:5
BEGIN:VALARM
TRIGGER:-PT330M
ACTION:DISPLAY
DESCRIPTION:Reminder
END:VALARM
END:VEVENT
BEGIN:VEVENT
DTSTART:2019-07-23T03:30:00Z
DTEND:2019-07-23T06:00:00Z
LOCATION:HV1: Hidden Valley, Field 1
CATEGORIES:Softball,Sweeney Conrad Sluggers,BB/SAA
UID:463E855AA91BE24488CAEE7DDC727915:
DTSTAMP:2026-04-20T08:52:25Z:
SUMMARY:BeeGee's at Sweeney Conrad Sluggers
DESCRIPTION;ENCODING=QUOTED-PRINTABLE:BeeGee's at Sweeney Conrad Sluggers=0D=0A Time: 8:30 PM=0D=0A Location: Hidden Valley, Field 1
CLASS:PUBLIC
PRIORITY:5
BEGIN:VALARM
TRIGGER:-PT330M
ACTION:DISPLAY
DESCRIPTION:Reminder
END:VALARM
END:VEVENT
BEGIN:VEVENT
DTSTART:2019-07-30T03:30:00Z
DTEND:2019-07-30T06:00:00Z
LOCATION:HV1: Hidden Valley, Field 1
CATEGORIES:Softball,Sweeney Conrad Sluggers,BB/SAA
UID:A6C72B9CA82724A89D1F4E72C268B4F:
DTSTAMP:2026-04-20T08:52:25Z:
SUMMARY:Sweeney Conrad Sluggers at Asure Consulting, Inc.
DESCRIPTION;ENCODING=QUOTED-PRINTABLE:Sweeney Conrad Sluggers at Asure Consulting, Inc.=0D=0A Time: 8:30 PM=0D=0A Location: Hidden Valley, Field 1
CLASS:PUBLIC
PRIORITY:5
BEGIN:VALARM
TRIGGER:-PT330M
ACTION:DISPLAY
DESCRIPTION:Reminder
END:VALARM
END:VEVENT
BEGIN:VEVENT
DTSTART:2019-08-06T01:00:00Z
DTEND:2019-08-06T03:30:00Z
LOCATION:MM7: Marymoor, Field 7
CATEGORIES:Softball,Sweeney Conrad Sluggers,BB/SAA
UID:45AB5BBA2A645B45A19A6A88B7C1F4:
DTSTAMP:2026-04-20T08:52:25Z:
SUMMARY:HP OMFE at Sweeney Conrad Sluggers
DESCRIPTION;ENCODING=QUOTED-PRINTABLE:HP OMFE at Sweeney Conrad Sluggers=0D=0A Time: 6:00 PM=0D=0A Location: Marymoor, Field 7
CLASS:PUBLIC
PRIORITY:5
BEGIN:VALARM
TRIGGER:-PT180M
ACTION:DISPLAY
DESCRIPTION:Reminder
END:VALARM
END:VEVENT
BEGIN:VEVENT
DTSTART:2019-08-13T03:30:00Z
DTEND:2019-08-13T06:00:00Z
LOCATION:HV1: Hidden Valley, Field 1
CATEGORIES:Softball,Sweeney Conrad Sluggers,BB/SAA
UID:5AE944C946784C83BE33BC87249E2:
DTSTAMP:2026-04-20T08:52:25Z:
SUMMARY:Sweeney Conrad Sluggers at Nick of Time
DESCRIPTION;ENCODING=QUOTED-PRINTABLE:Sweeney Conrad Sluggers at Nick of Time=0D=0A Time: 8:30 PM=0D=0A Location: Hidden Valley, Field 1
CLASS:PUBLIC
PRIORITY:5
BEGIN:VALARM
TRIGGER:-PT330M
ACTION:DISPLAY
DESCRIPTION:Reminder
END:VALARM
END:VEVENT
BEGIN:VEVENT
DTSTART:2019-08-20T01:00:00Z
DTEND:2019-08-20T03:30:00Z
LOCATION:MM7: Marymoor, Field 7
CATEGORIES:Softball,Sweeney Conrad Sluggers,BB/SAA
UID:2BFF81D078C5334CB97231704243DE3A:
DTSTAMP:2026-04-20T08:52:25Z:
SUMMARY:Sweeney Conrad Sluggers at Axia Loan Rangers
DESCRIPTION;ENCODING=QUOTED-PRINTABLE:Sweeney Conrad Sluggers at Axia Loan Rangers=0D=0A Time: 6:00 PM=0D=0A Location: Marymoor, Field 7
CLASS:PUBLIC
PRIORITY:5
BEGIN:VALARM
TRIGGER:-PT180M
ACTION:DISPLAY
DESCRIPTION:Reminder
END:VALARM
END:VEVENT
BEGIN:VEVENT
DTSTART:2019-09-10T01:00:00Z
DTEND:2019-09-10T03:30:00Z
LOCATION:HP1: Highland Park, Field 1
CATEGORIES:Softball,Sweeney Conrad Sluggers,BB/SAA
UID:887D15133EF0489B951ECA451644:
DTSTAMP:2026-04-20T08:52:25Z:
SUMMARY:Sweeney Conrad Sluggers at Savers
DESCRIPTION;ENCODING=QUOTED-PRINTABLE:Sweeney Conrad Sluggers at Savers=0D=0A Time: 6:00 PM=0D=0A Location: Highland Park, Field 1
CLASS:PUBLIC
PRIORITY:5
BEGIN:VALARM
TRIGGER:-PT180M
ACTION:DISPLAY
DESCRIPTION:Reminder
END:VALARM
END:VEVENT
BEGIN:VEVENT
DTSTART:2019-09-17T01:00:00Z
DTEND:2019-09-17T03:30:00Z
LOCATION:HP1: Highland Park, Field 1
CATEGORIES:Softball,Sweeney Conrad Sluggers,BB/SAA
UID:15B94CADA962254293DA313542BD8331:
DTSTAMP:2026-04-20T08:52:25Z:
SUMMARY:Nick of Time at Sweeney Conrad Sluggers
DESCRIPTION;ENCODING=QUOTED-PRINTABLE:Nick of Time at Sweeney Conrad Sluggers=0D=0A Time: 6:00 PM=0D=0A Location: Highland Park, Field 1
CLASS:PUBLIC
PRIORITY:5
BEGIN:VALARM
TRIGGER:-PT180M
ACTION:DISPLAY
DESCRIPTION:Reminder
END:VALARM
END:VEVENT
BEGIN:VEVENT
DTSTART:2019-09-17T03:30:00Z
DTEND:2019-09-17T06:00:00Z
LOCATION:HP1: Highland Park, Field 1
CATEGORIES:Softball,Sweeney Conrad Sluggers,BB/SAA
UID:41A1CDE13A2B854C95C9C2A91944D259:
DTSTAMP:2026-04-20T08:52:25Z:
SUMMARY:Sweeney Conrad Sluggers at Savers
DESCRIPTION;ENCODING=QUOTED-PRINTABLE:Sweeney Conrad Sluggers at Savers=0D=0A Time: 8:30 PM=0D=0A Location: Highland Park, Field 1
CLASS:PUBLIC
PRIORITY:5
BEGIN:VALARM
TRIGGER:-PT330M
ACTION:DISPLAY
DESCRIPTION:Reminder
END:VALARM
END:VEVENT
END:VCALENDAR
