BEGIN:VCALENDAR
PRODID:-//Microsoft Corporation//Outlook 11.0 MIMEDIR//EN
VERSION:2.0
METHOD:PUBLISH
BEGIN:VEVENT
DTSTART:2019-07-10T01:00:00Z
DTEND:2019-07-10T03:30:00Z
LOCATION:HP1: Highland Park, Field 1
CATEGORIES:Softball,Bonsai Bombers,BB/SAA
UID:AFDA841DE6C1424D91BA2B409C9E36B5:
DTSTAMP:2026-04-20T08:47:05Z:
SUMMARY:Bonsai Bombers at Hits Happen
DESCRIPTION;ENCODING=QUOTED-PRINTABLE:Bonsai Bombers at Hits Happen=0D=0A Time: 6:00 PM=0D=0A Location: Highland Park, Field 1
CLASS:PUBLIC
PRIORITY:5
BEGIN:VALARM
TRIGGER:-PT180M
ACTION:DISPLAY
DESCRIPTION:Reminder
END:VALARM
END:VEVENT
BEGIN:VEVENT
DTSTART:2019-07-17T03:30:00Z
DTEND:2019-07-17T06:00:00Z
LOCATION:HV1: Hidden Valley, Field 1
CATEGORIES:Softball,Bonsai Bombers,BB/SAA
UID:3C9AFECDA38604FAD90335E7BAC1C66:
DTSTAMP:2026-04-20T08:47:05Z:
SUMMARY:JiveKitty.com at Bonsai Bombers
DESCRIPTION;ENCODING=QUOTED-PRINTABLE:JiveKitty.com at Bonsai Bombers=0D=0A Time: 8:30 PM=0D=0A Location: Hidden Valley, Field 1
CLASS:PUBLIC
PRIORITY:5
BEGIN:VALARM
TRIGGER:-PT330M
ACTION:DISPLAY
DESCRIPTION:Reminder
END:VALARM
END:VEVENT
BEGIN:VEVENT
DTSTART:2019-07-24T03:30:00Z
DTEND:2019-07-24T06:00:00Z
LOCATION:MM7: Marymoor, Field 7
CATEGORIES:Softball,Bonsai Bombers,BB/SAA
UID:12C6464843C4C43BCE3B395C97D15B:
DTSTAMP:2026-04-20T08:47:05Z:
SUMMARY:Bonsai Bombers at Major Dongs
DESCRIPTION;ENCODING=QUOTED-PRINTABLE:Bonsai Bombers at Major Dongs=0D=0A Time: 8:30 PM=0D=0A Location: Marymoor, Field 7
CLASS:PUBLIC
PRIORITY:5
BEGIN:VALARM
TRIGGER:-PT330M
ACTION:DISPLAY
DESCRIPTION:Reminder
END:VALARM
END:VEVENT
BEGIN:VEVENT
DTSTART:2019-07-31T01:00:00Z
DTEND:2019-07-31T03:30:00Z
LOCATION:MM6: Marymoor, Field 6
CATEGORIES:Softball,Bonsai Bombers,BB/SAA
UID:F9FD713C481E90488993EFEC8782B4F0:
DTSTAMP:2026-04-20T08:47:05Z:
SUMMARY:Hits Happen at Bonsai Bombers
DESCRIPTION;ENCODING=QUOTED-PRINTABLE:Hits Happen at Bonsai Bombers=0D=0A Time: 6:00 PM=0D=0A Location: Marymoor, Field 6
CLASS:PUBLIC
PRIORITY:5
BEGIN:VALARM
TRIGGER:-PT180M
ACTION:DISPLAY
DESCRIPTION:Reminder
END:VALARM
END:VEVENT
BEGIN:VEVENT
DTSTART:2019-08-07T01:00:00Z
DTEND:2019-08-07T03:30:00Z
LOCATION:MM6: Marymoor, Field 6
CATEGORIES:Softball,Bonsai Bombers,BB/SAA
UID:DE757E978D2D814D82D5AE815A45D72:
DTSTAMP:2026-04-20T08:47:05Z:
SUMMARY:JiveKitty.com at Bonsai Bombers
DESCRIPTION;ENCODING=QUOTED-PRINTABLE:JiveKitty.com at Bonsai Bombers=0D=0A Time: 6:00 PM=0D=0A Location: Marymoor, Field 6
CLASS:PUBLIC
PRIORITY:5
BEGIN:VALARM
TRIGGER:-PT180M
ACTION:DISPLAY
DESCRIPTION:Reminder
END:VALARM
END:VEVENT
BEGIN:VEVENT
DTSTART:2019-08-14T01:00:00Z
DTEND:2019-08-14T03:30:00Z
LOCATION:HV1: Hidden Valley, Field 1
CATEGORIES:Softball,Bonsai Bombers,BB/SAA
UID:C5972E8CECA5D4DAD163267DBA3688:
DTSTAMP:2026-04-20T08:47:05Z:
SUMMARY:Bonsai Bombers at Major Dongs
DESCRIPTION;ENCODING=QUOTED-PRINTABLE:Bonsai Bombers at Major Dongs=0D=0A Time: 6:00 PM=0D=0A Location: Hidden Valley, Field 1
CLASS:PUBLIC
PRIORITY:5
BEGIN:VALARM
TRIGGER:-PT180M
ACTION:DISPLAY
DESCRIPTION:Reminder
END:VALARM
END:VEVENT
BEGIN:VEVENT
DTSTART:2019-08-21T03:30:00Z
DTEND:2019-08-21T06:00:00Z
LOCATION:HP1: Highland Park, Field 1
CATEGORIES:Softball,Bonsai Bombers,BB/SAA
UID:554F6E5F9C4DB946BA33B9532DB823B:
DTSTAMP:2026-04-20T08:47:05Z:
SUMMARY:Bonsai Bombers at Hits Happen
DESCRIPTION;ENCODING=QUOTED-PRINTABLE:Bonsai Bombers at Hits Happen=0D=0A Time: 8:30 PM=0D=0A Location: Highland Park, Field 1
CLASS:PUBLIC
PRIORITY:5
BEGIN:VALARM
TRIGGER:-PT330M
ACTION:DISPLAY
DESCRIPTION:Reminder
END:VALARM
END:VEVENT
BEGIN:VEVENT
DTSTART:2019-08-28T01:00:00Z
DTEND:2019-08-28T03:30:00Z
LOCATION:MM7: Marymoor, Field 7
CATEGORIES:Softball,Bonsai Bombers,BB/SAA
UID:C1AF649D6867ED4297BEA48368336951:
DTSTAMP:2026-04-20T08:47:05Z:
SUMMARY:JiveKitty.com at Bonsai Bombers
DESCRIPTION;ENCODING=QUOTED-PRINTABLE:JiveKitty.com at Bonsai Bombers=0D=0A Time: 6:00 PM=0D=0A Location: Marymoor, Field 7
CLASS:PUBLIC
PRIORITY:5
BEGIN:VALARM
TRIGGER:-PT180M
ACTION:DISPLAY
DESCRIPTION:Reminder
END:VALARM
END:VEVENT
BEGIN:VEVENT
DTSTART:2019-09-11T01:00:00Z
DTEND:2019-09-11T03:30:00Z
LOCATION:HP1: Highland Park, Field 1
CATEGORIES:Softball,Bonsai Bombers,BB/SAA
UID:BF31F812C520AE4CBBADDECDAA5BC9E:
DTSTAMP:2026-04-20T08:47:05Z:
SUMMARY:Major Dongs at Bonsai Bombers
DESCRIPTION;ENCODING=QUOTED-PRINTABLE:Major Dongs at Bonsai Bombers=0D=0A Time: 6:00 PM=0D=0A Location: Highland Park, Field 1
CLASS:PUBLIC
PRIORITY:5
BEGIN:VALARM
TRIGGER:-PT180M
ACTION:DISPLAY
DESCRIPTION:Reminder
END:VALARM
END:VEVENT
END:VCALENDAR
