BEGIN:VCALENDAR
PRODID:-//Microsoft Corporation//Outlook 11.0 MIMEDIR//EN
VERSION:2.0
METHOD:PUBLISH
BEGIN:VEVENT
DTSTART:2019-07-09T01:00:00Z
DTEND:2019-07-09T03:30:00Z
LOCATION:HP1: Highland Park, Field 1
CATEGORIES:Softball,Pitches be Crazy,BB/SAA
UID:FE7BC5F39066184FB2715C2406C26D3:
DTSTAMP:2026-04-22T10:43:26Z:
SUMMARY:Pitches be Crazy at Pirates
DESCRIPTION;ENCODING=QUOTED-PRINTABLE:Pitches be Crazy at Pirates=0D=0A Time: 6:00 PM=0D=0A Location: Highland Park, Field 1
CLASS:PUBLIC
PRIORITY:5
BEGIN:VALARM
TRIGGER:-PT180M
ACTION:DISPLAY
DESCRIPTION:Reminder
END:VALARM
END:VEVENT
BEGIN:VEVENT
DTSTART:2019-07-16T01:00:00Z
DTEND:2019-07-16T03:30:00Z
LOCATION:HV1: Hidden Valley, Field 1
CATEGORIES:Softball,Pitches be Crazy,BB/SAA
UID:E1D717F1F1397448B4585D3932B9C75:
DTSTAMP:2026-04-22T10:43:26Z:
SUMMARY:Chix And Stix at Pitches be Crazy
DESCRIPTION;ENCODING=QUOTED-PRINTABLE:Chix And Stix at Pitches be Crazy=0D=0A Time: 6:00 PM=0D=0A Location: Hidden Valley, Field 1
CLASS:PUBLIC
PRIORITY:5
BEGIN:VALARM
TRIGGER:-PT180M
ACTION:DISPLAY
DESCRIPTION:Reminder
END:VALARM
END:VEVENT
BEGIN:VEVENT
DTSTART:2019-07-23T03:30:00Z
DTEND:2019-07-23T06:00:00Z
LOCATION:HP1: Highland Park, Field 1
CATEGORIES:Softball,Pitches be Crazy,BB/SAA
UID:17E4B5B8CACF1346981CDEB2D874292:
DTSTAMP:2026-04-22T10:43:26Z:
SUMMARY:Shotguns and Showels at Pitches be Crazy
DESCRIPTION;ENCODING=QUOTED-PRINTABLE:Shotguns and Showels at Pitches be Crazy=0D=0A Time: 8:30 PM=0D=0A Location: Highland Park, Field 1
CLASS:PUBLIC
PRIORITY:5
BEGIN:VALARM
TRIGGER:-PT330M
ACTION:DISPLAY
DESCRIPTION:Reminder
END:VALARM
END:VEVENT
BEGIN:VEVENT
DTSTART:2019-07-30T01:00:00Z
DTEND:2019-07-30T03:30:00Z
LOCATION:MM7: Marymoor, Field 7
CATEGORIES:Softball,Pitches be Crazy,BB/SAA
UID:89335A1EB4F51748A9AF246163246F8C:
DTSTAMP:2026-04-22T10:43:26Z:
SUMMARY:Pitches be Crazy at Pirates
DESCRIPTION;ENCODING=QUOTED-PRINTABLE:Pitches be Crazy at Pirates=0D=0A Time: 6:00 PM=0D=0A Location: Marymoor, Field 7
CLASS:PUBLIC
PRIORITY:5
BEGIN:VALARM
TRIGGER:-PT180M
ACTION:DISPLAY
DESCRIPTION:Reminder
END:VALARM
END:VEVENT
BEGIN:VEVENT
DTSTART:2019-08-06T01:00:00Z
DTEND:2019-08-06T03:30:00Z
LOCATION:HP1: Highland Park, Field 1
CATEGORIES:Softball,Pitches be Crazy,BB/SAA
UID:3D268C7924F482429B3BCAEFB9273B7:
DTSTAMP:2026-04-22T10:43:26Z:
SUMMARY:Pitches be Crazy at Chix And Stix
DESCRIPTION;ENCODING=QUOTED-PRINTABLE:Pitches be Crazy at Chix And Stix=0D=0A Time: 6:00 PM=0D=0A Location: Highland Park, Field 1
CLASS:PUBLIC
PRIORITY:5
BEGIN:VALARM
TRIGGER:-PT180M
ACTION:DISPLAY
DESCRIPTION:Reminder
END:VALARM
END:VEVENT
BEGIN:VEVENT
DTSTART:2019-08-13T01:00:00Z
DTEND:2019-08-13T03:30:00Z
LOCATION:MM7: Marymoor, Field 7
CATEGORIES:Softball,Pitches be Crazy,BB/SAA
UID:AA55BE51853E39479A45A6A12E4EFEEA:
DTSTAMP:2026-04-22T10:43:26Z:
SUMMARY:Shotguns and Showels at Pitches be Crazy
DESCRIPTION;ENCODING=QUOTED-PRINTABLE:Shotguns and Showels at Pitches be Crazy=0D=0A Time: 6:00 PM=0D=0A Location: Marymoor, Field 7
CLASS:PUBLIC
PRIORITY:5
BEGIN:VALARM
TRIGGER:-PT180M
ACTION:DISPLAY
DESCRIPTION:Reminder
END:VALARM
END:VEVENT
BEGIN:VEVENT
DTSTART:2019-08-20T03:30:00Z
DTEND:2019-08-20T06:00:00Z
LOCATION:HV1: Hidden Valley, Field 1
CATEGORIES:Softball,Pitches be Crazy,BB/SAA
UID:EA2021BC27A29F4AA1B0269A41C9A0F0:
DTSTAMP:2026-04-22T10:43:26Z:
SUMMARY:Pitches be Crazy at Pirates
DESCRIPTION;ENCODING=QUOTED-PRINTABLE:Pitches be Crazy at Pirates=0D=0A Time: 8:30 PM=0D=0A Location: Hidden Valley, Field 1
CLASS:PUBLIC
PRIORITY:5
BEGIN:VALARM
TRIGGER:-PT330M
ACTION:DISPLAY
DESCRIPTION:Reminder
END:VALARM
END:VEVENT
BEGIN:VEVENT
DTSTART:2019-08-27T03:30:00Z
DTEND:2019-08-27T06:00:00Z
LOCATION:HP1: Highland Park, Field 1
CATEGORIES:Softball,Pitches be Crazy,BB/SAA
UID:6CABFD1016A8C0459A55D0CE2D89AC42:
DTSTAMP:2026-04-22T10:43:26Z:
SUMMARY:Chix And Stix at Pitches be Crazy
DESCRIPTION;ENCODING=QUOTED-PRINTABLE:Chix And Stix at Pitches be Crazy=0D=0A Time: 8:30 PM=0D=0A Location: Highland Park, Field 1
CLASS:PUBLIC
PRIORITY:5
BEGIN:VALARM
TRIGGER:-PT330M
ACTION:DISPLAY
DESCRIPTION:Reminder
END:VALARM
END:VEVENT
BEGIN:VEVENT
DTSTART:2019-09-10T02:30:00Z
DTEND:2019-09-10T05:00:00Z
LOCATION:MM7: Marymoor, Field 7
CATEGORIES:Softball,Pitches be Crazy,BB/SAA
UID:396E784923D178479A481AD07E5D27B1:
DTSTAMP:2026-04-22T10:43:26Z:
SUMMARY:Pirates at Pitches be Crazy
DESCRIPTION;ENCODING=QUOTED-PRINTABLE:Pirates at Pitches be Crazy=0D=0A Time: 7:30 PM=0D=0A Location: Marymoor, Field 7
CLASS:PUBLIC
PRIORITY:5
BEGIN:VALARM
TRIGGER:-PT270M
ACTION:DISPLAY
DESCRIPTION:Reminder
END:VALARM
END:VEVENT
BEGIN:VEVENT
DTSTART:2019-09-17T02:30:00Z
DTEND:2019-09-17T05:00:00Z
LOCATION:HV1: Hidden Valley, Field 1
CATEGORIES:Softball,Pitches be Crazy,BB/SAA
UID:E201F4768FC7B4A88FE9893E268272:
DTSTAMP:2026-04-22T10:43:26Z:
SUMMARY:Pirates at Pitches be Crazy
DESCRIPTION;ENCODING=QUOTED-PRINTABLE:Pirates at Pitches be Crazy=0D=0A Time: 7:30 PM=0D=0A Location: Hidden Valley, Field 1
CLASS:PUBLIC
PRIORITY:5
BEGIN:VALARM
TRIGGER:-PT270M
ACTION:DISPLAY
DESCRIPTION:Reminder
END:VALARM
END:VEVENT
END:VCALENDAR
