BEGIN:VCALENDAR
PRODID:-//Microsoft Corporation//Outlook 11.0 MIMEDIR//EN
VERSION:2.0
METHOD:PUBLISH
BEGIN:VEVENT
DTSTART:2019-04-11T01:00:00Z
DTEND:2019-04-11T03:30:00Z
LOCATION:HP1: Highland Park, Field 1
CATEGORIES:Softball,Mad Dogs,BB/SAA
UID:7635BE2EBEFD9147ADF734ECAE6E5C1:
DTSTAMP:2026-04-22T08:55:13Z:
SUMMARY:BC Bombers at Mad Dogs
DESCRIPTION;ENCODING=QUOTED-PRINTABLE:BC Bombers at Mad Dogs=0D=0A Time: 6:00 PM=0D=0A Location: Highland Park, Field 1
CLASS:PUBLIC
PRIORITY:5
BEGIN:VALARM
TRIGGER:-PT180M
ACTION:DISPLAY
DESCRIPTION:Reminder
END:VALARM
END:VEVENT
BEGIN:VEVENT
DTSTART:2019-04-18T01:00:00Z
DTEND:2019-04-18T03:30:00Z
LOCATION:HP1: Highland Park, Field 1
CATEGORIES:Softball,Mad Dogs,BB/SAA
UID:EAB68875BEA722448D1A3F75F667D13:
DTSTAMP:2026-04-22T08:55:13Z:
SUMMARY:Mad Dogs at Goose Pub 1
DESCRIPTION;ENCODING=QUOTED-PRINTABLE:Mad Dogs at Goose Pub 1=0D=0A Time: 6:00 PM=0D=0A Location: Highland Park, Field 1
CLASS:PUBLIC
PRIORITY:5
BEGIN:VALARM
TRIGGER:-PT180M
ACTION:DISPLAY
DESCRIPTION:Reminder
END:VALARM
END:VEVENT
BEGIN:VEVENT
DTSTART:2019-04-25T03:30:00Z
DTEND:2019-04-25T06:00:00Z
LOCATION:HV1: Hidden Valley, Field 1
CATEGORIES:Softball,Mad Dogs,BB/SAA
UID:7CC70DB5C3A4540A3027EB5D39E431:
DTSTAMP:2026-04-22T08:55:13Z:
SUMMARY:Mad Dogs at Team Shocker
DESCRIPTION;ENCODING=QUOTED-PRINTABLE:Mad Dogs at Team Shocker=0D=0A Time: 8:30 PM=0D=0A Location: Hidden Valley, Field 1
CLASS:PUBLIC
PRIORITY:5
BEGIN:VALARM
TRIGGER:-PT330M
ACTION:DISPLAY
DESCRIPTION:Reminder
END:VALARM
END:VEVENT
BEGIN:VEVENT
DTSTART:2019-05-02T01:00:00Z
DTEND:2019-05-02T03:30:00Z
LOCATION:HP1: Highland Park, Field 1
CATEGORIES:Softball,Mad Dogs,BB/SAA
UID:E9B5825865EB14387793F514863C:
DTSTAMP:2026-04-22T08:55:13Z:
SUMMARY:USCutter at Mad Dogs
DESCRIPTION;ENCODING=QUOTED-PRINTABLE:USCutter at Mad Dogs=0D=0A Time: 6:00 PM=0D=0A Location: Highland Park, Field 1
CLASS:PUBLIC
PRIORITY:5
BEGIN:VALARM
TRIGGER:-PT180M
ACTION:DISPLAY
DESCRIPTION:Reminder
END:VALARM
END:VEVENT
BEGIN:VEVENT
DTSTART:2019-05-09T01:00:00Z
DTEND:2019-05-09T03:30:00Z
LOCATION:MM7: Marymoor, Field 7
CATEGORIES:Softball,Mad Dogs,BB/SAA
UID:40CEB5FC16C2794BBCBB2F28EC30F4F9:
DTSTAMP:2026-04-22T08:55:13Z:
SUMMARY:Mad Dogs at Almost Pro
DESCRIPTION;ENCODING=QUOTED-PRINTABLE:Mad Dogs at Almost Pro=0D=0A Time: 6:00 PM=0D=0A Location: Marymoor, Field 7
CLASS:PUBLIC
PRIORITY:5
BEGIN:VALARM
TRIGGER:-PT180M
ACTION:DISPLAY
DESCRIPTION:Reminder
END:VALARM
END:VEVENT
BEGIN:VEVENT
DTSTART:2019-05-23T03:30:00Z
DTEND:2019-05-23T06:00:00Z
LOCATION:HP1: Highland Park, Field 1
CATEGORIES:Softball,Mad Dogs,BB/SAA
UID:2E23ECC28AB654EA07FD0C7B15E2645:
DTSTAMP:2026-04-22T08:55:13Z:
SUMMARY:Playing It Hard! at Mad Dogs
DESCRIPTION;ENCODING=QUOTED-PRINTABLE:Playing It Hard! at Mad Dogs=0D=0A Time: 8:30 PM=0D=0A Location: Highland Park, Field 1
CLASS:PUBLIC
PRIORITY:5
BEGIN:VALARM
TRIGGER:-PT330M
ACTION:DISPLAY
DESCRIPTION:Reminder
END:VALARM
END:VEVENT
BEGIN:VEVENT
DTSTART:2019-05-30T01:00:00Z
DTEND:2019-05-30T03:30:00Z
LOCATION:HV1: Hidden Valley, Field 1
CATEGORIES:Softball,Mad Dogs,BB/SAA
UID:2344746AA21D804D8A2792D87127809B:
DTSTAMP:2026-04-22T08:55:13Z:
SUMMARY:Trane Wreck at Mad Dogs
DESCRIPTION;ENCODING=QUOTED-PRINTABLE:Trane Wreck at Mad Dogs=0D=0A Time: 6:00 PM=0D=0A Location: Hidden Valley, Field 1
CLASS:PUBLIC
PRIORITY:5
BEGIN:VALARM
TRIGGER:-PT180M
ACTION:DISPLAY
DESCRIPTION:Reminder
END:VALARM
END:VEVENT
BEGIN:VEVENT
DTSTART:2019-06-06T01:00:00Z
DTEND:2019-06-06T03:30:00Z
LOCATION:HP1: Highland Park, Field 1
CATEGORIES:Softball,Mad Dogs,BB/SAA
UID:2EEF24C9ACF9CE44A484C9D3CC144EB8:
DTSTAMP:2026-04-22T08:55:13Z:
SUMMARY:Mad Dogs at Wolfpack
DESCRIPTION;ENCODING=QUOTED-PRINTABLE:Mad Dogs at Wolfpack=0D=0A Time: 6:00 PM=0D=0A Location: Highland Park, Field 1
CLASS:PUBLIC
PRIORITY:5
BEGIN:VALARM
TRIGGER:-PT180M
ACTION:DISPLAY
DESCRIPTION:Reminder
END:VALARM
END:VEVENT
BEGIN:VEVENT
DTSTART:2019-06-13T01:00:00Z
DTEND:2019-06-13T03:30:00Z
LOCATION:HP1: Highland Park, Field 1
CATEGORIES:Softball,Mad Dogs,BB/SAA
UID:DD935EC9356EDE47B4B833C1696BC319:
DTSTAMP:2026-04-22T08:55:13Z:
SUMMARY:BC Bombers at Mad Dogs
DESCRIPTION;ENCODING=QUOTED-PRINTABLE:BC Bombers at Mad Dogs=0D=0A Time: 6:00 PM=0D=0A Location: Highland Park, Field 1
CLASS:PUBLIC
PRIORITY:5
BEGIN:VALARM
TRIGGER:-PT180M
ACTION:DISPLAY
DESCRIPTION:Reminder
END:VALARM
END:VEVENT
END:VCALENDAR
