BEGIN:VCALENDAR
PRODID:-//Microsoft Corporation//Outlook 11.0 MIMEDIR//EN
VERSION:2.0
METHOD:PUBLISH
BEGIN:VEVENT
DTSTART:2019-04-11T01:00:00Z
DTEND:2019-04-11T03:30:00Z
LOCATION:HP1: Highland Park, Field 1
CATEGORIES:Softball,BC Bombers,BB/SAA
UID:E5A18561B467674292B2F48133E176F5:
DTSTAMP:2026-04-20T11:50:54Z:
SUMMARY:BC Bombers at Mad Dogs
DESCRIPTION;ENCODING=QUOTED-PRINTABLE:BC Bombers at Mad Dogs=0D=0A Time: 6:00 PM=0D=0A Location: Highland Park, Field 1
CLASS:PUBLIC
PRIORITY:5
BEGIN:VALARM
TRIGGER:-PT180M
ACTION:DISPLAY
DESCRIPTION:Reminder
END:VALARM
END:VEVENT
BEGIN:VEVENT
DTSTART:2019-04-18T03:30:00Z
DTEND:2019-04-18T06:00:00Z
LOCATION:MM8: Marymoor, Field 8
CATEGORIES:Softball,BC Bombers,BB/SAA
UID:8DB99FFB22CB7F4197B236F0A9BEC538:
DTSTAMP:2026-04-20T11:50:54Z:
SUMMARY:Team Shocker at BC Bombers
DESCRIPTION;ENCODING=QUOTED-PRINTABLE:Team Shocker at BC Bombers=0D=0A Time: 8:30 PM=0D=0A Location: Marymoor, Field 8
CLASS:PUBLIC
PRIORITY:5
BEGIN:VALARM
TRIGGER:-PT330M
ACTION:DISPLAY
DESCRIPTION:Reminder
END:VALARM
END:VEVENT
BEGIN:VEVENT
DTSTART:2019-04-25T01:00:00Z
DTEND:2019-04-25T03:30:00Z
LOCATION:MM8: Marymoor, Field 8
CATEGORIES:Softball,BC Bombers,BB/SAA
UID:DA8DB5C9905BC94A92FE3AA7B45EF70:
DTSTAMP:2026-04-20T11:50:54Z:
SUMMARY:BC Bombers at USCutter
DESCRIPTION;ENCODING=QUOTED-PRINTABLE:BC Bombers at USCutter=0D=0A Time: 6:00 PM=0D=0A Location: Marymoor, Field 8
CLASS:PUBLIC
PRIORITY:5
BEGIN:VALARM
TRIGGER:-PT180M
ACTION:DISPLAY
DESCRIPTION:Reminder
END:VALARM
END:VEVENT
BEGIN:VEVENT
DTSTART:2019-05-02T03:30:00Z
DTEND:2019-05-02T06:00:00Z
LOCATION:MM8: Marymoor, Field 8
CATEGORIES:Softball,BC Bombers,BB/SAA
UID:C7FA98B894793B499B95D3A5AB207EEE:
DTSTAMP:2026-04-20T11:50:54Z:
SUMMARY:BC Bombers at Almost Pro
DESCRIPTION;ENCODING=QUOTED-PRINTABLE:BC Bombers at Almost Pro=0D=0A Time: 8:30 PM=0D=0A Location: Marymoor, Field 8
CLASS:PUBLIC
PRIORITY:5
BEGIN:VALARM
TRIGGER:-PT330M
ACTION:DISPLAY
DESCRIPTION:Reminder
END:VALARM
END:VEVENT
BEGIN:VEVENT
DTSTART:2019-05-16T03:30:00Z
DTEND:2019-05-16T06:00:00Z
LOCATION:HV1: Hidden Valley, Field 1
CATEGORIES:Softball,BC Bombers,BB/SAA
UID:25E261808C19AE43BAB0265287302EBD:
DTSTAMP:2026-04-20T11:50:54Z:
SUMMARY:BC Bombers at Playing It Hard!
DESCRIPTION;ENCODING=QUOTED-PRINTABLE:BC Bombers at Playing It Hard!=0D=0A Time: 8:30 PM=0D=0A Location: Hidden Valley, Field 1
CLASS:PUBLIC
PRIORITY:5
BEGIN:VALARM
TRIGGER:-PT330M
ACTION:DISPLAY
DESCRIPTION:Reminder
END:VALARM
END:VEVENT
BEGIN:VEVENT
DTSTART:2019-05-23T01:00:00Z
DTEND:2019-05-23T03:30:00Z
LOCATION:MM8: Marymoor, Field 8
CATEGORIES:Softball,BC Bombers,BB/SAA
UID:F92FCFC81C44DF45AC1D4CF44C813DE:
DTSTAMP:2026-04-20T11:50:54Z:
SUMMARY:Trane Wreck at BC Bombers
DESCRIPTION;ENCODING=QUOTED-PRINTABLE:Trane Wreck at BC Bombers=0D=0A Time: 6:00 PM=0D=0A Location: Marymoor, Field 8
CLASS:PUBLIC
PRIORITY:5
BEGIN:VALARM
TRIGGER:-PT180M
ACTION:DISPLAY
DESCRIPTION:Reminder
END:VALARM
END:VEVENT
BEGIN:VEVENT
DTSTART:2019-05-30T03:30:00Z
DTEND:2019-05-30T06:00:00Z
LOCATION:MM7: Marymoor, Field 7
CATEGORIES:Softball,BC Bombers,BB/SAA
UID:C0EB1FCE21E55C4CB6135F78368E310:
DTSTAMP:2026-04-20T11:50:54Z:
SUMMARY:Wolfpack at BC Bombers
DESCRIPTION;ENCODING=QUOTED-PRINTABLE:Wolfpack at BC Bombers=0D=0A Time: 8:30 PM=0D=0A Location: Marymoor, Field 7
CLASS:PUBLIC
PRIORITY:5
BEGIN:VALARM
TRIGGER:-PT330M
ACTION:DISPLAY
DESCRIPTION:Reminder
END:VALARM
END:VEVENT
BEGIN:VEVENT
DTSTART:2019-06-06T01:00:00Z
DTEND:2019-06-06T03:30:00Z
LOCATION:HV1: Hidden Valley, Field 1
CATEGORIES:Softball,BC Bombers,BB/SAA
UID:62E2C7799CC35F4593A2A05689F51E81:
DTSTAMP:2026-04-20T11:50:54Z:
SUMMARY:Goose Pub 1 at BC Bombers
DESCRIPTION;ENCODING=QUOTED-PRINTABLE:Goose Pub 1 at BC Bombers=0D=0A Time: 6:00 PM=0D=0A Location: Hidden Valley, Field 1
CLASS:PUBLIC
PRIORITY:5
BEGIN:VALARM
TRIGGER:-PT180M
ACTION:DISPLAY
DESCRIPTION:Reminder
END:VALARM
END:VEVENT
BEGIN:VEVENT
DTSTART:2019-06-13T01:00:00Z
DTEND:2019-06-13T03:30:00Z
LOCATION:HP1: Highland Park, Field 1
CATEGORIES:Softball,BC Bombers,BB/SAA
UID:C956B3A83885CD4EA534B1E4ADA1E15E:
DTSTAMP:2026-04-20T11:50:54Z:
SUMMARY:BC Bombers at Mad Dogs
DESCRIPTION;ENCODING=QUOTED-PRINTABLE:BC Bombers at Mad Dogs=0D=0A Time: 6:00 PM=0D=0A Location: Highland Park, Field 1
CLASS:PUBLIC
PRIORITY:5
BEGIN:VALARM
TRIGGER:-PT180M
ACTION:DISPLAY
DESCRIPTION:Reminder
END:VALARM
END:VEVENT
END:VCALENDAR
