BEGIN:VCALENDAR
PRODID:-//Microsoft Corporation//Outlook 11.0 MIMEDIR//EN
VERSION:2.0
METHOD:PUBLISH
BEGIN:VEVENT
DTSTART:2019-04-11T03:30:00Z
DTEND:2019-04-11T06:00:00Z
LOCATION:MM8: Marymoor, Field 8
CATEGORIES:Softball,Trane Wreck,BB/SAA
UID:32C463314F248B4C83D676170CB57A7:
DTSTAMP:2026-04-20T11:48:23Z:
SUMMARY:USCutter at Trane Wreck
DESCRIPTION;ENCODING=QUOTED-PRINTABLE:USCutter at Trane Wreck=0D=0A Time: 8:30 PM=0D=0A Location: Marymoor, Field 8
CLASS:PUBLIC
PRIORITY:5
BEGIN:VALARM
TRIGGER:-PT330M
ACTION:DISPLAY
DESCRIPTION:Reminder
END:VALARM
END:VEVENT
BEGIN:VEVENT
DTSTART:2019-04-18T01:00:00Z
DTEND:2019-04-18T03:30:00Z
LOCATION:HV1: Hidden Valley, Field 1
CATEGORIES:Softball,Trane Wreck,BB/SAA
UID:8CA20DF66188B4086B040ED9883EFC5:
DTSTAMP:2026-04-20T11:48:23Z:
SUMMARY:Trane Wreck at Almost Pro
DESCRIPTION;ENCODING=QUOTED-PRINTABLE:Trane Wreck at Almost Pro=0D=0A Time: 6:00 PM=0D=0A Location: Hidden Valley, Field 1
CLASS:PUBLIC
PRIORITY:5
BEGIN:VALARM
TRIGGER:-PT180M
ACTION:DISPLAY
DESCRIPTION:Reminder
END:VALARM
END:VEVENT
BEGIN:VEVENT
DTSTART:2019-05-02T01:00:00Z
DTEND:2019-05-02T03:30:00Z
LOCATION:MM7: Marymoor, Field 7
CATEGORIES:Softball,Trane Wreck,BB/SAA
UID:D3E53CF2A9F1449A98B686E209332FF:
DTSTAMP:2026-04-20T11:48:23Z:
SUMMARY:Playing It Hard! at Trane Wreck
DESCRIPTION;ENCODING=QUOTED-PRINTABLE:Playing It Hard! at Trane Wreck=0D=0A Time: 6:00 PM=0D=0A Location: Marymoor, Field 7
CLASS:PUBLIC
PRIORITY:5
BEGIN:VALARM
TRIGGER:-PT180M
ACTION:DISPLAY
DESCRIPTION:Reminder
END:VALARM
END:VEVENT
BEGIN:VEVENT
DTSTART:2019-05-09T03:30:00Z
DTEND:2019-05-09T06:00:00Z
LOCATION:HV1: Hidden Valley, Field 1
CATEGORIES:Softball,Trane Wreck,BB/SAA
UID:4F51D44FF9CD141BBF1CDC75CE458CC:
DTSTAMP:2026-04-20T11:48:23Z:
SUMMARY:Goose Pub 1 at Trane Wreck
DESCRIPTION;ENCODING=QUOTED-PRINTABLE:Goose Pub 1 at Trane Wreck=0D=0A Time: 8:30 PM=0D=0A Location: Hidden Valley, Field 1
CLASS:PUBLIC
PRIORITY:5
BEGIN:VALARM
TRIGGER:-PT330M
ACTION:DISPLAY
DESCRIPTION:Reminder
END:VALARM
END:VEVENT
BEGIN:VEVENT
DTSTART:2019-05-16T01:00:00Z
DTEND:2019-05-16T03:30:00Z
LOCATION:MM8: Marymoor, Field 8
CATEGORIES:Softball,Trane Wreck,BB/SAA
UID:9C6A6D1589B124ABC98789CDABE1FB:
DTSTAMP:2026-04-20T11:48:23Z:
SUMMARY:Trane Wreck at Wolfpack
DESCRIPTION;ENCODING=QUOTED-PRINTABLE:Trane Wreck at Wolfpack=0D=0A Time: 6:00 PM=0D=0A Location: Marymoor, Field 8
CLASS:PUBLIC
PRIORITY:5
BEGIN:VALARM
TRIGGER:-PT180M
ACTION:DISPLAY
DESCRIPTION:Reminder
END:VALARM
END:VEVENT
BEGIN:VEVENT
DTSTART:2019-05-23T01:00:00Z
DTEND:2019-05-23T03:30:00Z
LOCATION:MM8: Marymoor, Field 8
CATEGORIES:Softball,Trane Wreck,BB/SAA
UID:CDD65949324283419B6A8F54D8301E66:
DTSTAMP:2026-04-20T11:48:23Z:
SUMMARY:Trane Wreck at BC Bombers
DESCRIPTION;ENCODING=QUOTED-PRINTABLE:Trane Wreck at BC Bombers=0D=0A Time: 6:00 PM=0D=0A Location: Marymoor, Field 8
CLASS:PUBLIC
PRIORITY:5
BEGIN:VALARM
TRIGGER:-PT180M
ACTION:DISPLAY
DESCRIPTION:Reminder
END:VALARM
END:VEVENT
BEGIN:VEVENT
DTSTART:2019-05-30T01:00:00Z
DTEND:2019-05-30T03:30:00Z
LOCATION:HV1: Hidden Valley, Field 1
CATEGORIES:Softball,Trane Wreck,BB/SAA
UID:78563925A8953F43A8940A72DCBAD8C:
DTSTAMP:2026-04-20T11:48:23Z:
SUMMARY:Trane Wreck at Mad Dogs
DESCRIPTION;ENCODING=QUOTED-PRINTABLE:Trane Wreck at Mad Dogs=0D=0A Time: 6:00 PM=0D=0A Location: Hidden Valley, Field 1
CLASS:PUBLIC
PRIORITY:5
BEGIN:VALARM
TRIGGER:-PT180M
ACTION:DISPLAY
DESCRIPTION:Reminder
END:VALARM
END:VEVENT
BEGIN:VEVENT
DTSTART:2019-06-06T03:30:00Z
DTEND:2019-06-06T06:00:00Z
LOCATION:HV1: Hidden Valley, Field 1
CATEGORIES:Softball,Trane Wreck,BB/SAA
UID:EBD61BA46A9F4F45826CC71F14405F66:
DTSTAMP:2026-04-20T11:48:23Z:
SUMMARY:Team Shocker at Trane Wreck
DESCRIPTION;ENCODING=QUOTED-PRINTABLE:Team Shocker at Trane Wreck=0D=0A Time: 8:30 PM=0D=0A Location: Hidden Valley, Field 1
CLASS:PUBLIC
PRIORITY:5
BEGIN:VALARM
TRIGGER:-PT330M
ACTION:DISPLAY
DESCRIPTION:Reminder
END:VALARM
END:VEVENT
BEGIN:VEVENT
DTSTART:2019-06-13T03:30:00Z
DTEND:2019-06-13T06:00:00Z
LOCATION:HV1: Hidden Valley, Field 1
CATEGORIES:Softball,Trane Wreck,BB/SAA
UID:F66E2932499EB49A7D69BF5E1462EF9:
DTSTAMP:2026-04-20T11:48:23Z:
SUMMARY:USCutter at Trane Wreck
DESCRIPTION;ENCODING=QUOTED-PRINTABLE:USCutter at Trane Wreck=0D=0A Time: 8:30 PM=0D=0A Location: Hidden Valley, Field 1
CLASS:PUBLIC
PRIORITY:5
BEGIN:VALARM
TRIGGER:-PT330M
ACTION:DISPLAY
DESCRIPTION:Reminder
END:VALARM
END:VEVENT
END:VCALENDAR
