BEGIN:VCALENDAR
PRODID:-//Microsoft Corporation//Outlook 11.0 MIMEDIR//EN
VERSION:2.0
METHOD:PUBLISH
BEGIN:VEVENT
DTSTART:2019-04-12T01:00:00Z
DTEND:2019-04-12T03:30:00Z
LOCATION:HP1: Highland Park, Field 1
CATEGORIES:Softball,Booze on First,BB/SAA
UID:8227BAD02225BD4E90AD4CA2EAEC49FC:
DTSTAMP:2026-04-20T11:54:07Z:
SUMMARY:Regulators at Booze on First
DESCRIPTION;ENCODING=QUOTED-PRINTABLE:Regulators at Booze on First=0D=0A Time: 6:00 PM=0D=0A Location: Highland Park, Field 1
CLASS:PUBLIC
PRIORITY:5
BEGIN:VALARM
TRIGGER:-PT180M
ACTION:DISPLAY
DESCRIPTION:Reminder
END:VALARM
END:VEVENT
BEGIN:VEVENT
DTSTART:2019-04-19T03:30:00Z
DTEND:2019-04-19T06:00:00Z
LOCATION:HV1: Hidden Valley, Field 1
CATEGORIES:Softball,Booze on First,BB/SAA
UID:655D4AE5443247B892ADC7AE8EC:
DTSTAMP:2026-04-20T11:54:07Z:
SUMMARY:Booze on First at Schmidtty Hitters
DESCRIPTION;ENCODING=QUOTED-PRINTABLE:Booze on First at Schmidtty Hitters=0D=0A Time: 8:30 PM=0D=0A Location: Hidden Valley, Field 1
CLASS:PUBLIC
PRIORITY:5
BEGIN:VALARM
TRIGGER:-PT330M
ACTION:DISPLAY
DESCRIPTION:Reminder
END:VALARM
END:VEVENT
BEGIN:VEVENT
DTSTART:2019-04-26T01:00:00Z
DTEND:2019-04-26T03:30:00Z
LOCATION:HV1: Hidden Valley, Field 1
CATEGORIES:Softball,Booze on First,BB/SAA
UID:A16947BB0A0664D81CA175C744AD3:
DTSTAMP:2026-04-20T11:54:07Z:
SUMMARY:Base Invaders at Booze on First
DESCRIPTION;ENCODING=QUOTED-PRINTABLE:Base Invaders at Booze on First=0D=0A Time: 6:00 PM=0D=0A Location: Hidden Valley, Field 1
CLASS:PUBLIC
PRIORITY:5
BEGIN:VALARM
TRIGGER:-PT180M
ACTION:DISPLAY
DESCRIPTION:Reminder
END:VALARM
END:VEVENT
BEGIN:VEVENT
DTSTART:2019-05-03T01:00:00Z
DTEND:2019-05-03T03:30:00Z
LOCATION:HP1: Highland Park, Field 1
CATEGORIES:Softball,Booze on First,BB/SAA
UID:A31C3CE456DE046AD14383E1B9D0:
DTSTAMP:2026-04-20T11:54:07Z:
SUMMARY:Booze on First at One Hit Wonders
DESCRIPTION;ENCODING=QUOTED-PRINTABLE:Booze on First at One Hit Wonders=0D=0A Time: 6:00 PM=0D=0A Location: Highland Park, Field 1
CLASS:PUBLIC
PRIORITY:5
BEGIN:VALARM
TRIGGER:-PT180M
ACTION:DISPLAY
DESCRIPTION:Reminder
END:VALARM
END:VEVENT
BEGIN:VEVENT
DTSTART:2019-05-10T01:00:00Z
DTEND:2019-05-10T03:30:00Z
LOCATION:HP1: Highland Park, Field 1
CATEGORIES:Softball,Booze on First,BB/SAA
UID:60CCD847E5AED44B9D611445DDC5CA30:
DTSTAMP:2026-04-20T11:54:07Z:
SUMMARY:Booze on First at Ryan Companies
DESCRIPTION;ENCODING=QUOTED-PRINTABLE:Booze on First at Ryan Companies=0D=0A Time: 6:00 PM=0D=0A Location: Highland Park, Field 1
CLASS:PUBLIC
PRIORITY:5
BEGIN:VALARM
TRIGGER:-PT180M
ACTION:DISPLAY
DESCRIPTION:Reminder
END:VALARM
END:VEVENT
BEGIN:VEVENT
DTSTART:2019-05-17T03:30:00Z
DTEND:2019-05-17T06:00:00Z
LOCATION:HP1: Highland Park, Field 1
CATEGORIES:Softball,Booze on First,BB/SAA
UID:C2E1BA5CC25C70428AA431B88745266:
DTSTAMP:2026-04-20T11:54:07Z:
SUMMARY:Booze on First at Bellevue Presbyterian
DESCRIPTION;ENCODING=QUOTED-PRINTABLE:Booze on First at Bellevue Presbyterian=0D=0A Time: 8:30 PM=0D=0A Location: Highland Park, Field 1
CLASS:PUBLIC
PRIORITY:5
BEGIN:VALARM
TRIGGER:-PT330M
ACTION:DISPLAY
DESCRIPTION:Reminder
END:VALARM
END:VEVENT
BEGIN:VEVENT
DTSTART:2019-05-24T03:30:00Z
DTEND:2019-05-24T06:00:00Z
LOCATION:HV1: Hidden Valley, Field 1
CATEGORIES:Softball,Booze on First,BB/SAA
UID:C691E0C69534F498FC1BAF7187BC98:
DTSTAMP:2026-04-20T11:54:07Z:
SUMMARY:No Glove, No Love at Booze on First
DESCRIPTION;ENCODING=QUOTED-PRINTABLE:No Glove, No Love at Booze on First=0D=0A Time: 8:30 PM=0D=0A Location: Hidden Valley, Field 1
CLASS:PUBLIC
PRIORITY:5
BEGIN:VALARM
TRIGGER:-PT330M
ACTION:DISPLAY
DESCRIPTION:Reminder
END:VALARM
END:VEVENT
BEGIN:VEVENT
DTSTART:2019-05-31T03:30:00Z
DTEND:2019-05-31T06:00:00Z
LOCATION:HP1: Highland Park, Field 1
CATEGORIES:Softball,Booze on First,BB/SAA
UID:B2BC12B76EFD1949B6F261F69E9E7FD5:
DTSTAMP:2026-04-20T11:54:07Z:
SUMMARY:Regulators at Booze on First
DESCRIPTION;ENCODING=QUOTED-PRINTABLE:Regulators at Booze on First=0D=0A Time: 8:30 PM=0D=0A Location: Highland Park, Field 1
CLASS:PUBLIC
PRIORITY:5
BEGIN:VALARM
TRIGGER:-PT330M
ACTION:DISPLAY
DESCRIPTION:Reminder
END:VALARM
END:VEVENT
BEGIN:VEVENT
DTSTART:2019-06-07T01:00:00Z
DTEND:2019-06-07T03:30:00Z
LOCATION:HV1: Hidden Valley, Field 1
CATEGORIES:Softball,Booze on First,BB/SAA
UID:D1F2D7F1C5247F429ECDCA8664F59D1D:
DTSTAMP:2026-04-20T11:54:07Z:
SUMMARY:Regulators at Booze on First
DESCRIPTION;ENCODING=QUOTED-PRINTABLE:Regulators at Booze on First=0D=0A Time: 6:00 PM=0D=0A Location: Hidden Valley, Field 1
CLASS:PUBLIC
PRIORITY:5
BEGIN:VALARM
TRIGGER:-PT180M
ACTION:DISPLAY
DESCRIPTION:Reminder
END:VALARM
END:VEVENT
BEGIN:VEVENT
DTSTART:2019-06-13T01:00:00Z
DTEND:2019-06-13T03:30:00Z
LOCATION:MM7: Marymoor, Field 7
CATEGORIES:Softball,Booze on First,BB/SAA
UID:D77F0CBB42C7947A91A71E02D20EF1D:
DTSTAMP:2026-04-20T11:54:07Z:
SUMMARY:Booze on First at Bellevue Presbyterian
DESCRIPTION;ENCODING=QUOTED-PRINTABLE:Booze on First at Bellevue Presbyterian=0D=0A Time: 6:00 PM=0D=0A Location: Marymoor, Field 7
CLASS:PUBLIC
PRIORITY:5
BEGIN:VALARM
TRIGGER:-PT180M
ACTION:DISPLAY
DESCRIPTION:Reminder
END:VALARM
END:VEVENT
BEGIN:VEVENT
DTSTART:2019-06-21T02:15:00Z
DTEND:2019-06-21T04:45:00Z
LOCATION:HV1: Hidden Valley, Field 1
CATEGORIES:Softball,Booze on First,BB/SAA
UID:DCC59862D78A21488B9D2DD074A4F10:
DTSTAMP:2026-04-20T11:54:07Z:
SUMMARY:Bellevue Presbyterian at Booze on First
DESCRIPTION;ENCODING=QUOTED-PRINTABLE:Bellevue Presbyterian at Booze on First=0D=0A Time: 7:15 PM=0D=0A Location: Hidden Valley, Field 1
CLASS:PUBLIC
PRIORITY:5
BEGIN:VALARM
TRIGGER:-PT255M
ACTION:DISPLAY
DESCRIPTION:Reminder
END:VALARM
END:VEVENT
BEGIN:VEVENT
DTSTART:2019-06-21T04:45:00Z
DTEND:2019-06-21T07:15:00Z
LOCATION:HV1: Hidden Valley, Field 1
CATEGORIES:Softball,Booze on First,BB/SAA
UID:437FC39C20F0D41B466918B354EE831:
DTSTAMP:2026-04-20T11:54:07Z:
SUMMARY:Schmidtty Hitters at Booze on First
DESCRIPTION;ENCODING=QUOTED-PRINTABLE:Schmidtty Hitters at Booze on First=0D=0A Time: 9:45 PM=0D=0A Location: Hidden Valley, Field 1
CLASS:PUBLIC
PRIORITY:5
BEGIN:VALARM
TRIGGER:-PT405M
ACTION:DISPLAY
DESCRIPTION:Reminder
END:VALARM
END:VEVENT
END:VCALENDAR
