BEGIN:VCALENDAR
PRODID:-//Microsoft Corporation//Outlook 11.0 MIMEDIR//EN
VERSION:2.0
METHOD:PUBLISH
BEGIN:VEVENT
DTSTART:2019-04-12T03:30:00Z
DTEND:2019-04-12T06:00:00Z
LOCATION:HV1: Hidden Valley, Field 1
CATEGORIES:Softball,One Hit Wonders,BB/SAA
UID:F482846A528244EBE295596B40C67:
DTSTAMP:2026-04-20T11:55:31Z:
SUMMARY:One Hit Wonders at No Glove, No Love
DESCRIPTION;ENCODING=QUOTED-PRINTABLE:One Hit Wonders at No Glove, No Love=0D=0A Time: 8:30 PM=0D=0A Location: Hidden Valley, Field 1
CLASS:PUBLIC
PRIORITY:5
BEGIN:VALARM
TRIGGER:-PT330M
ACTION:DISPLAY
DESCRIPTION:Reminder
END:VALARM
END:VEVENT
BEGIN:VEVENT
DTSTART:2019-04-19T03:30:00Z
DTEND:2019-04-19T06:00:00Z
LOCATION:HP1: Highland Park, Field 1
CATEGORIES:Softball,One Hit Wonders,BB/SAA
UID:867F34741A141B4DBDCFFE4EB2AEE80:
DTSTAMP:2026-04-20T11:55:31Z:
SUMMARY:One Hit Wonders at Regulators
DESCRIPTION;ENCODING=QUOTED-PRINTABLE:One Hit Wonders at Regulators=0D=0A Time: 8:30 PM=0D=0A Location: Highland Park, Field 1
CLASS:PUBLIC
PRIORITY:5
BEGIN:VALARM
TRIGGER:-PT330M
ACTION:DISPLAY
DESCRIPTION:Reminder
END:VALARM
END:VEVENT
BEGIN:VEVENT
DTSTART:2019-04-26T03:30:00Z
DTEND:2019-04-26T06:00:00Z
LOCATION:HP1: Highland Park, Field 1
CATEGORIES:Softball,One Hit Wonders,BB/SAA
UID:A0F44ECFA517BA46A2F82C2E5E478852:
DTSTAMP:2026-04-20T11:55:31Z:
SUMMARY:Schmidtty Hitters at One Hit Wonders
DESCRIPTION;ENCODING=QUOTED-PRINTABLE:Schmidtty Hitters at One Hit Wonders=0D=0A Time: 8:30 PM=0D=0A Location: Highland Park, Field 1
CLASS:PUBLIC
PRIORITY:5
BEGIN:VALARM
TRIGGER:-PT330M
ACTION:DISPLAY
DESCRIPTION:Reminder
END:VALARM
END:VEVENT
BEGIN:VEVENT
DTSTART:2019-05-03T01:00:00Z
DTEND:2019-05-03T03:30:00Z
LOCATION:HP1: Highland Park, Field 1
CATEGORIES:Softball,One Hit Wonders,BB/SAA
UID:1D7F8D94D3C9464A9495715276FAF266:
DTSTAMP:2026-04-20T11:55:31Z:
SUMMARY:Booze on First at One Hit Wonders
DESCRIPTION;ENCODING=QUOTED-PRINTABLE:Booze on First at One Hit Wonders=0D=0A Time: 6:00 PM=0D=0A Location: Highland Park, Field 1
CLASS:PUBLIC
PRIORITY:5
BEGIN:VALARM
TRIGGER:-PT180M
ACTION:DISPLAY
DESCRIPTION:Reminder
END:VALARM
END:VEVENT
BEGIN:VEVENT
DTSTART:2019-05-10T03:30:00Z
DTEND:2019-05-10T06:00:00Z
LOCATION:HP1: Highland Park, Field 1
CATEGORIES:Softball,One Hit Wonders,BB/SAA
UID:D7CF22BBA6EAC243BB772E5A8469E25:
DTSTAMP:2026-04-20T11:55:31Z:
SUMMARY:Base Invaders at One Hit Wonders
DESCRIPTION;ENCODING=QUOTED-PRINTABLE:Base Invaders at One Hit Wonders=0D=0A Time: 8:30 PM=0D=0A Location: Highland Park, Field 1
CLASS:PUBLIC
PRIORITY:5
BEGIN:VALARM
TRIGGER:-PT330M
ACTION:DISPLAY
DESCRIPTION:Reminder
END:VALARM
END:VEVENT
BEGIN:VEVENT
DTSTART:2019-05-17T03:30:00Z
DTEND:2019-05-17T06:00:00Z
LOCATION:HV1: Hidden Valley, Field 1
CATEGORIES:Softball,One Hit Wonders,BB/SAA
UID:B67FC48EE473C042AFC75255F0E859A6:
DTSTAMP:2026-04-20T11:55:31Z:
SUMMARY:One Hit Wonders at Ryan Companies
DESCRIPTION;ENCODING=QUOTED-PRINTABLE:One Hit Wonders at Ryan Companies=0D=0A Time: 8:30 PM=0D=0A Location: Hidden Valley, Field 1
CLASS:PUBLIC
PRIORITY:5
BEGIN:VALARM
TRIGGER:-PT330M
ACTION:DISPLAY
DESCRIPTION:Reminder
END:VALARM
END:VEVENT
BEGIN:VEVENT
DTSTART:2019-05-24T01:00:00Z
DTEND:2019-05-24T03:30:00Z
LOCATION:HV1: Hidden Valley, Field 1
CATEGORIES:Softball,One Hit Wonders,BB/SAA
UID:6CB439F659AFC047B26159E64531DE1:
DTSTAMP:2026-04-20T11:55:31Z:
SUMMARY:Bellevue Presbyterian at One Hit Wonders
DESCRIPTION;ENCODING=QUOTED-PRINTABLE:Bellevue Presbyterian at One Hit Wonders=0D=0A Time: 6:00 PM=0D=0A Location: Hidden Valley, Field 1
CLASS:PUBLIC
PRIORITY:5
BEGIN:VALARM
TRIGGER:-PT180M
ACTION:DISPLAY
DESCRIPTION:Reminder
END:VALARM
END:VEVENT
BEGIN:VEVENT
DTSTART:2019-05-31T01:00:00Z
DTEND:2019-05-31T03:30:00Z
LOCATION:HP1: Highland Park, Field 1
CATEGORIES:Softball,One Hit Wonders,BB/SAA
UID:B2674DD8E9E1A4A90DEF3DFBD9649D:
DTSTAMP:2026-04-20T11:55:31Z:
SUMMARY:One Hit Wonders at No Glove, No Love
DESCRIPTION;ENCODING=QUOTED-PRINTABLE:One Hit Wonders at No Glove, No Love=0D=0A Time: 6:00 PM=0D=0A Location: Highland Park, Field 1
CLASS:PUBLIC
PRIORITY:5
BEGIN:VALARM
TRIGGER:-PT180M
ACTION:DISPLAY
DESCRIPTION:Reminder
END:VALARM
END:VEVENT
BEGIN:VEVENT
DTSTART:2019-06-14T01:00:00Z
DTEND:2019-06-14T03:30:00Z
LOCATION:HV1: Hidden Valley, Field 1
CATEGORIES:Softball,One Hit Wonders,BB/SAA
UID:F8B553E692BBE4DAECB59A37FA2723D:
DTSTAMP:2026-04-20T11:55:31Z:
SUMMARY:One Hit Wonders at Regulators
DESCRIPTION;ENCODING=QUOTED-PRINTABLE:One Hit Wonders at Regulators=0D=0A Time: 6:00 PM=0D=0A Location: Hidden Valley, Field 1
CLASS:PUBLIC
PRIORITY:5
BEGIN:VALARM
TRIGGER:-PT180M
ACTION:DISPLAY
DESCRIPTION:Reminder
END:VALARM
END:VEVENT
END:VCALENDAR
