BEGIN:VCALENDAR
PRODID:-//Microsoft Corporation//Outlook 11.0 MIMEDIR//EN
VERSION:2.0
METHOD:PUBLISH
BEGIN:VEVENT
DTSTART:2019-04-12T01:00:00Z
DTEND:2019-04-12T03:30:00Z
LOCATION:HV1: Hidden Valley, Field 1
CATEGORIES:Softball,Schmidtty Hitters,BB/SAA
UID:8F77A91898E8BC42AB8021BD435EDDDC:
DTSTAMP:2026-04-20T01:12:28Z:
SUMMARY:Schmidtty Hitters at Base Invaders
DESCRIPTION;ENCODING=QUOTED-PRINTABLE:Schmidtty Hitters at Base Invaders=0D=0A Time: 6:00 PM=0D=0A Location: Hidden Valley, Field 1
CLASS:PUBLIC
PRIORITY:5
BEGIN:VALARM
TRIGGER:-PT180M
ACTION:DISPLAY
DESCRIPTION:Reminder
END:VALARM
END:VEVENT
BEGIN:VEVENT
DTSTART:2019-04-19T03:30:00Z
DTEND:2019-04-19T06:00:00Z
LOCATION:HV1: Hidden Valley, Field 1
CATEGORIES:Softball,Schmidtty Hitters,BB/SAA
UID:E161A3D585209F4CAFFB2C6F7A0AFFF:
DTSTAMP:2026-04-20T01:12:28Z:
SUMMARY:Booze on First at Schmidtty Hitters
DESCRIPTION;ENCODING=QUOTED-PRINTABLE:Booze on First at Schmidtty Hitters=0D=0A Time: 8:30 PM=0D=0A Location: Hidden Valley, Field 1
CLASS:PUBLIC
PRIORITY:5
BEGIN:VALARM
TRIGGER:-PT330M
ACTION:DISPLAY
DESCRIPTION:Reminder
END:VALARM
END:VEVENT
BEGIN:VEVENT
DTSTART:2019-04-26T03:30:00Z
DTEND:2019-04-26T06:00:00Z
LOCATION:HP1: Highland Park, Field 1
CATEGORIES:Softball,Schmidtty Hitters,BB/SAA
UID:CA85459CA607347BC295296D78B67C:
DTSTAMP:2026-04-20T01:12:28Z:
SUMMARY:Schmidtty Hitters at One Hit Wonders
DESCRIPTION;ENCODING=QUOTED-PRINTABLE:Schmidtty Hitters at One Hit Wonders=0D=0A Time: 8:30 PM=0D=0A Location: Highland Park, Field 1
CLASS:PUBLIC
PRIORITY:5
BEGIN:VALARM
TRIGGER:-PT330M
ACTION:DISPLAY
DESCRIPTION:Reminder
END:VALARM
END:VEVENT
BEGIN:VEVENT
DTSTART:2019-05-03T03:30:00Z
DTEND:2019-05-03T06:00:00Z
LOCATION:HP1: Highland Park, Field 1
CATEGORIES:Softball,Schmidtty Hitters,BB/SAA
UID:6A4C14B6B741744D8AB9533BA73323C:
DTSTAMP:2026-04-20T01:12:28Z:
SUMMARY:Schmidtty Hitters at Ryan Companies
DESCRIPTION;ENCODING=QUOTED-PRINTABLE:Schmidtty Hitters at Ryan Companies=0D=0A Time: 8:30 PM=0D=0A Location: Highland Park, Field 1
CLASS:PUBLIC
PRIORITY:5
BEGIN:VALARM
TRIGGER:-PT330M
ACTION:DISPLAY
DESCRIPTION:Reminder
END:VALARM
END:VEVENT
BEGIN:VEVENT
DTSTART:2019-05-10T03:30:00Z
DTEND:2019-05-10T06:00:00Z
LOCATION:HV1: Hidden Valley, Field 1
CATEGORIES:Softball,Schmidtty Hitters,BB/SAA
UID:65E581A9E1E7E645AC8292721D53AE4F:
DTSTAMP:2026-04-20T01:12:28Z:
SUMMARY:Bellevue Presbyterian at Schmidtty Hitters
DESCRIPTION;ENCODING=QUOTED-PRINTABLE:Bellevue Presbyterian at Schmidtty Hitters=0D=0A Time: 8:30 PM=0D=0A Location: Hidden Valley, Field 1
CLASS:PUBLIC
PRIORITY:5
BEGIN:VALARM
TRIGGER:-PT330M
ACTION:DISPLAY
DESCRIPTION:Reminder
END:VALARM
END:VEVENT
BEGIN:VEVENT
DTSTART:2019-05-17T01:00:00Z
DTEND:2019-05-17T03:30:00Z
LOCATION:HP1: Highland Park, Field 1
CATEGORIES:Softball,Schmidtty Hitters,BB/SAA
UID:12E63F4615726943BC69C9831B2E2DEF:
DTSTAMP:2026-04-20T01:12:28Z:
SUMMARY:No Glove, No Love at Schmidtty Hitters
DESCRIPTION;ENCODING=QUOTED-PRINTABLE:No Glove, No Love at Schmidtty Hitters=0D=0A Time: 6:00 PM=0D=0A Location: Highland Park, Field 1
CLASS:PUBLIC
PRIORITY:5
BEGIN:VALARM
TRIGGER:-PT180M
ACTION:DISPLAY
DESCRIPTION:Reminder
END:VALARM
END:VEVENT
BEGIN:VEVENT
DTSTART:2019-05-24T01:00:00Z
DTEND:2019-05-24T03:30:00Z
LOCATION:HP1: Highland Park, Field 1
CATEGORIES:Softball,Schmidtty Hitters,BB/SAA
UID:C73744C0436A545B31A65E1282F99E9:
DTSTAMP:2026-04-20T01:12:28Z:
SUMMARY:Regulators at Schmidtty Hitters
DESCRIPTION;ENCODING=QUOTED-PRINTABLE:Regulators at Schmidtty Hitters=0D=0A Time: 6:00 PM=0D=0A Location: Highland Park, Field 1
CLASS:PUBLIC
PRIORITY:5
BEGIN:VALARM
TRIGGER:-PT180M
ACTION:DISPLAY
DESCRIPTION:Reminder
END:VALARM
END:VEVENT
BEGIN:VEVENT
DTSTART:2019-05-31T03:30:00Z
DTEND:2019-05-31T06:00:00Z
LOCATION:HV1: Hidden Valley, Field 1
CATEGORIES:Softball,Schmidtty Hitters,BB/SAA
UID:9061A44793F1E7479C76F0F8E9B6E6E0:
DTSTAMP:2026-04-20T01:12:28Z:
SUMMARY:Schmidtty Hitters at Base Invaders
DESCRIPTION;ENCODING=QUOTED-PRINTABLE:Schmidtty Hitters at Base Invaders=0D=0A Time: 8:30 PM=0D=0A Location: Hidden Valley, Field 1
CLASS:PUBLIC
PRIORITY:5
BEGIN:VALARM
TRIGGER:-PT330M
ACTION:DISPLAY
DESCRIPTION:Reminder
END:VALARM
END:VEVENT
BEGIN:VEVENT
DTSTART:2019-06-14T03:30:00Z
DTEND:2019-06-14T06:00:00Z
LOCATION:HV1: Hidden Valley, Field 1
CATEGORIES:Softball,Schmidtty Hitters,BB/SAA
UID:884B8F4C44DC248AD683F06782B72C:
DTSTAMP:2026-04-20T01:12:28Z:
SUMMARY:No Glove, No Love at Schmidtty Hitters
DESCRIPTION;ENCODING=QUOTED-PRINTABLE:No Glove, No Love at Schmidtty Hitters=0D=0A Time: 8:30 PM=0D=0A Location: Hidden Valley, Field 1
CLASS:PUBLIC
PRIORITY:5
BEGIN:VALARM
TRIGGER:-PT330M
ACTION:DISPLAY
DESCRIPTION:Reminder
END:VALARM
END:VEVENT
BEGIN:VEVENT
DTSTART:2019-06-21T01:00:00Z
DTEND:2019-06-21T03:30:00Z
LOCATION:HV1: Hidden Valley, Field 1
CATEGORIES:Softball,Schmidtty Hitters,BB/SAA
UID:FD7CB96AE6959145A095AA5E96B2105D:
DTSTAMP:2026-04-20T01:12:28Z:
SUMMARY:No Glove, No Love at Schmidtty Hitters
DESCRIPTION;ENCODING=QUOTED-PRINTABLE:No Glove, No Love at Schmidtty Hitters=0D=0A Time: 6:00 PM=0D=0A Location: Hidden Valley, Field 1
CLASS:PUBLIC
PRIORITY:5
BEGIN:VALARM
TRIGGER:-PT180M
ACTION:DISPLAY
DESCRIPTION:Reminder
END:VALARM
END:VEVENT
BEGIN:VEVENT
DTSTART:2019-06-21T04:45:00Z
DTEND:2019-06-21T07:15:00Z
LOCATION:HV1: Hidden Valley, Field 1
CATEGORIES:Softball,Schmidtty Hitters,BB/SAA
UID:81A7D311B0391B48A790D0857CE29E1B:
DTSTAMP:2026-04-20T01:12:28Z:
SUMMARY:Schmidtty Hitters at Booze on First
DESCRIPTION;ENCODING=QUOTED-PRINTABLE:Schmidtty Hitters at Booze on First=0D=0A Time: 9:45 PM=0D=0A Location: Hidden Valley, Field 1
CLASS:PUBLIC
PRIORITY:5
BEGIN:VALARM
TRIGGER:-PT405M
ACTION:DISPLAY
DESCRIPTION:Reminder
END:VALARM
END:VEVENT
END:VCALENDAR
