BEGIN:VCALENDAR
PRODID:-//Microsoft Corporation//Outlook 11.0 MIMEDIR//EN
VERSION:2.0
METHOD:PUBLISH
BEGIN:VEVENT
DTSTART:2016-07-14T01:00:00Z
DTEND:2016-07-14T03:30:00Z
LOCATION:HP1: Highland Park, Field 1
CATEGORIES:Softball,Wolfpack,BB/SAA
UID:22E856210218647AC62EA8FF541398:
DTSTAMP:2026-04-21T07:19:38Z:
SUMMARY:Wolfpack at Liquid Lime
DESCRIPTION;ENCODING=QUOTED-PRINTABLE:Wolfpack at Liquid Lime=0D=0A Time: 6:00 PM=0D=0A Location: Highland Park, Field 1
CLASS:PUBLIC
PRIORITY:5
BEGIN:VALARM
TRIGGER:-PT180M
ACTION:DISPLAY
DESCRIPTION:Reminder
END:VALARM
END:VEVENT
BEGIN:VEVENT
DTSTART:2016-07-21T01:00:00Z
DTEND:2016-07-21T03:30:00Z
LOCATION:MM3: Marymoor, Field 3
CATEGORIES:Softball,Wolfpack,BB/SAA
UID:ACE5BFB47C4A734C912F4E66FA479DF:
DTSTAMP:2026-04-21T07:19:38Z:
SUMMARY:Blue Sawks at Wolfpack
DESCRIPTION;ENCODING=QUOTED-PRINTABLE:Blue Sawks at Wolfpack=0D=0A Time: 6:00 PM=0D=0A Location: Marymoor, Field 3
CLASS:PUBLIC
PRIORITY:5
BEGIN:VALARM
TRIGGER:-PT180M
ACTION:DISPLAY
DESCRIPTION:Reminder
END:VALARM
END:VEVENT
BEGIN:VEVENT
DTSTART:2016-07-28T01:00:00Z
DTEND:2016-07-28T03:30:00Z
LOCATION:MM4: Marymoor, Field 4
CATEGORIES:Softball,Wolfpack,BB/SAA
UID:38D7262213AFE4EA38135ACE273D5F6:
DTSTAMP:2026-04-21T07:19:38Z:
SUMMARY:Wolfpack at Cube Junkies
DESCRIPTION;ENCODING=QUOTED-PRINTABLE:Wolfpack at Cube Junkies=0D=0A Time: 6:00 PM=0D=0A Location: Marymoor, Field 4
CLASS:PUBLIC
PRIORITY:5
BEGIN:VALARM
TRIGGER:-PT180M
ACTION:DISPLAY
DESCRIPTION:Reminder
END:VALARM
END:VEVENT
BEGIN:VEVENT
DTSTART:2016-08-04T01:00:00Z
DTEND:2016-08-04T03:30:00Z
LOCATION:MM8: Marymoor, Field 8
CATEGORIES:Softball,Wolfpack,BB/SAA
UID:314696FE228C14FAAEBCECACF9A76A8:
DTSTAMP:2026-04-21T07:19:38Z:
SUMMARY:Mad Dogs at Wolfpack
DESCRIPTION;ENCODING=QUOTED-PRINTABLE:Mad Dogs at Wolfpack=0D=0A Time: 6:00 PM=0D=0A Location: Marymoor, Field 8
CLASS:PUBLIC
PRIORITY:5
BEGIN:VALARM
TRIGGER:-PT180M
ACTION:DISPLAY
DESCRIPTION:Reminder
END:VALARM
END:VEVENT
BEGIN:VEVENT
DTSTART:2016-08-11T01:00:00Z
DTEND:2016-08-11T03:30:00Z
LOCATION:HV1: Hidden Valley, Field 1
CATEGORIES:Softball,Wolfpack,BB/SAA
UID:AAFF56EAD65FFD47A0D3DCEF11693292:
DTSTAMP:2026-04-21T07:19:38Z:
SUMMARY:Wolfpack at Talent Show
DESCRIPTION;ENCODING=QUOTED-PRINTABLE:Wolfpack at Talent Show=0D=0A Time: 6:00 PM=0D=0A Location: Hidden Valley, Field 1
CLASS:PUBLIC
PRIORITY:5
BEGIN:VALARM
TRIGGER:-PT180M
ACTION:DISPLAY
DESCRIPTION:Reminder
END:VALARM
END:VEVENT
BEGIN:VEVENT
DTSTART:2016-08-25T01:00:00Z
DTEND:2016-08-25T03:30:00Z
LOCATION:MM8: Marymoor, Field 8
CATEGORIES:Softball,Wolfpack,BB/SAA
UID:07580E65C46FB4496858A4ADC78442:
DTSTAMP:2026-04-21T07:19:38Z:
SUMMARY:Goose Pub 1 at Wolfpack
DESCRIPTION;ENCODING=QUOTED-PRINTABLE:Goose Pub 1 at Wolfpack=0D=0A Time: 6:00 PM=0D=0A Location: Marymoor, Field 8
CLASS:PUBLIC
PRIORITY:5
BEGIN:VALARM
TRIGGER:-PT180M
ACTION:DISPLAY
DESCRIPTION:Reminder
END:VALARM
END:VEVENT
BEGIN:VEVENT
DTSTART:2016-09-01T01:00:00Z
DTEND:2016-09-01T03:30:00Z
LOCATION:MM6: Marymoor, Field 6
CATEGORIES:Softball,Wolfpack,BB/SAA
UID:1C4AD6E9B660394A8C25E347A7ABAF73:
DTSTAMP:2026-04-21T07:19:38Z:
SUMMARY:Goose Pub 1 at Wolfpack
DESCRIPTION;ENCODING=QUOTED-PRINTABLE:Goose Pub 1 at Wolfpack=0D=0A Time: 6:00 PM=0D=0A Location: Marymoor, Field 6
CLASS:PUBLIC
PRIORITY:5
BEGIN:VALARM
TRIGGER:-PT180M
ACTION:DISPLAY
DESCRIPTION:Reminder
END:VALARM
END:VEVENT
BEGIN:VEVENT
DTSTART:2016-09-08T03:30:00Z
DTEND:2016-09-08T06:00:00Z
LOCATION:HP1: Highland Park, Field 1
CATEGORIES:Softball,Wolfpack,BB/SAA
UID:D8E4EEA49D4C14FB1EC903B1F65D8C:
DTSTAMP:2026-04-21T07:19:38Z:
SUMMARY:Expendables at Wolfpack
DESCRIPTION;ENCODING=QUOTED-PRINTABLE:Expendables at Wolfpack=0D=0A Time: 8:30 PM=0D=0A Location: Highland Park, Field 1
CLASS:PUBLIC
PRIORITY:5
BEGIN:VALARM
TRIGGER:-PT330M
ACTION:DISPLAY
DESCRIPTION:Reminder
END:VALARM
END:VEVENT
BEGIN:VEVENT
DTSTART:2016-09-15T01:00:00Z
DTEND:2016-09-15T03:30:00Z
LOCATION:HP1: Highland Park, Field 1
CATEGORIES:Softball,Wolfpack,BB/SAA
UID:DF1317D3C6D17498BE37EFDC3A9BBC:
DTSTAMP:2026-04-21T07:19:38Z:
SUMMARY:Goose Pub 1 at Wolfpack
DESCRIPTION;ENCODING=QUOTED-PRINTABLE:Goose Pub 1 at Wolfpack=0D=0A Time: 6:00 PM=0D=0A Location: Highland Park, Field 1
CLASS:PUBLIC
PRIORITY:5
BEGIN:VALARM
TRIGGER:-PT180M
ACTION:DISPLAY
DESCRIPTION:Reminder
END:VALARM
END:VEVENT
BEGIN:VEVENT
DTSTART:2016-09-15T04:00:00Z
DTEND:2016-09-15T06:30:00Z
LOCATION:HP1: Highland Park, Field 1
CATEGORIES:Softball,Wolfpack,BB/SAA
UID:90286CC1FB291C48826657681099F6B1:
DTSTAMP:2026-04-21T07:19:38Z:
SUMMARY:Liquid Lime at Wolfpack
DESCRIPTION;ENCODING=QUOTED-PRINTABLE:Liquid Lime at Wolfpack=0D=0A Time: 9:00 PM=0D=0A Location: Highland Park, Field 1
CLASS:PUBLIC
PRIORITY:5
BEGIN:VALARM
TRIGGER:-PT360M
ACTION:DISPLAY
DESCRIPTION:Reminder
END:VALARM
END:VEVENT
END:VCALENDAR
