BEGIN:VCALENDAR
PRODID:-//Microsoft Corporation//Outlook 11.0 MIMEDIR//EN
VERSION:2.0
METHOD:PUBLISH
BEGIN:VEVENT
DTSTART:2016-07-21T01:00:00Z
DTEND:2016-07-21T03:30:00Z
LOCATION:HP1: Highland Park, Field 1
CATEGORIES:Softball,Mad Dogs,BB/SAA
UID:5BE1851780819744BFF925F5EAFC243E:
DTSTAMP:2026-04-21T07:18:45Z:
SUMMARY:Mad Dogs at Talent Show
DESCRIPTION;ENCODING=QUOTED-PRINTABLE:Mad Dogs at Talent Show=0D=0A Time: 6:00 PM=0D=0A Location: Highland Park, Field 1
CLASS:PUBLIC
PRIORITY:5
BEGIN:VALARM
TRIGGER:-PT180M
ACTION:DISPLAY
DESCRIPTION:Reminder
END:VALARM
END:VEVENT
BEGIN:VEVENT
DTSTART:2016-07-28T01:00:00Z
DTEND:2016-07-28T03:30:00Z
LOCATION:HP1: Highland Park, Field 1
CATEGORIES:Softball,Mad Dogs,BB/SAA
UID:FB3ACE7C9D58849B49DFEAAC56CC48:
DTSTAMP:2026-04-21T07:18:45Z:
SUMMARY:STD at Mad Dogs
DESCRIPTION;ENCODING=QUOTED-PRINTABLE:STD at Mad Dogs=0D=0A Time: 6:00 PM=0D=0A Location: Highland Park, Field 1
CLASS:PUBLIC
PRIORITY:5
BEGIN:VALARM
TRIGGER:-PT180M
ACTION:DISPLAY
DESCRIPTION:Reminder
END:VALARM
END:VEVENT
BEGIN:VEVENT
DTSTART:2016-08-04T01:00:00Z
DTEND:2016-08-04T03:30:00Z
LOCATION:MM8: Marymoor, Field 8
CATEGORIES:Softball,Mad Dogs,BB/SAA
UID:43B1FA8F65A43346A56616474EA24356:
DTSTAMP:2026-04-21T07:18:45Z:
SUMMARY:Mad Dogs at Wolfpack
DESCRIPTION;ENCODING=QUOTED-PRINTABLE:Mad Dogs at Wolfpack=0D=0A Time: 6:00 PM=0D=0A Location: Marymoor, Field 8
CLASS:PUBLIC
PRIORITY:5
BEGIN:VALARM
TRIGGER:-PT180M
ACTION:DISPLAY
DESCRIPTION:Reminder
END:VALARM
END:VEVENT
BEGIN:VEVENT
DTSTART:2016-08-11T01:00:00Z
DTEND:2016-08-11T03:30:00Z
LOCATION:HP1: Highland Park, Field 1
CATEGORIES:Softball,Mad Dogs,BB/SAA
UID:578B50425874AA89252630B1642:
DTSTAMP:2026-04-21T07:18:45Z:
SUMMARY:Blue Sawks at Mad Dogs
DESCRIPTION;ENCODING=QUOTED-PRINTABLE:Blue Sawks at Mad Dogs=0D=0A Time: 6:00 PM=0D=0A Location: Highland Park, Field 1
CLASS:PUBLIC
PRIORITY:5
BEGIN:VALARM
TRIGGER:-PT180M
ACTION:DISPLAY
DESCRIPTION:Reminder
END:VALARM
END:VEVENT
BEGIN:VEVENT
DTSTART:2016-08-18T03:30:00Z
DTEND:2016-08-18T06:00:00Z
LOCATION:MM7: Marymoor, Field 7
CATEGORIES:Softball,Mad Dogs,BB/SAA
UID:4AFD6014DEA8F44493B3E828EFBE357:
DTSTAMP:2026-04-21T07:18:45Z:
SUMMARY:Mad Dogs at Goose Pub 1
DESCRIPTION;ENCODING=QUOTED-PRINTABLE:Mad Dogs at Goose Pub 1=0D=0A Time: 8:30 PM=0D=0A Location: Marymoor, Field 7
CLASS:PUBLIC
PRIORITY:5
BEGIN:VALARM
TRIGGER:-PT330M
ACTION:DISPLAY
DESCRIPTION:Reminder
END:VALARM
END:VEVENT
BEGIN:VEVENT
DTSTART:2016-08-25T03:30:00Z
DTEND:2016-08-25T06:00:00Z
LOCATION:MM6: Marymoor, Field 6
CATEGORIES:Softball,Mad Dogs,BB/SAA
UID:E2A4AC538A40C7439A95CB541CB4DB3C:
DTSTAMP:2026-04-21T07:18:45Z:
SUMMARY:Mad Dogs at Cube Junkies
DESCRIPTION;ENCODING=QUOTED-PRINTABLE:Mad Dogs at Cube Junkies=0D=0A Time: 8:30 PM=0D=0A Location: Marymoor, Field 6
CLASS:PUBLIC
PRIORITY:5
BEGIN:VALARM
TRIGGER:-PT330M
ACTION:DISPLAY
DESCRIPTION:Reminder
END:VALARM
END:VEVENT
BEGIN:VEVENT
DTSTART:2016-09-01T03:30:00Z
DTEND:2016-09-01T06:00:00Z
LOCATION:MM6: Marymoor, Field 6
CATEGORIES:Softball,Mad Dogs,BB/SAA
UID:217C9F1BB7AAF84390CB7E1B82CA63:
DTSTAMP:2026-04-21T07:18:45Z:
SUMMARY:Expendables at Mad Dogs
DESCRIPTION;ENCODING=QUOTED-PRINTABLE:Expendables at Mad Dogs=0D=0A Time: 8:30 PM=0D=0A Location: Marymoor, Field 6
CLASS:PUBLIC
PRIORITY:5
BEGIN:VALARM
TRIGGER:-PT330M
ACTION:DISPLAY
DESCRIPTION:Reminder
END:VALARM
END:VEVENT
BEGIN:VEVENT
DTSTART:2016-09-08T01:00:00Z
DTEND:2016-09-08T03:30:00Z
LOCATION:MM7: Marymoor, Field 7
CATEGORIES:Softball,Mad Dogs,BB/SAA
UID:AB94B28F1A7AE64BA2336BF88F19055:
DTSTAMP:2026-04-21T07:18:45Z:
SUMMARY:Liquid Lime at Mad Dogs
DESCRIPTION;ENCODING=QUOTED-PRINTABLE:Liquid Lime at Mad Dogs=0D=0A Time: 6:00 PM=0D=0A Location: Marymoor, Field 7
CLASS:PUBLIC
PRIORITY:5
BEGIN:VALARM
TRIGGER:-PT180M
ACTION:DISPLAY
DESCRIPTION:Reminder
END:VALARM
END:VEVENT
BEGIN:VEVENT
DTSTART:2016-09-15T02:30:00Z
DTEND:2016-09-15T05:00:00Z
LOCATION:HP1: Highland Park, Field 1
CATEGORIES:Softball,Mad Dogs,BB/SAA
UID:C659795B2EC0C46A567B6FF33752:
DTSTAMP:2026-04-21T07:18:45Z:
SUMMARY:Mad Dogs at Liquid Lime
DESCRIPTION;ENCODING=QUOTED-PRINTABLE:Mad Dogs at Liquid Lime=0D=0A Time: 7:30 PM=0D=0A Location: Highland Park, Field 1
CLASS:PUBLIC
PRIORITY:5
BEGIN:VALARM
TRIGGER:-PT270M
ACTION:DISPLAY
DESCRIPTION:Reminder
END:VALARM
END:VEVENT
END:VCALENDAR
