BEGIN:VCALENDAR
PRODID:-//Microsoft Corporation//Outlook 11.0 MIMEDIR//EN
VERSION:2.0
METHOD:PUBLISH
BEGIN:VEVENT
DTSTART:2016-07-14T03:30:00Z
DTEND:2016-07-14T06:00:00Z
LOCATION:MM7: Marymoor, Field 7
CATEGORIES:Softball,Expendables,BB/SAA
UID:1A6D34A0BE688A498B24FA728E6B4117:
DTSTAMP:2026-04-21T05:45:43Z:
SUMMARY:Expendables at Goose Pub 1
DESCRIPTION;ENCODING=QUOTED-PRINTABLE:Expendables at Goose Pub 1=0D=0A Time: 8:30 PM=0D=0A Location: Marymoor, Field 7
CLASS:PUBLIC
PRIORITY:5
BEGIN:VALARM
TRIGGER:-PT330M
ACTION:DISPLAY
DESCRIPTION:Reminder
END:VALARM
END:VEVENT
BEGIN:VEVENT
DTSTART:2016-07-21T03:30:00Z
DTEND:2016-07-21T06:00:00Z
LOCATION:MM6: Marymoor, Field 6
CATEGORIES:Softball,Expendables,BB/SAA
UID:ADF92B1C74359B41BE812A546F9A9DA7:
DTSTAMP:2026-04-21T05:45:43Z:
SUMMARY:STD at Expendables
DESCRIPTION;ENCODING=QUOTED-PRINTABLE:STD at Expendables=0D=0A Time: 8:30 PM=0D=0A Location: Marymoor, Field 6
CLASS:PUBLIC
PRIORITY:5
BEGIN:VALARM
TRIGGER:-PT330M
ACTION:DISPLAY
DESCRIPTION:Reminder
END:VALARM
END:VEVENT
BEGIN:VEVENT
DTSTART:2016-07-28T03:30:00Z
DTEND:2016-07-28T06:00:00Z
LOCATION:HV1: Hidden Valley, Field 1
CATEGORIES:Softball,Expendables,BB/SAA
UID:2A262C625CB1A049B680DC81C67E1728:
DTSTAMP:2026-04-21T05:45:43Z:
SUMMARY:Blue Sawks at Expendables
DESCRIPTION;ENCODING=QUOTED-PRINTABLE:Blue Sawks at Expendables=0D=0A Time: 8:30 PM=0D=0A Location: Hidden Valley, Field 1
CLASS:PUBLIC
PRIORITY:5
BEGIN:VALARM
TRIGGER:-PT330M
ACTION:DISPLAY
DESCRIPTION:Reminder
END:VALARM
END:VEVENT
BEGIN:VEVENT
DTSTART:2016-08-11T03:30:00Z
DTEND:2016-08-11T06:00:00Z
LOCATION:HV1: Hidden Valley, Field 1
CATEGORIES:Softball,Expendables,BB/SAA
UID:36CC44A15395A94180E111E5D2E02964:
DTSTAMP:2026-04-21T05:45:43Z:
SUMMARY:Expendables at Cube Junkies
DESCRIPTION;ENCODING=QUOTED-PRINTABLE:Expendables at Cube Junkies=0D=0A Time: 8:30 PM=0D=0A Location: Hidden Valley, Field 1
CLASS:PUBLIC
PRIORITY:5
BEGIN:VALARM
TRIGGER:-PT330M
ACTION:DISPLAY
DESCRIPTION:Reminder
END:VALARM
END:VEVENT
BEGIN:VEVENT
DTSTART:2016-08-18T03:30:00Z
DTEND:2016-08-18T06:00:00Z
LOCATION:HP1: Highland Park, Field 1
CATEGORIES:Softball,Expendables,BB/SAA
UID:DCEE53DE5D8F4BA5CF5B67C848F6:
DTSTAMP:2026-04-21T05:45:43Z:
SUMMARY:Talent Show at Expendables
DESCRIPTION;ENCODING=QUOTED-PRINTABLE:Talent Show at Expendables=0D=0A Time: 8:30 PM=0D=0A Location: Highland Park, Field 1
CLASS:PUBLIC
PRIORITY:5
BEGIN:VALARM
TRIGGER:-PT330M
ACTION:DISPLAY
DESCRIPTION:Reminder
END:VALARM
END:VEVENT
BEGIN:VEVENT
DTSTART:2016-08-25T03:30:00Z
DTEND:2016-08-25T06:00:00Z
LOCATION:MM7: Marymoor, Field 7
CATEGORIES:Softball,Expendables,BB/SAA
UID:F62942D1AEE5D44B99B50DCEF1815F:
DTSTAMP:2026-04-21T05:45:43Z:
SUMMARY:Liquid Lime at Expendables
DESCRIPTION;ENCODING=QUOTED-PRINTABLE:Liquid Lime at Expendables=0D=0A Time: 8:30 PM=0D=0A Location: Marymoor, Field 7
CLASS:PUBLIC
PRIORITY:5
BEGIN:VALARM
TRIGGER:-PT330M
ACTION:DISPLAY
DESCRIPTION:Reminder
END:VALARM
END:VEVENT
BEGIN:VEVENT
DTSTART:2016-09-01T03:30:00Z
DTEND:2016-09-01T06:00:00Z
LOCATION:MM6: Marymoor, Field 6
CATEGORIES:Softball,Expendables,BB/SAA
UID:F775F732B52D6D40B6112E393EEDEF0:
DTSTAMP:2026-04-21T05:45:43Z:
SUMMARY:Expendables at Mad Dogs
DESCRIPTION;ENCODING=QUOTED-PRINTABLE:Expendables at Mad Dogs=0D=0A Time: 8:30 PM=0D=0A Location: Marymoor, Field 6
CLASS:PUBLIC
PRIORITY:5
BEGIN:VALARM
TRIGGER:-PT330M
ACTION:DISPLAY
DESCRIPTION:Reminder
END:VALARM
END:VEVENT
BEGIN:VEVENT
DTSTART:2016-09-08T03:30:00Z
DTEND:2016-09-08T06:00:00Z
LOCATION:HP1: Highland Park, Field 1
CATEGORIES:Softball,Expendables,BB/SAA
UID:AFBC4340ABFF1041B15C9C6C5E4B34B6:
DTSTAMP:2026-04-21T05:45:43Z:
SUMMARY:Expendables at Wolfpack
DESCRIPTION;ENCODING=QUOTED-PRINTABLE:Expendables at Wolfpack=0D=0A Time: 8:30 PM=0D=0A Location: Highland Park, Field 1
CLASS:PUBLIC
PRIORITY:5
BEGIN:VALARM
TRIGGER:-PT330M
ACTION:DISPLAY
DESCRIPTION:Reminder
END:VALARM
END:VEVENT
END:VCALENDAR
