BEGIN:VCALENDAR
PRODID:-//Microsoft Corporation//Outlook 11.0 MIMEDIR//EN
VERSION:2.0
METHOD:PUBLISH
BEGIN:VEVENT
DTSTART:2016-07-21T01:00:00Z
DTEND:2016-07-21T03:30:00Z
LOCATION:MM6: Marymoor, Field 6
CATEGORIES:Softball,Cube Junkies,BB/SAA
UID:485512C232ADD14FA425FF6B69ECC9E:
DTSTAMP:2026-04-21T05:55:10Z:
SUMMARY:Goose Pub 1 at Cube Junkies
DESCRIPTION;ENCODING=QUOTED-PRINTABLE:Goose Pub 1 at Cube Junkies=0D=0A Time: 6:00 PM=0D=0A Location: Marymoor, Field 6
CLASS:PUBLIC
PRIORITY:5
BEGIN:VALARM
TRIGGER:-PT180M
ACTION:DISPLAY
DESCRIPTION:Reminder
END:VALARM
END:VEVENT
BEGIN:VEVENT
DTSTART:2016-07-28T01:00:00Z
DTEND:2016-07-28T03:30:00Z
LOCATION:MM4: Marymoor, Field 4
CATEGORIES:Softball,Cube Junkies,BB/SAA
UID:62537C4354864E4AA567F0F662D82CCE:
DTSTAMP:2026-04-21T05:55:10Z:
SUMMARY:Wolfpack at Cube Junkies
DESCRIPTION;ENCODING=QUOTED-PRINTABLE:Wolfpack at Cube Junkies=0D=0A Time: 6:00 PM=0D=0A Location: Marymoor, Field 4
CLASS:PUBLIC
PRIORITY:5
BEGIN:VALARM
TRIGGER:-PT180M
ACTION:DISPLAY
DESCRIPTION:Reminder
END:VALARM
END:VEVENT
BEGIN:VEVENT
DTSTART:2016-08-04T03:30:00Z
DTEND:2016-08-04T06:00:00Z
LOCATION:MM7: Marymoor, Field 7
CATEGORIES:Softball,Cube Junkies,BB/SAA
UID:8A26BEA1D04722479F1AE4ACFCA76BE:
DTSTAMP:2026-04-21T05:55:10Z:
SUMMARY:Cube Junkies at Blue Sawks
DESCRIPTION;ENCODING=QUOTED-PRINTABLE:Cube Junkies at Blue Sawks=0D=0A Time: 8:30 PM=0D=0A Location: Marymoor, Field 7
CLASS:PUBLIC
PRIORITY:5
BEGIN:VALARM
TRIGGER:-PT330M
ACTION:DISPLAY
DESCRIPTION:Reminder
END:VALARM
END:VEVENT
BEGIN:VEVENT
DTSTART:2016-08-11T03:30:00Z
DTEND:2016-08-11T06:00:00Z
LOCATION:HV1: Hidden Valley, Field 1
CATEGORIES:Softball,Cube Junkies,BB/SAA
UID:8AC554EAB324A643BE2DD0E9CD20A759:
DTSTAMP:2026-04-21T05:55:10Z:
SUMMARY:Expendables at Cube Junkies
DESCRIPTION;ENCODING=QUOTED-PRINTABLE:Expendables at Cube Junkies=0D=0A Time: 8:30 PM=0D=0A Location: Hidden Valley, Field 1
CLASS:PUBLIC
PRIORITY:5
BEGIN:VALARM
TRIGGER:-PT330M
ACTION:DISPLAY
DESCRIPTION:Reminder
END:VALARM
END:VEVENT
BEGIN:VEVENT
DTSTART:2016-08-18T01:00:00Z
DTEND:2016-08-18T03:30:00Z
LOCATION:HP1: Highland Park, Field 1
CATEGORIES:Softball,Cube Junkies,BB/SAA
UID:92E181B0E19A041B1D48EA55C704D19:
DTSTAMP:2026-04-21T05:55:10Z:
SUMMARY:Cube Junkies at STD
DESCRIPTION;ENCODING=QUOTED-PRINTABLE:Cube Junkies at STD=0D=0A Time: 6:00 PM=0D=0A Location: Highland Park, Field 1
CLASS:PUBLIC
PRIORITY:5
BEGIN:VALARM
TRIGGER:-PT180M
ACTION:DISPLAY
DESCRIPTION:Reminder
END:VALARM
END:VEVENT
BEGIN:VEVENT
DTSTART:2016-08-25T03:30:00Z
DTEND:2016-08-25T06:00:00Z
LOCATION:MM6: Marymoor, Field 6
CATEGORIES:Softball,Cube Junkies,BB/SAA
UID:7B5FA8E39F1EF34B86F9F2BDAECFE54E:
DTSTAMP:2026-04-21T05:55:10Z:
SUMMARY:Mad Dogs at Cube Junkies
DESCRIPTION;ENCODING=QUOTED-PRINTABLE:Mad Dogs at Cube Junkies=0D=0A Time: 8:30 PM=0D=0A Location: Marymoor, Field 6
CLASS:PUBLIC
PRIORITY:5
BEGIN:VALARM
TRIGGER:-PT330M
ACTION:DISPLAY
DESCRIPTION:Reminder
END:VALARM
END:VEVENT
BEGIN:VEVENT
DTSTART:2016-09-01T01:00:00Z
DTEND:2016-09-01T03:30:00Z
LOCATION:HP1: Highland Park, Field 1
CATEGORIES:Softball,Cube Junkies,BB/SAA
UID:642B4AD24481642A6682A92F6FA36E:
DTSTAMP:2026-04-21T05:55:10Z:
SUMMARY:Cube Junkies at Liquid Lime
DESCRIPTION;ENCODING=QUOTED-PRINTABLE:Cube Junkies at Liquid Lime=0D=0A Time: 6:00 PM=0D=0A Location: Highland Park, Field 1
CLASS:PUBLIC
PRIORITY:5
BEGIN:VALARM
TRIGGER:-PT180M
ACTION:DISPLAY
DESCRIPTION:Reminder
END:VALARM
END:VEVENT
BEGIN:VEVENT
DTSTART:2016-09-08T01:00:00Z
DTEND:2016-09-08T03:30:00Z
LOCATION:HV1: Hidden Valley, Field 1
CATEGORIES:Softball,Cube Junkies,BB/SAA
UID:923EA7F48C7574C943D5C654175C7D:
DTSTAMP:2026-04-21T05:55:10Z:
SUMMARY:Cube Junkies at Talent Show
DESCRIPTION;ENCODING=QUOTED-PRINTABLE:Cube Junkies at Talent Show=0D=0A Time: 6:00 PM=0D=0A Location: Hidden Valley, Field 1
CLASS:PUBLIC
PRIORITY:5
BEGIN:VALARM
TRIGGER:-PT180M
ACTION:DISPLAY
DESCRIPTION:Reminder
END:VALARM
END:VEVENT
END:VCALENDAR
