BEGIN:VCALENDAR
PRODID:-//Microsoft Corporation//Outlook 11.0 MIMEDIR//EN
VERSION:2.0
METHOD:PUBLISH
BEGIN:VEVENT
DTSTART:2016-07-14T03:30:00Z
DTEND:2016-07-14T06:00:00Z
LOCATION:HV1: Hidden Valley, Field 1
CATEGORIES:Softball,USCutter,BB/SAA
UID:54B894ADCDDB4B428E1CAC2BE6EDDD4F:
DTSTAMP:2026-04-21T07:19:18Z:
SUMMARY:USCutter at RagTag
DESCRIPTION;ENCODING=QUOTED-PRINTABLE:USCutter at RagTag=0D=0A Time: 8:30 PM=0D=0A Location: Hidden Valley, Field 1
CLASS:PUBLIC
PRIORITY:5
BEGIN:VALARM
TRIGGER:-PT330M
ACTION:DISPLAY
DESCRIPTION:Reminder
END:VALARM
END:VEVENT
BEGIN:VEVENT
DTSTART:2016-07-21T01:00:00Z
DTEND:2016-07-21T03:30:00Z
LOCATION:MM7: Marymoor, Field 7
CATEGORIES:Softball,USCutter,BB/SAA
UID:A4CD3910D5668744BD5EAA64548B294:
DTSTAMP:2026-04-21T07:19:18Z:
SUMMARY:Manchild United at USCutter
DESCRIPTION;ENCODING=QUOTED-PRINTABLE:Manchild United at USCutter=0D=0A Time: 6:00 PM=0D=0A Location: Marymoor, Field 7
CLASS:PUBLIC
PRIORITY:5
BEGIN:VALARM
TRIGGER:-PT180M
ACTION:DISPLAY
DESCRIPTION:Reminder
END:VALARM
END:VEVENT
BEGIN:VEVENT
DTSTART:2016-07-28T01:00:00Z
DTEND:2016-07-28T03:30:00Z
LOCATION:HV1: Hidden Valley, Field 1
CATEGORIES:Softball,USCutter,BB/SAA
UID:E0A63ABB7FB8594DB7DB76ED52405A57:
DTSTAMP:2026-04-21T07:19:18Z:
SUMMARY:Coors Light/Shockers at USCutter
DESCRIPTION;ENCODING=QUOTED-PRINTABLE:Coors Light/Shockers at USCutter=0D=0A Time: 6:00 PM=0D=0A Location: Hidden Valley, Field 1
CLASS:PUBLIC
PRIORITY:5
BEGIN:VALARM
TRIGGER:-PT180M
ACTION:DISPLAY
DESCRIPTION:Reminder
END:VALARM
END:VEVENT
BEGIN:VEVENT
DTSTART:2016-08-04T03:30:00Z
DTEND:2016-08-04T06:00:00Z
LOCATION:HP1: Highland Park, Field 1
CATEGORIES:Softball,USCutter,BB/SAA
UID:66CDFA03CB4AE4690E17F2DC8CD79C2:
DTSTAMP:2026-04-21T07:19:18Z:
SUMMARY:Here for the Cardio at USCutter
DESCRIPTION;ENCODING=QUOTED-PRINTABLE:Here for the Cardio at USCutter=0D=0A Time: 8:30 PM=0D=0A Location: Highland Park, Field 1
CLASS:PUBLIC
PRIORITY:5
BEGIN:VALARM
TRIGGER:-PT330M
ACTION:DISPLAY
DESCRIPTION:Reminder
END:VALARM
END:VEVENT
BEGIN:VEVENT
DTSTART:2016-08-11T03:30:00Z
DTEND:2016-08-11T06:00:00Z
LOCATION:HP1: Highland Park, Field 1
CATEGORIES:Softball,USCutter,BB/SAA
UID:9EFEF48B6DBE4A9E79F7BCA5321B6:
DTSTAMP:2026-04-21T07:19:18Z:
SUMMARY:USCutter at Bellevue Presbyterian
DESCRIPTION;ENCODING=QUOTED-PRINTABLE:USCutter at Bellevue Presbyterian=0D=0A Time: 8:30 PM=0D=0A Location: Highland Park, Field 1
CLASS:PUBLIC
PRIORITY:5
BEGIN:VALARM
TRIGGER:-PT330M
ACTION:DISPLAY
DESCRIPTION:Reminder
END:VALARM
END:VEVENT
BEGIN:VEVENT
DTSTART:2016-08-18T01:00:00Z
DTEND:2016-08-18T03:30:00Z
LOCATION:MM8: Marymoor, Field 8
CATEGORIES:Softball,USCutter,BB/SAA
UID:AB8BF1E1748D5849AA7B6F5B0C1CD54:
DTSTAMP:2026-04-21T07:19:18Z:
SUMMARY:USCutter at Junk Yard Dawgs
DESCRIPTION;ENCODING=QUOTED-PRINTABLE:USCutter at Junk Yard Dawgs=0D=0A Time: 6:00 PM=0D=0A Location: Marymoor, Field 8
CLASS:PUBLIC
PRIORITY:5
BEGIN:VALARM
TRIGGER:-PT180M
ACTION:DISPLAY
DESCRIPTION:Reminder
END:VALARM
END:VEVENT
BEGIN:VEVENT
DTSTART:2016-08-25T01:00:00Z
DTEND:2016-08-25T03:30:00Z
LOCATION:MM7: Marymoor, Field 7
CATEGORIES:Softball,USCutter,BB/SAA
UID:B5F5CF52DE8B843A11A98DF8E3D725C:
DTSTAMP:2026-04-21T07:19:18Z:
SUMMARY:Air Reps at USCutter
DESCRIPTION;ENCODING=QUOTED-PRINTABLE:Air Reps at USCutter=0D=0A Time: 6:00 PM=0D=0A Location: Marymoor, Field 7
CLASS:PUBLIC
PRIORITY:5
BEGIN:VALARM
TRIGGER:-PT180M
ACTION:DISPLAY
DESCRIPTION:Reminder
END:VALARM
END:VEVENT
BEGIN:VEVENT
DTSTART:2016-09-01T01:00:00Z
DTEND:2016-09-01T03:30:00Z
LOCATION:MM8: Marymoor, Field 8
CATEGORIES:Softball,USCutter,BB/SAA
UID:569B5E313AAED4799DDB125745BF6D:
DTSTAMP:2026-04-21T07:19:18Z:
SUMMARY:USCutter at Coors Light/Shockers
DESCRIPTION;ENCODING=QUOTED-PRINTABLE:USCutter at Coors Light/Shockers=0D=0A Time: 6:00 PM=0D=0A Location: Marymoor, Field 8
CLASS:PUBLIC
PRIORITY:5
BEGIN:VALARM
TRIGGER:-PT180M
ACTION:DISPLAY
DESCRIPTION:Reminder
END:VALARM
END:VEVENT
BEGIN:VEVENT
DTSTART:2016-09-15T02:30:00Z
DTEND:2016-09-15T05:00:00Z
LOCATION:HV1: Hidden Valley, Field 1
CATEGORIES:Softball,USCutter,BB/SAA
UID:BBBB9DF332C2F4B8A2F6835A5AC5FD7:
DTSTAMP:2026-04-21T07:19:18Z:
SUMMARY:USCutter at Air Reps
DESCRIPTION;ENCODING=QUOTED-PRINTABLE:USCutter at Air Reps=0D=0A Time: 7:30 PM=0D=0A Location: Hidden Valley, Field 1
CLASS:PUBLIC
PRIORITY:5
BEGIN:VALARM
TRIGGER:-PT270M
ACTION:DISPLAY
DESCRIPTION:Reminder
END:VALARM
END:VEVENT
BEGIN:VEVENT
DTSTART:2016-09-15T04:00:00Z
DTEND:2016-09-15T06:30:00Z
LOCATION:HV1: Hidden Valley, Field 1
CATEGORIES:Softball,USCutter,BB/SAA
UID:7340314EDFDFF4FA04ACE8D4C7E1597:
DTSTAMP:2026-04-21T07:19:18Z:
SUMMARY:USCutter at Bellevue Presbyterian
DESCRIPTION;ENCODING=QUOTED-PRINTABLE:USCutter at Bellevue Presbyterian=0D=0A Time: 9:00 PM=0D=0A Location: Hidden Valley, Field 1
CLASS:PUBLIC
PRIORITY:5
BEGIN:VALARM
TRIGGER:-PT360M
ACTION:DISPLAY
DESCRIPTION:Reminder
END:VALARM
END:VEVENT
END:VCALENDAR
