BEGIN:VCALENDAR
PRODID:-//Microsoft Corporation//Outlook 11.0 MIMEDIR//EN
VERSION:2.0
METHOD:PUBLISH
BEGIN:VEVENT
DTSTART:2016-07-14T01:00:00Z
DTEND:2016-07-14T03:30:00Z
LOCATION:MM3: Marymoor, Field 3
CATEGORIES:Softball,Manchild United,BB/SAA
UID:47A831902D30A0479BE32BDED2F39BBB:
DTSTAMP:2026-04-21T07:19:17Z:
SUMMARY:Bellevue Presbyterian at Manchild United
DESCRIPTION;ENCODING=QUOTED-PRINTABLE:Bellevue Presbyterian at Manchild United=0D=0A Time: 6:00 PM=0D=0A Location: Marymoor, Field 3
CLASS:PUBLIC
PRIORITY:5
BEGIN:VALARM
TRIGGER:-PT180M
ACTION:DISPLAY
DESCRIPTION:Reminder
END:VALARM
END:VEVENT
BEGIN:VEVENT
DTSTART:2016-07-21T01:00:00Z
DTEND:2016-07-21T03:30:00Z
LOCATION:MM7: Marymoor, Field 7
CATEGORIES:Softball,Manchild United,BB/SAA
UID:E62923826AEDE344A1AB26D9EF39E3E:
DTSTAMP:2026-04-21T07:19:17Z:
SUMMARY:Manchild United at USCutter
DESCRIPTION;ENCODING=QUOTED-PRINTABLE:Manchild United at USCutter=0D=0A Time: 6:00 PM=0D=0A Location: Marymoor, Field 7
CLASS:PUBLIC
PRIORITY:5
BEGIN:VALARM
TRIGGER:-PT180M
ACTION:DISPLAY
DESCRIPTION:Reminder
END:VALARM
END:VEVENT
BEGIN:VEVENT
DTSTART:2016-07-28T03:30:00Z
DTEND:2016-07-28T06:00:00Z
LOCATION:MM6: Marymoor, Field 6
CATEGORIES:Softball,Manchild United,BB/SAA
UID:DB541FB6DD77FA49ABAE999E4F587029:
DTSTAMP:2026-04-21T07:19:17Z:
SUMMARY:Manchild United at Junk Yard Dawgs
DESCRIPTION;ENCODING=QUOTED-PRINTABLE:Manchild United at Junk Yard Dawgs=0D=0A Time: 8:30 PM=0D=0A Location: Marymoor, Field 6
CLASS:PUBLIC
PRIORITY:5
BEGIN:VALARM
TRIGGER:-PT330M
ACTION:DISPLAY
DESCRIPTION:Reminder
END:VALARM
END:VEVENT
BEGIN:VEVENT
DTSTART:2016-08-04T01:00:00Z
DTEND:2016-08-04T03:30:00Z
LOCATION:MM7: Marymoor, Field 7
CATEGORIES:Softball,Manchild United,BB/SAA
UID:5937B1D8838754EB0AA61E83DE0F1B2:
DTSTAMP:2026-04-21T07:19:17Z:
SUMMARY:Manchild United at RagTag
DESCRIPTION;ENCODING=QUOTED-PRINTABLE:Manchild United at RagTag=0D=0A Time: 6:00 PM=0D=0A Location: Marymoor, Field 7
CLASS:PUBLIC
PRIORITY:5
BEGIN:VALARM
TRIGGER:-PT180M
ACTION:DISPLAY
DESCRIPTION:Reminder
END:VALARM
END:VEVENT
BEGIN:VEVENT
DTSTART:2016-08-11T03:30:00Z
DTEND:2016-08-11T06:00:00Z
LOCATION:MM7: Marymoor, Field 7
CATEGORIES:Softball,Manchild United,BB/SAA
UID:DCAB29C5DE624A43B239A6ABC49497B2:
DTSTAMP:2026-04-21T07:19:17Z:
SUMMARY:Air Reps at Manchild United
DESCRIPTION;ENCODING=QUOTED-PRINTABLE:Air Reps at Manchild United=0D=0A Time: 8:30 PM=0D=0A Location: Marymoor, Field 7
CLASS:PUBLIC
PRIORITY:5
BEGIN:VALARM
TRIGGER:-PT330M
ACTION:DISPLAY
DESCRIPTION:Reminder
END:VALARM
END:VEVENT
BEGIN:VEVENT
DTSTART:2016-08-18T01:00:00Z
DTEND:2016-08-18T03:30:00Z
LOCATION:MM3: Marymoor, Field 3
CATEGORIES:Softball,Manchild United,BB/SAA
UID:191B60E2C834E94B865EBF3395D083A4:
DTSTAMP:2026-04-21T07:19:17Z:
SUMMARY:Here for the Cardio at Manchild United
DESCRIPTION;ENCODING=QUOTED-PRINTABLE:Here for the Cardio at Manchild United=0D=0A Time: 6:00 PM=0D=0A Location: Marymoor, Field 3
CLASS:PUBLIC
PRIORITY:5
BEGIN:VALARM
TRIGGER:-PT180M
ACTION:DISPLAY
DESCRIPTION:Reminder
END:VALARM
END:VEVENT
BEGIN:VEVENT
DTSTART:2016-08-25T03:30:00Z
DTEND:2016-08-25T06:00:00Z
LOCATION:HV1: Hidden Valley, Field 1
CATEGORIES:Softball,Manchild United,BB/SAA
UID:5BCFE136445C54C9CFAD4326658E72D:
DTSTAMP:2026-04-21T07:19:17Z:
SUMMARY:Manchild United at Coors Light/Shockers
DESCRIPTION;ENCODING=QUOTED-PRINTABLE:Manchild United at Coors Light/Shockers=0D=0A Time: 8:30 PM=0D=0A Location: Hidden Valley, Field 1
CLASS:PUBLIC
PRIORITY:5
BEGIN:VALARM
TRIGGER:-PT330M
ACTION:DISPLAY
DESCRIPTION:Reminder
END:VALARM
END:VEVENT
BEGIN:VEVENT
DTSTART:2016-09-08T03:30:00Z
DTEND:2016-09-08T06:00:00Z
LOCATION:HV1: Hidden Valley, Field 1
CATEGORIES:Softball,Manchild United,BB/SAA
UID:8E534823BFF2242936523A33A58C8F:
DTSTAMP:2026-04-21T07:19:17Z:
SUMMARY:Junk Yard Dawgs at Manchild United
DESCRIPTION;ENCODING=QUOTED-PRINTABLE:Junk Yard Dawgs at Manchild United=0D=0A Time: 8:30 PM=0D=0A Location: Hidden Valley, Field 1
CLASS:PUBLIC
PRIORITY:5
BEGIN:VALARM
TRIGGER:-PT330M
ACTION:DISPLAY
DESCRIPTION:Reminder
END:VALARM
END:VEVENT
END:VCALENDAR
