BEGIN:VCALENDAR
PRODID:-//Microsoft Corporation//Outlook 11.0 MIMEDIR//EN
VERSION:2.0
METHOD:PUBLISH
BEGIN:VEVENT
DTSTART:2016-07-14T01:00:00Z
DTEND:2016-07-14T03:30:00Z
LOCATION:MM7: Marymoor, Field 7
CATEGORIES:Softball,Here for the Cardio,BB/SAA
UID:15E5709155793498F3068F2CD3E73:
DTSTAMP:2026-04-21T05:42:55Z:
SUMMARY:Here for the Cardio at Junk Yard Dawgs
DESCRIPTION;ENCODING=QUOTED-PRINTABLE:Here for the Cardio at Junk Yard Dawgs=0D=0A Time: 6:00 PM=0D=0A Location: Marymoor, Field 7
CLASS:PUBLIC
PRIORITY:5
BEGIN:VALARM
TRIGGER:-PT180M
ACTION:DISPLAY
DESCRIPTION:Reminder
END:VALARM
END:VEVENT
BEGIN:VEVENT
DTSTART:2016-07-21T03:30:00Z
DTEND:2016-07-21T06:00:00Z
LOCATION:HV1: Hidden Valley, Field 1
CATEGORIES:Softball,Here for the Cardio,BB/SAA
UID:9997914B7CD18A43B6D8397F6B3AFDBA:
DTSTAMP:2026-04-21T05:42:55Z:
SUMMARY:Bellevue Presbyterian at Here for the Cardio
DESCRIPTION;ENCODING=QUOTED-PRINTABLE:Bellevue Presbyterian at Here for the Cardio=0D=0A Time: 8:30 PM=0D=0A Location: Hidden Valley, Field 1
CLASS:PUBLIC
PRIORITY:5
BEGIN:VALARM
TRIGGER:-PT330M
ACTION:DISPLAY
DESCRIPTION:Reminder
END:VALARM
END:VEVENT
BEGIN:VEVENT
DTSTART:2016-07-28T03:30:00Z
DTEND:2016-07-28T06:00:00Z
LOCATION:HP1: Highland Park, Field 1
CATEGORIES:Softball,Here for the Cardio,BB/SAA
UID:F16C64FB73D9B3478C2EF91C4D94385:
DTSTAMP:2026-04-21T05:42:55Z:
SUMMARY:Air Reps at Here for the Cardio
DESCRIPTION;ENCODING=QUOTED-PRINTABLE:Air Reps at Here for the Cardio=0D=0A Time: 8:30 PM=0D=0A Location: Highland Park, Field 1
CLASS:PUBLIC
PRIORITY:5
BEGIN:VALARM
TRIGGER:-PT330M
ACTION:DISPLAY
DESCRIPTION:Reminder
END:VALARM
END:VEVENT
BEGIN:VEVENT
DTSTART:2016-08-04T03:30:00Z
DTEND:2016-08-04T06:00:00Z
LOCATION:HP1: Highland Park, Field 1
CATEGORIES:Softball,Here for the Cardio,BB/SAA
UID:C6975A33B3C7174D8651552232DDA8C:
DTSTAMP:2026-04-21T05:42:55Z:
SUMMARY:Here for the Cardio at USCutter
DESCRIPTION;ENCODING=QUOTED-PRINTABLE:Here for the Cardio at USCutter=0D=0A Time: 8:30 PM=0D=0A Location: Highland Park, Field 1
CLASS:PUBLIC
PRIORITY:5
BEGIN:VALARM
TRIGGER:-PT330M
ACTION:DISPLAY
DESCRIPTION:Reminder
END:VALARM
END:VEVENT
BEGIN:VEVENT
DTSTART:2016-08-11T01:00:00Z
DTEND:2016-08-11T03:30:00Z
LOCATION:MM7: Marymoor, Field 7
CATEGORIES:Softball,Here for the Cardio,BB/SAA
UID:AD2C408A9A12624BB5839A6361702CDA:
DTSTAMP:2026-04-21T05:42:55Z:
SUMMARY:Coors Light/Shockers at Here for the Cardio
DESCRIPTION;ENCODING=QUOTED-PRINTABLE:Coors Light/Shockers at Here for the Cardio=0D=0A Time: 6:00 PM=0D=0A Location: Marymoor, Field 7
CLASS:PUBLIC
PRIORITY:5
BEGIN:VALARM
TRIGGER:-PT180M
ACTION:DISPLAY
DESCRIPTION:Reminder
END:VALARM
END:VEVENT
BEGIN:VEVENT
DTSTART:2016-08-18T01:00:00Z
DTEND:2016-08-18T03:30:00Z
LOCATION:MM3: Marymoor, Field 3
CATEGORIES:Softball,Here for the Cardio,BB/SAA
UID:422A7FB6353B5D458CCFDCA51D2944C:
DTSTAMP:2026-04-21T05:42:55Z:
SUMMARY:Here for the Cardio at Manchild United
DESCRIPTION;ENCODING=QUOTED-PRINTABLE:Here for the Cardio at Manchild United=0D=0A Time: 6:00 PM=0D=0A Location: Marymoor, Field 3
CLASS:PUBLIC
PRIORITY:5
BEGIN:VALARM
TRIGGER:-PT180M
ACTION:DISPLAY
DESCRIPTION:Reminder
END:VALARM
END:VEVENT
BEGIN:VEVENT
DTSTART:2016-08-25T03:30:00Z
DTEND:2016-08-25T06:00:00Z
LOCATION:MM8: Marymoor, Field 8
CATEGORIES:Softball,Here for the Cardio,BB/SAA
UID:98B16ADC8EEEC841A67F23D873A99F25:
DTSTAMP:2026-04-21T05:42:55Z:
SUMMARY:Here for the Cardio at RagTag
DESCRIPTION;ENCODING=QUOTED-PRINTABLE:Here for the Cardio at RagTag=0D=0A Time: 8:30 PM=0D=0A Location: Marymoor, Field 8
CLASS:PUBLIC
PRIORITY:5
BEGIN:VALARM
TRIGGER:-PT330M
ACTION:DISPLAY
DESCRIPTION:Reminder
END:VALARM
END:VEVENT
BEGIN:VEVENT
DTSTART:2016-09-01T01:00:00Z
DTEND:2016-09-01T03:30:00Z
LOCATION:MM7: Marymoor, Field 7
CATEGORIES:Softball,Here for the Cardio,BB/SAA
UID:B2F26714A792D8478F8DDEF3C5C4CFB8:
DTSTAMP:2026-04-21T05:42:55Z:
SUMMARY:Air Reps at Here for the Cardio
DESCRIPTION;ENCODING=QUOTED-PRINTABLE:Air Reps at Here for the Cardio=0D=0A Time: 6:00 PM=0D=0A Location: Marymoor, Field 7
CLASS:PUBLIC
PRIORITY:5
BEGIN:VALARM
TRIGGER:-PT180M
ACTION:DISPLAY
DESCRIPTION:Reminder
END:VALARM
END:VEVENT
END:VCALENDAR
