BEGIN:VCALENDAR
PRODID:-//Microsoft Corporation//Outlook 11.0 MIMEDIR//EN
VERSION:2.0
METHOD:PUBLISH
BEGIN:VEVENT
DTSTART:2016-07-14T01:00:00Z
DTEND:2016-07-14T03:30:00Z
LOCATION:MM3: Marymoor, Field 3
CATEGORIES:Softball,Bellevue Presbyterian,BB/SAA
UID:D21C6AC88688439689ED18AEC0A6:
DTSTAMP:2026-04-21T05:44:27Z:
SUMMARY:Bellevue Presbyterian at Manchild United
DESCRIPTION;ENCODING=QUOTED-PRINTABLE:Bellevue Presbyterian at Manchild United=0D=0A Time: 6:00 PM=0D=0A Location: Marymoor, Field 3
CLASS:PUBLIC
PRIORITY:5
BEGIN:VALARM
TRIGGER:-PT180M
ACTION:DISPLAY
DESCRIPTION:Reminder
END:VALARM
END:VEVENT
BEGIN:VEVENT
DTSTART:2016-07-21T03:30:00Z
DTEND:2016-07-21T06:00:00Z
LOCATION:HV1: Hidden Valley, Field 1
CATEGORIES:Softball,Bellevue Presbyterian,BB/SAA
UID:176FF15EB72384C80D672C287F3D4A3:
DTSTAMP:2026-04-21T05:44:27Z:
SUMMARY:Bellevue Presbyterian at Here for the Cardio
DESCRIPTION;ENCODING=QUOTED-PRINTABLE:Bellevue Presbyterian at Here for the Cardio=0D=0A Time: 8:30 PM=0D=0A Location: Hidden Valley, Field 1
CLASS:PUBLIC
PRIORITY:5
BEGIN:VALARM
TRIGGER:-PT330M
ACTION:DISPLAY
DESCRIPTION:Reminder
END:VALARM
END:VEVENT
BEGIN:VEVENT
DTSTART:2016-07-28T01:00:00Z
DTEND:2016-07-28T03:30:00Z
LOCATION:MM8: Marymoor, Field 8
CATEGORIES:Softball,Bellevue Presbyterian,BB/SAA
UID:69AE557E4163D94EAAECB4FD6A53F35E:
DTSTAMP:2026-04-21T05:44:27Z:
SUMMARY:RagTag at Bellevue Presbyterian
DESCRIPTION;ENCODING=QUOTED-PRINTABLE:RagTag at Bellevue Presbyterian=0D=0A Time: 6:00 PM=0D=0A Location: Marymoor, Field 8
CLASS:PUBLIC
PRIORITY:5
BEGIN:VALARM
TRIGGER:-PT180M
ACTION:DISPLAY
DESCRIPTION:Reminder
END:VALARM
END:VEVENT
BEGIN:VEVENT
DTSTART:2016-08-04T01:00:00Z
DTEND:2016-08-04T03:30:00Z
LOCATION:MM6: Marymoor, Field 6
CATEGORIES:Softball,Bellevue Presbyterian,BB/SAA
UID:3D26C7D55DEF4A93B87576778A279C:
DTSTAMP:2026-04-21T05:44:27Z:
SUMMARY:Bellevue Presbyterian at Coors Light/Shockers
DESCRIPTION;ENCODING=QUOTED-PRINTABLE:Bellevue Presbyterian at Coors Light/Shockers=0D=0A Time: 6:00 PM=0D=0A Location: Marymoor, Field 6
CLASS:PUBLIC
PRIORITY:5
BEGIN:VALARM
TRIGGER:-PT180M
ACTION:DISPLAY
DESCRIPTION:Reminder
END:VALARM
END:VEVENT
BEGIN:VEVENT
DTSTART:2016-08-11T03:30:00Z
DTEND:2016-08-11T06:00:00Z
LOCATION:HP1: Highland Park, Field 1
CATEGORIES:Softball,Bellevue Presbyterian,BB/SAA
UID:54E81DAE3FB2994389433647327BFA:
DTSTAMP:2026-04-21T05:44:27Z:
SUMMARY:USCutter at Bellevue Presbyterian
DESCRIPTION;ENCODING=QUOTED-PRINTABLE:USCutter at Bellevue Presbyterian=0D=0A Time: 8:30 PM=0D=0A Location: Highland Park, Field 1
CLASS:PUBLIC
PRIORITY:5
BEGIN:VALARM
TRIGGER:-PT330M
ACTION:DISPLAY
DESCRIPTION:Reminder
END:VALARM
END:VEVENT
BEGIN:VEVENT
DTSTART:2016-08-18T01:00:00Z
DTEND:2016-08-18T03:30:00Z
LOCATION:MM4: Marymoor, Field 4
CATEGORIES:Softball,Bellevue Presbyterian,BB/SAA
UID:E195DC1128EE7543A5B859A0123FD9FA:
DTSTAMP:2026-04-21T05:44:27Z:
SUMMARY:Bellevue Presbyterian at Air Reps
DESCRIPTION;ENCODING=QUOTED-PRINTABLE:Bellevue Presbyterian at Air Reps=0D=0A Time: 6:00 PM=0D=0A Location: Marymoor, Field 4
CLASS:PUBLIC
PRIORITY:5
BEGIN:VALARM
TRIGGER:-PT180M
ACTION:DISPLAY
DESCRIPTION:Reminder
END:VALARM
END:VEVENT
BEGIN:VEVENT
DTSTART:2016-08-25T01:00:00Z
DTEND:2016-08-25T03:30:00Z
LOCATION:HV1: Hidden Valley, Field 1
CATEGORIES:Softball,Bellevue Presbyterian,BB/SAA
UID:984CC97FE7C15C4487F4B16E23B894C1:
DTSTAMP:2026-04-21T05:44:27Z:
SUMMARY:Junk Yard Dawgs at Bellevue Presbyterian
DESCRIPTION;ENCODING=QUOTED-PRINTABLE:Junk Yard Dawgs at Bellevue Presbyterian=0D=0A Time: 6:00 PM=0D=0A Location: Hidden Valley, Field 1
CLASS:PUBLIC
PRIORITY:5
BEGIN:VALARM
TRIGGER:-PT180M
ACTION:DISPLAY
DESCRIPTION:Reminder
END:VALARM
END:VEVENT
BEGIN:VEVENT
DTSTART:2016-09-01T03:30:00Z
DTEND:2016-09-01T06:00:00Z
LOCATION:MM7: Marymoor, Field 7
CATEGORIES:Softball,Bellevue Presbyterian,BB/SAA
UID:D7CB8FDD245449A86F2F51038D6DA:
DTSTAMP:2026-04-21T05:44:27Z:
SUMMARY:RagTag at Bellevue Presbyterian
DESCRIPTION;ENCODING=QUOTED-PRINTABLE:RagTag at Bellevue Presbyterian=0D=0A Time: 8:30 PM=0D=0A Location: Marymoor, Field 7
CLASS:PUBLIC
PRIORITY:5
BEGIN:VALARM
TRIGGER:-PT330M
ACTION:DISPLAY
DESCRIPTION:Reminder
END:VALARM
END:VEVENT
BEGIN:VEVENT
DTSTART:2016-09-15T01:00:00Z
DTEND:2016-09-15T03:30:00Z
LOCATION:HV1: Hidden Valley, Field 1
CATEGORIES:Softball,Bellevue Presbyterian,BB/SAA
UID:F454C2323F1C61479D98B8A18CE4C040:
DTSTAMP:2026-04-21T05:44:27Z:
SUMMARY:RagTag at Bellevue Presbyterian
DESCRIPTION;ENCODING=QUOTED-PRINTABLE:RagTag at Bellevue Presbyterian=0D=0A Time: 6:00 PM=0D=0A Location: Hidden Valley, Field 1
CLASS:PUBLIC
PRIORITY:5
BEGIN:VALARM
TRIGGER:-PT180M
ACTION:DISPLAY
DESCRIPTION:Reminder
END:VALARM
END:VEVENT
BEGIN:VEVENT
DTSTART:2016-09-15T04:00:00Z
DTEND:2016-09-15T06:30:00Z
LOCATION:HV1: Hidden Valley, Field 1
CATEGORIES:Softball,Bellevue Presbyterian,BB/SAA
UID:DFC17BEB1FE2E4983FFAE445C5E08D:
DTSTAMP:2026-04-21T05:44:27Z:
SUMMARY:USCutter at Bellevue Presbyterian
DESCRIPTION;ENCODING=QUOTED-PRINTABLE:USCutter at Bellevue Presbyterian=0D=0A Time: 9:00 PM=0D=0A Location: Hidden Valley, Field 1
CLASS:PUBLIC
PRIORITY:5
BEGIN:VALARM
TRIGGER:-PT360M
ACTION:DISPLAY
DESCRIPTION:Reminder
END:VALARM
END:VEVENT
END:VCALENDAR
