BEGIN:VCALENDAR
PRODID:-//Microsoft Corporation//Outlook 11.0 MIMEDIR//EN
VERSION:2.0
METHOD:PUBLISH
BEGIN:VEVENT
DTSTART:2016-07-14T01:00:00Z
DTEND:2016-07-14T03:30:00Z
LOCATION:MM6: Marymoor, Field 6
CATEGORIES:Softball,Silver Foxes,BB/SAA
UID:14E659B215F78B4F85CE4170A7644D36:
DTSTAMP:2026-04-25T02:04:22Z:
SUMMARY:Silver Foxes at Almost Pro
DESCRIPTION;ENCODING=QUOTED-PRINTABLE:Silver Foxes at Almost Pro=0D=0A Time: 6:00 PM=0D=0A Location: Marymoor, Field 6
CLASS:PUBLIC
PRIORITY:5
BEGIN:VALARM
TRIGGER:-PT180M
ACTION:DISPLAY
DESCRIPTION:Reminder
END:VALARM
END:VEVENT
BEGIN:VEVENT
DTSTART:2016-07-21T03:30:00Z
DTEND:2016-07-21T06:00:00Z
LOCATION:HP1: Highland Park, Field 1
CATEGORIES:Softball,Silver Foxes,BB/SAA
UID:61B0DDC5CE10D748ABE720911C6F382D:
DTSTAMP:2026-04-25T02:04:22Z:
SUMMARY:Silver Foxes at Regulators
DESCRIPTION;ENCODING=QUOTED-PRINTABLE:Silver Foxes at Regulators=0D=0A Time: 8:30 PM=0D=0A Location: Highland Park, Field 1
CLASS:PUBLIC
PRIORITY:5
BEGIN:VALARM
TRIGGER:-PT330M
ACTION:DISPLAY
DESCRIPTION:Reminder
END:VALARM
END:VEVENT
BEGIN:VEVENT
DTSTART:2016-07-28T01:00:00Z
DTEND:2016-07-28T03:30:00Z
LOCATION:MM7: Marymoor, Field 7
CATEGORIES:Softball,Silver Foxes,BB/SAA
UID:361E3123D559438694F03EF9D2BD71:
DTSTAMP:2026-04-25T02:04:22Z:
SUMMARY:Playing it Hard! at Silver Foxes
DESCRIPTION;ENCODING=QUOTED-PRINTABLE:Playing it Hard! at Silver Foxes=0D=0A Time: 6:00 PM=0D=0A Location: Marymoor, Field 7
CLASS:PUBLIC
PRIORITY:5
BEGIN:VALARM
TRIGGER:-PT180M
ACTION:DISPLAY
DESCRIPTION:Reminder
END:VALARM
END:VEVENT
BEGIN:VEVENT
DTSTART:2016-08-04T03:30:00Z
DTEND:2016-08-04T06:00:00Z
LOCATION:HV1: Hidden Valley, Field 1
CATEGORIES:Softball,Silver Foxes,BB/SAA
UID:267EB57C18514145A07BA7C295877920:
DTSTAMP:2026-04-25T02:04:22Z:
SUMMARY:Moneyballs at Silver Foxes
DESCRIPTION;ENCODING=QUOTED-PRINTABLE:Moneyballs at Silver Foxes=0D=0A Time: 8:30 PM=0D=0A Location: Hidden Valley, Field 1
CLASS:PUBLIC
PRIORITY:5
BEGIN:VALARM
TRIGGER:-PT330M
ACTION:DISPLAY
DESCRIPTION:Reminder
END:VALARM
END:VEVENT
BEGIN:VEVENT
DTSTART:2016-08-11T01:00:00Z
DTEND:2016-08-11T03:30:00Z
LOCATION:MM8: Marymoor, Field 8
CATEGORIES:Softball,Silver Foxes,BB/SAA
UID:5F16A2766CB7AE45989FEE26C2DF1CB0:
DTSTAMP:2026-04-25T02:04:22Z:
SUMMARY:Silver Foxes at Core'ked Bats
DESCRIPTION;ENCODING=QUOTED-PRINTABLE:Silver Foxes at Core'ked Bats=0D=0A Time: 6:00 PM=0D=0A Location: Marymoor, Field 8
CLASS:PUBLIC
PRIORITY:5
BEGIN:VALARM
TRIGGER:-PT180M
ACTION:DISPLAY
DESCRIPTION:Reminder
END:VALARM
END:VEVENT
BEGIN:VEVENT
DTSTART:2016-08-18T01:00:00Z
DTEND:2016-08-18T03:30:00Z
LOCATION:MM7: Marymoor, Field 7
CATEGORIES:Softball,Silver Foxes,BB/SAA
UID:3471DE49C5B24F96AFE715F3D2969:
DTSTAMP:2026-04-25T02:04:22Z:
SUMMARY:Almost Pro at Silver Foxes
DESCRIPTION;ENCODING=QUOTED-PRINTABLE:Almost Pro at Silver Foxes=0D=0A Time: 6:00 PM=0D=0A Location: Marymoor, Field 7
CLASS:PUBLIC
PRIORITY:5
BEGIN:VALARM
TRIGGER:-PT180M
ACTION:DISPLAY
DESCRIPTION:Reminder
END:VALARM
END:VEVENT
BEGIN:VEVENT
DTSTART:2016-09-01T03:30:00Z
DTEND:2016-09-01T06:00:00Z
LOCATION:HP1: Highland Park, Field 1
CATEGORIES:Softball,Silver Foxes,BB/SAA
UID:D32F7D2E5997D4ABB170E69B45336:
DTSTAMP:2026-04-25T02:04:22Z:
SUMMARY:Silver Foxes at Playing it Hard!
DESCRIPTION;ENCODING=QUOTED-PRINTABLE:Silver Foxes at Playing it Hard!=0D=0A Time: 8:30 PM=0D=0A Location: Highland Park, Field 1
CLASS:PUBLIC
PRIORITY:5
BEGIN:VALARM
TRIGGER:-PT330M
ACTION:DISPLAY
DESCRIPTION:Reminder
END:VALARM
END:VEVENT
BEGIN:VEVENT
DTSTART:2016-09-08T01:00:00Z
DTEND:2016-09-08T03:30:00Z
LOCATION:MM6: Marymoor, Field 6
CATEGORIES:Softball,Silver Foxes,BB/SAA
UID:562D60B8369649822D3F3046C6BE1B:
DTSTAMP:2026-04-25T02:04:22Z:
SUMMARY:Regulators at Silver Foxes
DESCRIPTION;ENCODING=QUOTED-PRINTABLE:Regulators at Silver Foxes=0D=0A Time: 6:00 PM=0D=0A Location: Marymoor, Field 6
CLASS:PUBLIC
PRIORITY:5
BEGIN:VALARM
TRIGGER:-PT180M
ACTION:DISPLAY
DESCRIPTION:Reminder
END:VALARM
END:VEVENT
BEGIN:VEVENT
DTSTART:2016-09-22T01:00:00Z
DTEND:2016-09-22T03:30:00Z
LOCATION:HV1: Hidden Valley, Field 1
CATEGORIES:Softball,Silver Foxes,BB/SAA
UID:ACA5D434D43E241BF2F3FE277343BBA:
DTSTAMP:2026-04-25T02:04:22Z:
SUMMARY:Silver Foxes at Playing it Hard!
DESCRIPTION;ENCODING=QUOTED-PRINTABLE:Silver Foxes at Playing it Hard!=0D=0A Time: 6:00 PM=0D=0A Location: Hidden Valley, Field 1
CLASS:PUBLIC
PRIORITY:5
BEGIN:VALARM
TRIGGER:-PT180M
ACTION:DISPLAY
DESCRIPTION:Reminder
END:VALARM
END:VEVENT
END:VCALENDAR
