BEGIN:VCALENDAR
PRODID:-//Microsoft Corporation//Outlook 11.0 MIMEDIR//EN
VERSION:2.0
METHOD:PUBLISH
BEGIN:VEVENT
DTSTART:2016-07-14T03:30:00Z
DTEND:2016-07-14T06:00:00Z
LOCATION:MM8: Marymoor, Field 8
CATEGORIES:Softball,Regulators,BB/SAA
UID:135E5FF3D7A3B443B4135B4D42D0A8:
DTSTAMP:2026-04-25T12:21:12Z:
SUMMARY:Regulators at Core'ked Bats
DESCRIPTION;ENCODING=QUOTED-PRINTABLE:Regulators at Core'ked Bats=0D=0A Time: 8:30 PM=0D=0A Location: Marymoor, Field 8
CLASS:PUBLIC
PRIORITY:5
BEGIN:VALARM
TRIGGER:-PT330M
ACTION:DISPLAY
DESCRIPTION:Reminder
END:VALARM
END:VEVENT
BEGIN:VEVENT
DTSTART:2016-07-21T03:30:00Z
DTEND:2016-07-21T06:00:00Z
LOCATION:HP1: Highland Park, Field 1
CATEGORIES:Softball,Regulators,BB/SAA
UID:801A92349BAA6040B2A41D041B066EC:
DTSTAMP:2026-04-25T12:21:12Z:
SUMMARY:Silver Foxes at Regulators
DESCRIPTION;ENCODING=QUOTED-PRINTABLE:Silver Foxes at Regulators=0D=0A Time: 8:30 PM=0D=0A Location: Highland Park, Field 1
CLASS:PUBLIC
PRIORITY:5
BEGIN:VALARM
TRIGGER:-PT330M
ACTION:DISPLAY
DESCRIPTION:Reminder
END:VALARM
END:VEVENT
BEGIN:VEVENT
DTSTART:2016-07-28T01:00:00Z
DTEND:2016-07-28T03:30:00Z
LOCATION:MM6: Marymoor, Field 6
CATEGORIES:Softball,Regulators,BB/SAA
UID:BBC9CD8F93DC9A428F5D43F5FFFCA751:
DTSTAMP:2026-04-25T12:21:12Z:
SUMMARY:Regulators at Moneyballs
DESCRIPTION;ENCODING=QUOTED-PRINTABLE:Regulators at Moneyballs=0D=0A Time: 6:00 PM=0D=0A Location: Marymoor, Field 6
CLASS:PUBLIC
PRIORITY:5
BEGIN:VALARM
TRIGGER:-PT180M
ACTION:DISPLAY
DESCRIPTION:Reminder
END:VALARM
END:VEVENT
BEGIN:VEVENT
DTSTART:2016-08-04T01:00:00Z
DTEND:2016-08-04T03:30:00Z
LOCATION:HV1: Hidden Valley, Field 1
CATEGORIES:Softball,Regulators,BB/SAA
UID:F66C6B53529DAE4DABF417F3FD9B338:
DTSTAMP:2026-04-25T12:21:12Z:
SUMMARY:Almost Pro at Regulators
DESCRIPTION;ENCODING=QUOTED-PRINTABLE:Almost Pro at Regulators=0D=0A Time: 6:00 PM=0D=0A Location: Hidden Valley, Field 1
CLASS:PUBLIC
PRIORITY:5
BEGIN:VALARM
TRIGGER:-PT180M
ACTION:DISPLAY
DESCRIPTION:Reminder
END:VALARM
END:VEVENT
BEGIN:VEVENT
DTSTART:2016-08-11T01:00:00Z
DTEND:2016-08-11T03:30:00Z
LOCATION:MM3: Marymoor, Field 3
CATEGORIES:Softball,Regulators,BB/SAA
UID:BBF67814661A54E95AE8EEC916A2FB7:
DTSTAMP:2026-04-25T12:21:12Z:
SUMMARY:Regulators at Playing it Hard!
DESCRIPTION;ENCODING=QUOTED-PRINTABLE:Regulators at Playing it Hard!=0D=0A Time: 6:00 PM=0D=0A Location: Marymoor, Field 3
CLASS:PUBLIC
PRIORITY:5
BEGIN:VALARM
TRIGGER:-PT180M
ACTION:DISPLAY
DESCRIPTION:Reminder
END:VALARM
END:VEVENT
BEGIN:VEVENT
DTSTART:2016-08-18T03:30:00Z
DTEND:2016-08-18T06:00:00Z
LOCATION:HV1: Hidden Valley, Field 1
CATEGORIES:Softball,Regulators,BB/SAA
UID:558154D3CC204946B8791C58BDEA6A21:
DTSTAMP:2026-04-25T12:21:12Z:
SUMMARY:Core'ked Bats at Regulators
DESCRIPTION;ENCODING=QUOTED-PRINTABLE:Core'ked Bats at Regulators=0D=0A Time: 8:30 PM=0D=0A Location: Hidden Valley, Field 1
CLASS:PUBLIC
PRIORITY:5
BEGIN:VALARM
TRIGGER:-PT330M
ACTION:DISPLAY
DESCRIPTION:Reminder
END:VALARM
END:VEVENT
BEGIN:VEVENT
DTSTART:2016-09-01T03:30:00Z
DTEND:2016-09-01T06:00:00Z
LOCATION:MM8: Marymoor, Field 8
CATEGORIES:Softball,Regulators,BB/SAA
UID:9CFF8261DBA8FA4DBC434A26ACBADA1:
DTSTAMP:2026-04-25T12:21:12Z:
SUMMARY:Moneyballs at Regulators
DESCRIPTION;ENCODING=QUOTED-PRINTABLE:Moneyballs at Regulators=0D=0A Time: 8:30 PM=0D=0A Location: Marymoor, Field 8
CLASS:PUBLIC
PRIORITY:5
BEGIN:VALARM
TRIGGER:-PT330M
ACTION:DISPLAY
DESCRIPTION:Reminder
END:VALARM
END:VEVENT
BEGIN:VEVENT
DTSTART:2016-09-08T01:00:00Z
DTEND:2016-09-08T03:30:00Z
LOCATION:MM6: Marymoor, Field 6
CATEGORIES:Softball,Regulators,BB/SAA
UID:3E1341FF4A8C3449BA6BCF1C8347419:
DTSTAMP:2026-04-25T12:21:12Z:
SUMMARY:Regulators at Silver Foxes
DESCRIPTION;ENCODING=QUOTED-PRINTABLE:Regulators at Silver Foxes=0D=0A Time: 6:00 PM=0D=0A Location: Marymoor, Field 6
CLASS:PUBLIC
PRIORITY:5
BEGIN:VALARM
TRIGGER:-PT180M
ACTION:DISPLAY
DESCRIPTION:Reminder
END:VALARM
END:VEVENT
END:VCALENDAR
