BEGIN:VCALENDAR
PRODID:-//Microsoft Corporation//Outlook 11.0 MIMEDIR//EN
VERSION:2.0
METHOD:PUBLISH
BEGIN:VEVENT
DTSTART:2016-07-14T03:30:00Z
DTEND:2016-07-14T06:00:00Z
LOCATION:MM8: Marymoor, Field 8
CATEGORIES:Softball,Core'ked Bats,BB/SAA
UID:576B972DE3C8294DB79751238DDB9A6C:
DTSTAMP:2026-04-25T12:21:28Z:
SUMMARY:Regulators at Core'ked Bats
DESCRIPTION;ENCODING=QUOTED-PRINTABLE:Regulators at Core'ked Bats=0D=0A Time: 8:30 PM=0D=0A Location: Marymoor, Field 8
CLASS:PUBLIC
PRIORITY:5
BEGIN:VALARM
TRIGGER:-PT330M
ACTION:DISPLAY
DESCRIPTION:Reminder
END:VALARM
END:VEVENT
BEGIN:VEVENT
DTSTART:2016-07-21T01:00:00Z
DTEND:2016-07-21T03:30:00Z
LOCATION:MM8: Marymoor, Field 8
CATEGORIES:Softball,Core'ked Bats,BB/SAA
UID:B66483A725FF1242A9A219F0C948A3E:
DTSTAMP:2026-04-25T12:21:28Z:
SUMMARY:Core'ked Bats at Moneyballs
DESCRIPTION;ENCODING=QUOTED-PRINTABLE:Core'ked Bats at Moneyballs=0D=0A Time: 6:00 PM=0D=0A Location: Marymoor, Field 8
CLASS:PUBLIC
PRIORITY:5
BEGIN:VALARM
TRIGGER:-PT180M
ACTION:DISPLAY
DESCRIPTION:Reminder
END:VALARM
END:VEVENT
BEGIN:VEVENT
DTSTART:2016-07-28T03:30:00Z
DTEND:2016-07-28T06:00:00Z
LOCATION:MM7: Marymoor, Field 7
CATEGORIES:Softball,Core'ked Bats,BB/SAA
UID:F452C25856308C4785F682CB138F3CB6:
DTSTAMP:2026-04-25T12:21:28Z:
SUMMARY:Core'ked Bats at Almost Pro
DESCRIPTION;ENCODING=QUOTED-PRINTABLE:Core'ked Bats at Almost Pro=0D=0A Time: 8:30 PM=0D=0A Location: Marymoor, Field 7
CLASS:PUBLIC
PRIORITY:5
BEGIN:VALARM
TRIGGER:-PT330M
ACTION:DISPLAY
DESCRIPTION:Reminder
END:VALARM
END:VEVENT
BEGIN:VEVENT
DTSTART:2016-08-04T01:00:00Z
DTEND:2016-08-04T03:30:00Z
LOCATION:MM4: Marymoor, Field 4
CATEGORIES:Softball,Core'ked Bats,BB/SAA
UID:FDEF3BBF6ACE340BC2095CCF7A8BDC1:
DTSTAMP:2026-04-25T12:21:28Z:
SUMMARY:Playing it Hard! at Core'ked Bats
DESCRIPTION;ENCODING=QUOTED-PRINTABLE:Playing it Hard! at Core'ked Bats=0D=0A Time: 6:00 PM=0D=0A Location: Marymoor, Field 4
CLASS:PUBLIC
PRIORITY:5
BEGIN:VALARM
TRIGGER:-PT180M
ACTION:DISPLAY
DESCRIPTION:Reminder
END:VALARM
END:VEVENT
BEGIN:VEVENT
DTSTART:2016-08-11T01:00:00Z
DTEND:2016-08-11T03:30:00Z
LOCATION:MM8: Marymoor, Field 8
CATEGORIES:Softball,Core'ked Bats,BB/SAA
UID:73147F5CE2BEFF45B86326BEEBE7981:
DTSTAMP:2026-04-25T12:21:28Z:
SUMMARY:Silver Foxes at Core'ked Bats
DESCRIPTION;ENCODING=QUOTED-PRINTABLE:Silver Foxes at Core'ked Bats=0D=0A Time: 6:00 PM=0D=0A Location: Marymoor, Field 8
CLASS:PUBLIC
PRIORITY:5
BEGIN:VALARM
TRIGGER:-PT180M
ACTION:DISPLAY
DESCRIPTION:Reminder
END:VALARM
END:VEVENT
BEGIN:VEVENT
DTSTART:2016-08-18T03:30:00Z
DTEND:2016-08-18T06:00:00Z
LOCATION:HV1: Hidden Valley, Field 1
CATEGORIES:Softball,Core'ked Bats,BB/SAA
UID:E51AC347D22CA64CBE52406A7355A98D:
DTSTAMP:2026-04-25T12:21:28Z:
SUMMARY:Core'ked Bats at Regulators
DESCRIPTION;ENCODING=QUOTED-PRINTABLE:Core'ked Bats at Regulators=0D=0A Time: 8:30 PM=0D=0A Location: Hidden Valley, Field 1
CLASS:PUBLIC
PRIORITY:5
BEGIN:VALARM
TRIGGER:-PT330M
ACTION:DISPLAY
DESCRIPTION:Reminder
END:VALARM
END:VEVENT
BEGIN:VEVENT
DTSTART:2016-08-25T01:00:00Z
DTEND:2016-08-25T03:30:00Z
LOCATION:HP1: Highland Park, Field 1
CATEGORIES:Softball,Core'ked Bats,BB/SAA
UID:7DB03716ADE7A04F83344D23CEE2FD46:
DTSTAMP:2026-04-25T12:21:28Z:
SUMMARY:Core'ked Bats at Moneyballs
DESCRIPTION;ENCODING=QUOTED-PRINTABLE:Core'ked Bats at Moneyballs=0D=0A Time: 6:00 PM=0D=0A Location: Highland Park, Field 1
CLASS:PUBLIC
PRIORITY:5
BEGIN:VALARM
TRIGGER:-PT180M
ACTION:DISPLAY
DESCRIPTION:Reminder
END:VALARM
END:VEVENT
BEGIN:VEVENT
DTSTART:2016-09-01T01:00:00Z
DTEND:2016-09-01T03:30:00Z
LOCATION:HV1: Hidden Valley, Field 1
CATEGORIES:Softball,Core'ked Bats,BB/SAA
UID:34326F46D2434C41A3E9205FC03481D:
DTSTAMP:2026-04-25T12:21:28Z:
SUMMARY:Almost Pro at Core'ked Bats
DESCRIPTION;ENCODING=QUOTED-PRINTABLE:Almost Pro at Core'ked Bats=0D=0A Time: 6:00 PM=0D=0A Location: Hidden Valley, Field 1
CLASS:PUBLIC
PRIORITY:5
BEGIN:VALARM
TRIGGER:-PT180M
ACTION:DISPLAY
DESCRIPTION:Reminder
END:VALARM
END:VEVENT
END:VCALENDAR
