BEGIN:VCALENDAR
PRODID:-//Microsoft Corporation//Outlook 11.0 MIMEDIR//EN
VERSION:2.0
METHOD:PUBLISH
BEGIN:VEVENT
DTSTART:2016-07-15T03:30:00Z
DTEND:2016-07-15T06:00:00Z
LOCATION:HV1: Hidden Valley, Field 1
CATEGORIES:Softball,Wazzu Brew Crew,BB/SAA
UID:8F6A0A5A2C16F41B4493C55FFDEA618:
DTSTAMP:2026-04-21T05:43:23Z:
SUMMARY:Wazzu Brew Crew at Carpet To Go
DESCRIPTION;ENCODING=QUOTED-PRINTABLE:Wazzu Brew Crew at Carpet To Go=0D=0A Time: 8:30 PM=0D=0A Location: Hidden Valley, Field 1
CLASS:PUBLIC
PRIORITY:5
BEGIN:VALARM
TRIGGER:-PT330M
ACTION:DISPLAY
DESCRIPTION:Reminder
END:VALARM
END:VEVENT
BEGIN:VEVENT
DTSTART:2016-07-22T01:00:00Z
DTEND:2016-07-22T03:30:00Z
LOCATION:HV1: Hidden Valley, Field 1
CATEGORIES:Softball,Wazzu Brew Crew,BB/SAA
UID:44936E79581368488F96CFF37E4A2FC8:
DTSTAMP:2026-04-21T05:43:23Z:
SUMMARY:Wazzu Brew Crew at Cardtapp
DESCRIPTION;ENCODING=QUOTED-PRINTABLE:Wazzu Brew Crew at Cardtapp=0D=0A Time: 6:00 PM=0D=0A Location: Hidden Valley, Field 1
CLASS:PUBLIC
PRIORITY:5
BEGIN:VALARM
TRIGGER:-PT180M
ACTION:DISPLAY
DESCRIPTION:Reminder
END:VALARM
END:VEVENT
BEGIN:VEVENT
DTSTART:2016-07-29T01:00:00Z
DTEND:2016-07-29T03:30:00Z
LOCATION:MM7: Marymoor, Field 7
CATEGORIES:Softball,Wazzu Brew Crew,BB/SAA
UID:904E3035831FAA4F8BC59EF85DBB2FCF:
DTSTAMP:2026-04-21T05:43:23Z:
SUMMARY:Head Hunters at Wazzu Brew Crew
DESCRIPTION;ENCODING=QUOTED-PRINTABLE:Head Hunters at Wazzu Brew Crew=0D=0A Time: 6:00 PM=0D=0A Location: Marymoor, Field 7
CLASS:PUBLIC
PRIORITY:5
BEGIN:VALARM
TRIGGER:-PT180M
ACTION:DISPLAY
DESCRIPTION:Reminder
END:VALARM
END:VEVENT
BEGIN:VEVENT
DTSTART:2016-08-05T01:00:00Z
DTEND:2016-08-05T03:30:00Z
LOCATION:HP1: Highland Park, Field 1
CATEGORIES:Softball,Wazzu Brew Crew,BB/SAA
UID:6BAD5F12347466418453770C4FED441:
DTSTAMP:2026-04-21T05:43:23Z:
SUMMARY:Wazzu Brew Crew at 520 Lobs
DESCRIPTION;ENCODING=QUOTED-PRINTABLE:Wazzu Brew Crew at 520 Lobs=0D=0A Time: 6:00 PM=0D=0A Location: Highland Park, Field 1
CLASS:PUBLIC
PRIORITY:5
BEGIN:VALARM
TRIGGER:-PT180M
ACTION:DISPLAY
DESCRIPTION:Reminder
END:VALARM
END:VEVENT
BEGIN:VEVENT
DTSTART:2016-08-12T01:00:00Z
DTEND:2016-08-12T03:30:00Z
LOCATION:HV1: Hidden Valley, Field 1
CATEGORIES:Softball,Wazzu Brew Crew,BB/SAA
UID:6C769C11B881FB4A9854A19857944C95:
DTSTAMP:2026-04-21T05:43:23Z:
SUMMARY:Goose Pub Wingmen at Wazzu Brew Crew
DESCRIPTION;ENCODING=QUOTED-PRINTABLE:Goose Pub Wingmen at Wazzu Brew Crew=0D=0A Time: 6:00 PM=0D=0A Location: Hidden Valley, Field 1
CLASS:PUBLIC
PRIORITY:5
BEGIN:VALARM
TRIGGER:-PT180M
ACTION:DISPLAY
DESCRIPTION:Reminder
END:VALARM
END:VEVENT
BEGIN:VEVENT
DTSTART:2016-08-19T01:00:00Z
DTEND:2016-08-19T03:30:00Z
LOCATION:HP1: Highland Park, Field 1
CATEGORIES:Softball,Wazzu Brew Crew,BB/SAA
UID:7A1EF30E3A4594CBB104F4899107EAE:
DTSTAMP:2026-04-21T05:43:23Z:
SUMMARY:Wazzu Brew Crew at I'd Hit it
DESCRIPTION;ENCODING=QUOTED-PRINTABLE:Wazzu Brew Crew at I'd Hit it=0D=0A Time: 6:00 PM=0D=0A Location: Highland Park, Field 1
CLASS:PUBLIC
PRIORITY:5
BEGIN:VALARM
TRIGGER:-PT180M
ACTION:DISPLAY
DESCRIPTION:Reminder
END:VALARM
END:VEVENT
BEGIN:VEVENT
DTSTART:2016-08-26T01:00:00Z
DTEND:2016-08-26T03:30:00Z
LOCATION:HP1: Highland Park, Field 1
CATEGORIES:Softball,Wazzu Brew Crew,BB/SAA
UID:CFF1B262525E14B893AEC1DE678B31:
DTSTAMP:2026-04-21T05:43:23Z:
SUMMARY:KTOWN at Wazzu Brew Crew
DESCRIPTION;ENCODING=QUOTED-PRINTABLE:KTOWN at Wazzu Brew Crew=0D=0A Time: 6:00 PM=0D=0A Location: Highland Park, Field 1
CLASS:PUBLIC
PRIORITY:5
BEGIN:VALARM
TRIGGER:-PT180M
ACTION:DISPLAY
DESCRIPTION:Reminder
END:VALARM
END:VEVENT
BEGIN:VEVENT
DTSTART:2016-09-02T03:30:00Z
DTEND:2016-09-02T06:00:00Z
LOCATION:HV1: Hidden Valley, Field 1
CATEGORIES:Softball,Wazzu Brew Crew,BB/SAA
UID:791776E24F4B646A18E98CA9A3F2B2E:
DTSTAMP:2026-04-21T05:43:23Z:
SUMMARY:Head Hunters at Wazzu Brew Crew
DESCRIPTION;ENCODING=QUOTED-PRINTABLE:Head Hunters at Wazzu Brew Crew=0D=0A Time: 8:30 PM=0D=0A Location: Hidden Valley, Field 1
CLASS:PUBLIC
PRIORITY:5
BEGIN:VALARM
TRIGGER:-PT330M
ACTION:DISPLAY
DESCRIPTION:Reminder
END:VALARM
END:VEVENT
END:VCALENDAR
