BEGIN:VCALENDAR
PRODID:-//Microsoft Corporation//Outlook 11.0 MIMEDIR//EN
VERSION:2.0
METHOD:PUBLISH
BEGIN:VEVENT
DTSTART:2016-07-15T01:00:00Z
DTEND:2016-07-15T03:30:00Z
LOCATION:MM7: Marymoor, Field 7
CATEGORIES:Softball,Goose Pub Wingmen,BB/SAA
UID:37E2E9C020BD7C418292726C8AAD71E3:
DTSTAMP:2026-04-21T07:17:15Z:
SUMMARY:Goose Pub Wingmen at Head Hunters
DESCRIPTION;ENCODING=QUOTED-PRINTABLE:Goose Pub Wingmen at Head Hunters=0D=0A Time: 6:00 PM=0D=0A Location: Marymoor, Field 7
CLASS:PUBLIC
PRIORITY:5
BEGIN:VALARM
TRIGGER:-PT180M
ACTION:DISPLAY
DESCRIPTION:Reminder
END:VALARM
END:VEVENT
BEGIN:VEVENT
DTSTART:2016-07-22T03:30:00Z
DTEND:2016-07-22T06:00:00Z
LOCATION:HV1: Hidden Valley, Field 1
CATEGORIES:Softball,Goose Pub Wingmen,BB/SAA
UID:1E852AB418294D82B74E0D70E5D8:
DTSTAMP:2026-04-21T07:17:15Z:
SUMMARY:Goose Pub Wingmen at Carpet To Go
DESCRIPTION;ENCODING=QUOTED-PRINTABLE:Goose Pub Wingmen at Carpet To Go=0D=0A Time: 8:30 PM=0D=0A Location: Hidden Valley, Field 1
CLASS:PUBLIC
PRIORITY:5
BEGIN:VALARM
TRIGGER:-PT330M
ACTION:DISPLAY
DESCRIPTION:Reminder
END:VALARM
END:VEVENT
BEGIN:VEVENT
DTSTART:2016-07-29T01:00:00Z
DTEND:2016-07-29T03:30:00Z
LOCATION:HP1: Highland Park, Field 1
CATEGORIES:Softball,Goose Pub Wingmen,BB/SAA
UID:E86AAB7F4ABF2E438753ADEF4A8CACA2:
DTSTAMP:2026-04-21T07:17:15Z:
SUMMARY:520 Lobs at Goose Pub Wingmen
DESCRIPTION;ENCODING=QUOTED-PRINTABLE:520 Lobs at Goose Pub Wingmen=0D=0A Time: 6:00 PM=0D=0A Location: Highland Park, Field 1
CLASS:PUBLIC
PRIORITY:5
BEGIN:VALARM
TRIGGER:-PT180M
ACTION:DISPLAY
DESCRIPTION:Reminder
END:VALARM
END:VEVENT
BEGIN:VEVENT
DTSTART:2016-08-05T01:00:00Z
DTEND:2016-08-05T03:30:00Z
LOCATION:MM7: Marymoor, Field 7
CATEGORIES:Softball,Goose Pub Wingmen,BB/SAA
UID:5299531676FEEA478C773CAD4C223290:
DTSTAMP:2026-04-21T07:17:15Z:
SUMMARY:Cardtapp at Goose Pub Wingmen
DESCRIPTION;ENCODING=QUOTED-PRINTABLE:Cardtapp at Goose Pub Wingmen=0D=0A Time: 6:00 PM=0D=0A Location: Marymoor, Field 7
CLASS:PUBLIC
PRIORITY:5
BEGIN:VALARM
TRIGGER:-PT180M
ACTION:DISPLAY
DESCRIPTION:Reminder
END:VALARM
END:VEVENT
BEGIN:VEVENT
DTSTART:2016-08-12T01:00:00Z
DTEND:2016-08-12T03:30:00Z
LOCATION:HV1: Hidden Valley, Field 1
CATEGORIES:Softball,Goose Pub Wingmen,BB/SAA
UID:A03989A7F2975247BF08A39C2D87F1D:
DTSTAMP:2026-04-21T07:17:15Z:
SUMMARY:Goose Pub Wingmen at Wazzu Brew Crew
DESCRIPTION;ENCODING=QUOTED-PRINTABLE:Goose Pub Wingmen at Wazzu Brew Crew=0D=0A Time: 6:00 PM=0D=0A Location: Hidden Valley, Field 1
CLASS:PUBLIC
PRIORITY:5
BEGIN:VALARM
TRIGGER:-PT180M
ACTION:DISPLAY
DESCRIPTION:Reminder
END:VALARM
END:VEVENT
BEGIN:VEVENT
DTSTART:2016-08-19T03:30:00Z
DTEND:2016-08-19T06:00:00Z
LOCATION:HV1: Hidden Valley, Field 1
CATEGORIES:Softball,Goose Pub Wingmen,BB/SAA
UID:8A7A61C7179141488BEE10BD6F1D74F:
DTSTAMP:2026-04-21T07:17:15Z:
SUMMARY:Goose Pub Wingmen at KTOWN
DESCRIPTION;ENCODING=QUOTED-PRINTABLE:Goose Pub Wingmen at KTOWN=0D=0A Time: 8:30 PM=0D=0A Location: Hidden Valley, Field 1
CLASS:PUBLIC
PRIORITY:5
BEGIN:VALARM
TRIGGER:-PT330M
ACTION:DISPLAY
DESCRIPTION:Reminder
END:VALARM
END:VEVENT
BEGIN:VEVENT
DTSTART:2016-08-26T03:30:00Z
DTEND:2016-08-26T06:00:00Z
LOCATION:HP1: Highland Park, Field 1
CATEGORIES:Softball,Goose Pub Wingmen,BB/SAA
UID:DA4EA6B3ABBA24CA55C2F642BFCCE82:
DTSTAMP:2026-04-21T07:17:15Z:
SUMMARY:I'd Hit it at Goose Pub Wingmen
DESCRIPTION;ENCODING=QUOTED-PRINTABLE:I'd Hit it at Goose Pub Wingmen=0D=0A Time: 8:30 PM=0D=0A Location: Highland Park, Field 1
CLASS:PUBLIC
PRIORITY:5
BEGIN:VALARM
TRIGGER:-PT330M
ACTION:DISPLAY
DESCRIPTION:Reminder
END:VALARM
END:VEVENT
BEGIN:VEVENT
DTSTART:2016-09-02T01:00:00Z
DTEND:2016-09-02T03:30:00Z
LOCATION:HV1: Hidden Valley, Field 1
CATEGORIES:Softball,Goose Pub Wingmen,BB/SAA
UID:10308A51D7255F4DA179D0F45505E66:
DTSTAMP:2026-04-21T07:17:15Z:
SUMMARY:520 Lobs at Goose Pub Wingmen
DESCRIPTION;ENCODING=QUOTED-PRINTABLE:520 Lobs at Goose Pub Wingmen=0D=0A Time: 6:00 PM=0D=0A Location: Hidden Valley, Field 1
CLASS:PUBLIC
PRIORITY:5
BEGIN:VALARM
TRIGGER:-PT180M
ACTION:DISPLAY
DESCRIPTION:Reminder
END:VALARM
END:VEVENT
END:VCALENDAR
