BEGIN:VCALENDAR
PRODID:-//Microsoft Corporation//Outlook 11.0 MIMEDIR//EN
VERSION:2.0
METHOD:PUBLISH
BEGIN:VEVENT
DTSTART:2016-07-15T03:30:00Z
DTEND:2016-07-15T06:00:00Z
LOCATION:HV1: Hidden Valley, Field 1
CATEGORIES:Softball,Carpet To Go,BB/SAA
UID:7BF5B2C6EC6314195A4F6F70C11139:
DTSTAMP:2026-04-21T07:17:43Z:
SUMMARY:Wazzu Brew Crew at Carpet To Go
DESCRIPTION;ENCODING=QUOTED-PRINTABLE:Wazzu Brew Crew at Carpet To Go=0D=0A Time: 8:30 PM=0D=0A Location: Hidden Valley, Field 1
CLASS:PUBLIC
PRIORITY:5
BEGIN:VALARM
TRIGGER:-PT330M
ACTION:DISPLAY
DESCRIPTION:Reminder
END:VALARM
END:VEVENT
BEGIN:VEVENT
DTSTART:2016-07-22T03:30:00Z
DTEND:2016-07-22T06:00:00Z
LOCATION:HV1: Hidden Valley, Field 1
CATEGORIES:Softball,Carpet To Go,BB/SAA
UID:4BBD9A702C81A44C9CE3CF46EB57EB:
DTSTAMP:2026-04-21T07:17:43Z:
SUMMARY:Goose Pub Wingmen at Carpet To Go
DESCRIPTION;ENCODING=QUOTED-PRINTABLE:Goose Pub Wingmen at Carpet To Go=0D=0A Time: 8:30 PM=0D=0A Location: Hidden Valley, Field 1
CLASS:PUBLIC
PRIORITY:5
BEGIN:VALARM
TRIGGER:-PT330M
ACTION:DISPLAY
DESCRIPTION:Reminder
END:VALARM
END:VEVENT
BEGIN:VEVENT
DTSTART:2016-07-29T03:30:00Z
DTEND:2016-07-29T06:00:00Z
LOCATION:HV1: Hidden Valley, Field 1
CATEGORIES:Softball,Carpet To Go,BB/SAA
UID:202C7CBD5DE5F544A6B7B584FBF0A1BB:
DTSTAMP:2026-04-21T07:17:43Z:
SUMMARY:Carpet To Go at KTOWN
DESCRIPTION;ENCODING=QUOTED-PRINTABLE:Carpet To Go at KTOWN=0D=0A Time: 8:30 PM=0D=0A Location: Hidden Valley, Field 1
CLASS:PUBLIC
PRIORITY:5
BEGIN:VALARM
TRIGGER:-PT330M
ACTION:DISPLAY
DESCRIPTION:Reminder
END:VALARM
END:VEVENT
BEGIN:VEVENT
DTSTART:2016-08-05T03:30:00Z
DTEND:2016-08-05T06:00:00Z
LOCATION:HV1: Hidden Valley, Field 1
CATEGORIES:Softball,Carpet To Go,BB/SAA
UID:3FA8587FC47264FA3B5F9960297E4A:
DTSTAMP:2026-04-21T07:17:43Z:
SUMMARY:Carpet To Go at Head Hunters
DESCRIPTION;ENCODING=QUOTED-PRINTABLE:Carpet To Go at Head Hunters=0D=0A Time: 8:30 PM=0D=0A Location: Hidden Valley, Field 1
CLASS:PUBLIC
PRIORITY:5
BEGIN:VALARM
TRIGGER:-PT330M
ACTION:DISPLAY
DESCRIPTION:Reminder
END:VALARM
END:VEVENT
BEGIN:VEVENT
DTSTART:2016-08-12T03:30:00Z
DTEND:2016-08-12T06:00:00Z
LOCATION:HP1: Highland Park, Field 1
CATEGORIES:Softball,Carpet To Go,BB/SAA
UID:51C7B8B39BA6C44ADB7467A0B4B05A:
DTSTAMP:2026-04-21T07:17:43Z:
SUMMARY:I'd Hit it at Carpet To Go
DESCRIPTION;ENCODING=QUOTED-PRINTABLE:I'd Hit it at Carpet To Go=0D=0A Time: 8:30 PM=0D=0A Location: Highland Park, Field 1
CLASS:PUBLIC
PRIORITY:5
BEGIN:VALARM
TRIGGER:-PT330M
ACTION:DISPLAY
DESCRIPTION:Reminder
END:VALARM
END:VEVENT
BEGIN:VEVENT
DTSTART:2016-08-19T03:30:00Z
DTEND:2016-08-19T06:00:00Z
LOCATION:HP1: Highland Park, Field 1
CATEGORIES:Softball,Carpet To Go,BB/SAA
UID:7788C3D6B88E8E479AE0751F2E41FF75:
DTSTAMP:2026-04-21T07:17:43Z:
SUMMARY:Cardtapp at Carpet To Go
DESCRIPTION;ENCODING=QUOTED-PRINTABLE:Cardtapp at Carpet To Go=0D=0A Time: 8:30 PM=0D=0A Location: Highland Park, Field 1
CLASS:PUBLIC
PRIORITY:5
BEGIN:VALARM
TRIGGER:-PT330M
ACTION:DISPLAY
DESCRIPTION:Reminder
END:VALARM
END:VEVENT
BEGIN:VEVENT
DTSTART:2016-08-26T03:30:00Z
DTEND:2016-08-26T06:00:00Z
LOCATION:HV1: Hidden Valley, Field 1
CATEGORIES:Softball,Carpet To Go,BB/SAA
UID:9623F64940844D86961C2FE918D563:
DTSTAMP:2026-04-21T07:17:43Z:
SUMMARY:Carpet To Go at 520 Lobs
DESCRIPTION;ENCODING=QUOTED-PRINTABLE:Carpet To Go at 520 Lobs=0D=0A Time: 8:30 PM=0D=0A Location: Hidden Valley, Field 1
CLASS:PUBLIC
PRIORITY:5
BEGIN:VALARM
TRIGGER:-PT330M
ACTION:DISPLAY
DESCRIPTION:Reminder
END:VALARM
END:VEVENT
BEGIN:VEVENT
DTSTART:2016-09-02T03:30:00Z
DTEND:2016-09-02T06:00:00Z
LOCATION:HP1: Highland Park, Field 1
CATEGORIES:Softball,Carpet To Go,BB/SAA
UID:DFD77F10DA8B44EAB59A762228C5386:
DTSTAMP:2026-04-21T07:17:43Z:
SUMMARY:Carpet To Go at KTOWN
DESCRIPTION;ENCODING=QUOTED-PRINTABLE:Carpet To Go at KTOWN=0D=0A Time: 8:30 PM=0D=0A Location: Highland Park, Field 1
CLASS:PUBLIC
PRIORITY:5
BEGIN:VALARM
TRIGGER:-PT330M
ACTION:DISPLAY
DESCRIPTION:Reminder
END:VALARM
END:VEVENT
BEGIN:VEVENT
DTSTART:2016-09-09T02:15:00Z
DTEND:2016-09-09T04:45:00Z
LOCATION:HV1: Hidden Valley, Field 1
CATEGORIES:Softball,Carpet To Go,BB/SAA
UID:126C74FA607E24291E0A98E41792794:
DTSTAMP:2026-04-21T07:17:43Z:
SUMMARY:I'd Hit it at Carpet To Go
DESCRIPTION;ENCODING=QUOTED-PRINTABLE:I'd Hit it at Carpet To Go=0D=0A Time: 7:15 PM=0D=0A Location: Hidden Valley, Field 1
CLASS:PUBLIC
PRIORITY:5
BEGIN:VALARM
TRIGGER:-PT255M
ACTION:DISPLAY
DESCRIPTION:Reminder
END:VALARM
END:VEVENT
BEGIN:VEVENT
DTSTART:2016-09-09T03:30:00Z
DTEND:2016-09-09T06:00:00Z
LOCATION:HV1: Hidden Valley, Field 1
CATEGORIES:Softball,Carpet To Go,BB/SAA
UID:A34ACE74E014464C804F7296403018F5:
DTSTAMP:2026-04-21T07:17:43Z:
SUMMARY:KTOWN at Carpet To Go
DESCRIPTION;ENCODING=QUOTED-PRINTABLE:KTOWN at Carpet To Go=0D=0A Time: 8:30 PM=0D=0A Location: Hidden Valley, Field 1
CLASS:PUBLIC
PRIORITY:5
BEGIN:VALARM
TRIGGER:-PT330M
ACTION:DISPLAY
DESCRIPTION:Reminder
END:VALARM
END:VEVENT
END:VCALENDAR
