BEGIN:VCALENDAR
PRODID:-//Microsoft Corporation//Outlook 11.0 MIMEDIR//EN
VERSION:2.0
METHOD:PUBLISH
BEGIN:VEVENT
DTSTART:2016-07-15T01:00:00Z
DTEND:2016-07-15T03:30:00Z
LOCATION:HP1: Highland Park, Field 1
CATEGORIES:Softball,Cardtapp,BB/SAA
UID:CE9C5712A32E647817449107E7851:
DTSTAMP:2026-04-21T05:42:56Z:
SUMMARY:KTOWN at Cardtapp
DESCRIPTION;ENCODING=QUOTED-PRINTABLE:KTOWN at Cardtapp=0D=0A Time: 6:00 PM=0D=0A Location: Highland Park, Field 1
CLASS:PUBLIC
PRIORITY:5
BEGIN:VALARM
TRIGGER:-PT180M
ACTION:DISPLAY
DESCRIPTION:Reminder
END:VALARM
END:VEVENT
BEGIN:VEVENT
DTSTART:2016-07-22T01:00:00Z
DTEND:2016-07-22T03:30:00Z
LOCATION:HV1: Hidden Valley, Field 1
CATEGORIES:Softball,Cardtapp,BB/SAA
UID:F8C685B3877E6C41991BD855832DAE0:
DTSTAMP:2026-04-21T05:42:56Z:
SUMMARY:Wazzu Brew Crew at Cardtapp
DESCRIPTION;ENCODING=QUOTED-PRINTABLE:Wazzu Brew Crew at Cardtapp=0D=0A Time: 6:00 PM=0D=0A Location: Hidden Valley, Field 1
CLASS:PUBLIC
PRIORITY:5
BEGIN:VALARM
TRIGGER:-PT180M
ACTION:DISPLAY
DESCRIPTION:Reminder
END:VALARM
END:VEVENT
BEGIN:VEVENT
DTSTART:2016-07-29T01:00:00Z
DTEND:2016-07-29T03:30:00Z
LOCATION:HV1: Hidden Valley, Field 1
CATEGORIES:Softball,Cardtapp,BB/SAA
UID:4B7A6917F3D8BD468CC37DB33DA6BC9:
DTSTAMP:2026-04-21T05:42:56Z:
SUMMARY:Cardtapp at I'd Hit it
DESCRIPTION;ENCODING=QUOTED-PRINTABLE:Cardtapp at I'd Hit it=0D=0A Time: 6:00 PM=0D=0A Location: Hidden Valley, Field 1
CLASS:PUBLIC
PRIORITY:5
BEGIN:VALARM
TRIGGER:-PT180M
ACTION:DISPLAY
DESCRIPTION:Reminder
END:VALARM
END:VEVENT
BEGIN:VEVENT
DTSTART:2016-08-05T01:00:00Z
DTEND:2016-08-05T03:30:00Z
LOCATION:MM7: Marymoor, Field 7
CATEGORIES:Softball,Cardtapp,BB/SAA
UID:856FDD5FFD749A41983C93E0F0CA17DC:
DTSTAMP:2026-04-21T05:42:56Z:
SUMMARY:Cardtapp at Goose Pub Wingmen
DESCRIPTION;ENCODING=QUOTED-PRINTABLE:Cardtapp at Goose Pub Wingmen=0D=0A Time: 6:00 PM=0D=0A Location: Marymoor, Field 7
CLASS:PUBLIC
PRIORITY:5
BEGIN:VALARM
TRIGGER:-PT180M
ACTION:DISPLAY
DESCRIPTION:Reminder
END:VALARM
END:VEVENT
BEGIN:VEVENT
DTSTART:2016-08-12T03:30:00Z
DTEND:2016-08-12T06:00:00Z
LOCATION:HV1: Hidden Valley, Field 1
CATEGORIES:Softball,Cardtapp,BB/SAA
UID:AFC62DAABB4C84E8559FB865236F55C:
DTSTAMP:2026-04-21T05:42:56Z:
SUMMARY:520 Lobs at Cardtapp
DESCRIPTION;ENCODING=QUOTED-PRINTABLE:520 Lobs at Cardtapp=0D=0A Time: 8:30 PM=0D=0A Location: Hidden Valley, Field 1
CLASS:PUBLIC
PRIORITY:5
BEGIN:VALARM
TRIGGER:-PT330M
ACTION:DISPLAY
DESCRIPTION:Reminder
END:VALARM
END:VEVENT
BEGIN:VEVENT
DTSTART:2016-08-19T03:30:00Z
DTEND:2016-08-19T06:00:00Z
LOCATION:HP1: Highland Park, Field 1
CATEGORIES:Softball,Cardtapp,BB/SAA
UID:8C19FE86A7429944AA852CD765DA9782:
DTSTAMP:2026-04-21T05:42:56Z:
SUMMARY:Cardtapp at Carpet To Go
DESCRIPTION;ENCODING=QUOTED-PRINTABLE:Cardtapp at Carpet To Go=0D=0A Time: 8:30 PM=0D=0A Location: Highland Park, Field 1
CLASS:PUBLIC
PRIORITY:5
BEGIN:VALARM
TRIGGER:-PT330M
ACTION:DISPLAY
DESCRIPTION:Reminder
END:VALARM
END:VEVENT
BEGIN:VEVENT
DTSTART:2016-08-26T01:00:00Z
DTEND:2016-08-26T03:30:00Z
LOCATION:HV1: Hidden Valley, Field 1
CATEGORIES:Softball,Cardtapp,BB/SAA
UID:8DEC4616289FB943B82EF9C5FC70393D:
DTSTAMP:2026-04-21T05:42:56Z:
SUMMARY:Cardtapp at Head Hunters
DESCRIPTION;ENCODING=QUOTED-PRINTABLE:Cardtapp at Head Hunters=0D=0A Time: 6:00 PM=0D=0A Location: Hidden Valley, Field 1
CLASS:PUBLIC
PRIORITY:5
BEGIN:VALARM
TRIGGER:-PT180M
ACTION:DISPLAY
DESCRIPTION:Reminder
END:VALARM
END:VEVENT
BEGIN:VEVENT
DTSTART:2016-09-02T01:00:00Z
DTEND:2016-09-02T03:30:00Z
LOCATION:HP1: Highland Park, Field 1
CATEGORIES:Softball,Cardtapp,BB/SAA
UID:ABA06FD6752FC84793BF4BA45FF826A:
DTSTAMP:2026-04-21T05:42:56Z:
SUMMARY:I'd Hit it at Cardtapp
DESCRIPTION;ENCODING=QUOTED-PRINTABLE:I'd Hit it at Cardtapp=0D=0A Time: 6:00 PM=0D=0A Location: Highland Park, Field 1
CLASS:PUBLIC
PRIORITY:5
BEGIN:VALARM
TRIGGER:-PT180M
ACTION:DISPLAY
DESCRIPTION:Reminder
END:VALARM
END:VEVENT
END:VCALENDAR
