BEGIN:VCALENDAR
PRODID:-//Microsoft Corporation//Outlook 11.0 MIMEDIR//EN
VERSION:2.0
METHOD:PUBLISH
BEGIN:VEVENT
DTSTART:2016-07-13T03:30:00Z
DTEND:2016-07-13T06:00:00Z
LOCATION:MM6: Marymoor, Field 6
CATEGORIES:Softball,Inglorious Batters,BB/SAA
UID:A0AA5A7AA9DE9145A6D0E4608482852C:
DTSTAMP:2026-04-21T05:44:45Z:
SUMMARY:Inglorious Batters at HammerHeads
DESCRIPTION;ENCODING=QUOTED-PRINTABLE:Inglorious Batters at HammerHeads=0D=0A Time: 8:30 PM=0D=0A Location: Marymoor, Field 6
CLASS:PUBLIC
PRIORITY:5
BEGIN:VALARM
TRIGGER:-PT330M
ACTION:DISPLAY
DESCRIPTION:Reminder
END:VALARM
END:VEVENT
BEGIN:VEVENT
DTSTART:2016-07-20T01:00:00Z
DTEND:2016-07-20T03:30:00Z
LOCATION:HP1: Highland Park, Field 1
CATEGORIES:Softball,Inglorious Batters,BB/SAA
UID:6C17A6DD5C1FC442981271BEFF957143:
DTSTAMP:2026-04-21T05:44:45Z:
SUMMARY:Hits Happen at Inglorious Batters
DESCRIPTION;ENCODING=QUOTED-PRINTABLE:Hits Happen at Inglorious Batters=0D=0A Time: 6:00 PM=0D=0A Location: Highland Park, Field 1
CLASS:PUBLIC
PRIORITY:5
BEGIN:VALARM
TRIGGER:-PT180M
ACTION:DISPLAY
DESCRIPTION:Reminder
END:VALARM
END:VEVENT
BEGIN:VEVENT
DTSTART:2016-07-27T01:00:00Z
DTEND:2016-07-27T03:30:00Z
LOCATION:MM7: Marymoor, Field 7
CATEGORIES:Softball,Inglorious Batters,BB/SAA
UID:37246A9E9D15A478D4E73C4A92AB3AD:
DTSTAMP:2026-04-21T05:44:45Z:
SUMMARY:Inglorious Batters at High and Outside
DESCRIPTION;ENCODING=QUOTED-PRINTABLE:Inglorious Batters at High and Outside=0D=0A Time: 6:00 PM=0D=0A Location: Marymoor, Field 7
CLASS:PUBLIC
PRIORITY:5
BEGIN:VALARM
TRIGGER:-PT180M
ACTION:DISPLAY
DESCRIPTION:Reminder
END:VALARM
END:VEVENT
BEGIN:VEVENT
DTSTART:2016-08-03T01:00:00Z
DTEND:2016-08-03T03:30:00Z
LOCATION:MM6: Marymoor, Field 6
CATEGORIES:Softball,Inglorious Batters,BB/SAA
UID:67AF963397A5534E8FD56F46A3243C3:
DTSTAMP:2026-04-21T05:44:45Z:
SUMMARY:Parker, Smith, and Feek at Inglorious Batters
DESCRIPTION;ENCODING=QUOTED-PRINTABLE:Parker, Smith, and Feek at Inglorious Batters=0D=0A Time: 6:00 PM=0D=0A Location: Marymoor, Field 6
CLASS:PUBLIC
PRIORITY:5
BEGIN:VALARM
TRIGGER:-PT180M
ACTION:DISPLAY
DESCRIPTION:Reminder
END:VALARM
END:VEVENT
BEGIN:VEVENT
DTSTART:2016-08-17T03:30:00Z
DTEND:2016-08-17T06:00:00Z
LOCATION:HV1: Hidden Valley, Field 1
CATEGORIES:Softball,Inglorious Batters,BB/SAA
UID:398FC9AB1688234398A80FC2DDEA3BC:
DTSTAMP:2026-04-21T05:44:45Z:
SUMMARY:Inglorious Batters at 110 Consulting
DESCRIPTION;ENCODING=QUOTED-PRINTABLE:Inglorious Batters at 110 Consulting=0D=0A Time: 8:30 PM=0D=0A Location: Hidden Valley, Field 1
CLASS:PUBLIC
PRIORITY:5
BEGIN:VALARM
TRIGGER:-PT330M
ACTION:DISPLAY
DESCRIPTION:Reminder
END:VALARM
END:VEVENT
BEGIN:VEVENT
DTSTART:2016-08-24T01:00:00Z
DTEND:2016-08-24T03:30:00Z
LOCATION:HP1: Highland Park, Field 1
CATEGORIES:Softball,Inglorious Batters,BB/SAA
UID:79DAC0EA7723DB499C7C89EBD8BD8CD:
DTSTAMP:2026-04-21T05:44:45Z:
SUMMARY:Indigo Windigo at Inglorious Batters
DESCRIPTION;ENCODING=QUOTED-PRINTABLE:Indigo Windigo at Inglorious Batters=0D=0A Time: 6:00 PM=0D=0A Location: Highland Park, Field 1
CLASS:PUBLIC
PRIORITY:5
BEGIN:VALARM
TRIGGER:-PT180M
ACTION:DISPLAY
DESCRIPTION:Reminder
END:VALARM
END:VEVENT
BEGIN:VEVENT
DTSTART:2016-08-31T03:30:00Z
DTEND:2016-08-31T06:00:00Z
LOCATION:MM6: Marymoor, Field 6
CATEGORIES:Softball,Inglorious Batters,BB/SAA
UID:87636C2A807EB49AAB8E52B80ABB8:
DTSTAMP:2026-04-21T05:44:45Z:
SUMMARY:HammerHeads at Inglorious Batters
DESCRIPTION;ENCODING=QUOTED-PRINTABLE:HammerHeads at Inglorious Batters=0D=0A Time: 8:30 PM=0D=0A Location: Marymoor, Field 6
CLASS:PUBLIC
PRIORITY:5
BEGIN:VALARM
TRIGGER:-PT330M
ACTION:DISPLAY
DESCRIPTION:Reminder
END:VALARM
END:VEVENT
BEGIN:VEVENT
DTSTART:2016-09-07T01:00:00Z
DTEND:2016-09-07T03:30:00Z
LOCATION:MM6: Marymoor, Field 6
CATEGORIES:Softball,Inglorious Batters,BB/SAA
UID:8E8169E31608446BF2786D7D8C8AF27:
DTSTAMP:2026-04-21T05:44:45Z:
SUMMARY:Inglorious Batters at High and Outside
DESCRIPTION;ENCODING=QUOTED-PRINTABLE:Inglorious Batters at High and Outside=0D=0A Time: 6:00 PM=0D=0A Location: Marymoor, Field 6
CLASS:PUBLIC
PRIORITY:5
BEGIN:VALARM
TRIGGER:-PT180M
ACTION:DISPLAY
DESCRIPTION:Reminder
END:VALARM
END:VEVENT
BEGIN:VEVENT
DTSTART:2016-09-21T01:00:00Z
DTEND:2016-09-21T03:30:00Z
LOCATION:HV1: Hidden Valley, Field 1
CATEGORIES:Softball,Inglorious Batters,BB/SAA
UID:C41EE7B613FC584C8F70CEA817EEFC57:
DTSTAMP:2026-04-21T05:44:45Z:
SUMMARY:Inglorious Batters at 110 Consulting
DESCRIPTION;ENCODING=QUOTED-PRINTABLE:Inglorious Batters at 110 Consulting=0D=0A Time: 6:00 PM=0D=0A Location: Hidden Valley, Field 1
CLASS:PUBLIC
PRIORITY:5
BEGIN:VALARM
TRIGGER:-PT180M
ACTION:DISPLAY
DESCRIPTION:Reminder
END:VALARM
END:VEVENT
BEGIN:VEVENT
DTSTART:2016-09-21T04:00:00Z
DTEND:2016-09-21T06:30:00Z
LOCATION:HV1: Hidden Valley, Field 1
CATEGORIES:Softball,Inglorious Batters,BB/SAA
UID:835B675A7B4DA24784CE3927E4393772:
DTSTAMP:2026-04-21T05:44:45Z:
SUMMARY:Inglorious Batters at High and Outside
DESCRIPTION;ENCODING=QUOTED-PRINTABLE:Inglorious Batters at High and Outside=0D=0A Time: 9:00 PM=0D=0A Location: Hidden Valley, Field 1
CLASS:PUBLIC
PRIORITY:5
BEGIN:VALARM
TRIGGER:-PT360M
ACTION:DISPLAY
DESCRIPTION:Reminder
END:VALARM
END:VEVENT
END:VCALENDAR
