BEGIN:VCALENDAR
PRODID:-//Microsoft Corporation//Outlook 11.0 MIMEDIR//EN
VERSION:2.0
METHOD:PUBLISH
BEGIN:VEVENT
DTSTART:2016-07-13T03:30:00Z
DTEND:2016-07-13T06:00:00Z
LOCATION:MM6: Marymoor, Field 6
CATEGORIES:Softball,HammerHeads,BB/SAA
UID:534970D616E95447A44EDD532FFF8B86:
DTSTAMP:2026-04-21T05:43:54Z:
SUMMARY:Inglorious Batters at HammerHeads
DESCRIPTION;ENCODING=QUOTED-PRINTABLE:Inglorious Batters at HammerHeads=0D=0A Time: 8:30 PM=0D=0A Location: Marymoor, Field 6
CLASS:PUBLIC
PRIORITY:5
BEGIN:VALARM
TRIGGER:-PT330M
ACTION:DISPLAY
DESCRIPTION:Reminder
END:VALARM
END:VEVENT
BEGIN:VEVENT
DTSTART:2016-07-20T03:30:00Z
DTEND:2016-07-20T06:00:00Z
LOCATION:MM7: Marymoor, Field 7
CATEGORIES:Softball,HammerHeads,BB/SAA
UID:BEA714F1D4EEDF40BCDE1337255CC73F:
DTSTAMP:2026-04-21T05:43:54Z:
SUMMARY:HammerHeads at High and Outside
DESCRIPTION;ENCODING=QUOTED-PRINTABLE:HammerHeads at High and Outside=0D=0A Time: 8:30 PM=0D=0A Location: Marymoor, Field 7
CLASS:PUBLIC
PRIORITY:5
BEGIN:VALARM
TRIGGER:-PT330M
ACTION:DISPLAY
DESCRIPTION:Reminder
END:VALARM
END:VEVENT
BEGIN:VEVENT
DTSTART:2016-07-27T01:00:00Z
DTEND:2016-07-27T03:30:00Z
LOCATION:MM6: Marymoor, Field 6
CATEGORIES:Softball,HammerHeads,BB/SAA
UID:D4256C56EDF19E45B331DAE5BEFD7919:
DTSTAMP:2026-04-21T05:43:54Z:
SUMMARY:Indigo Windigo at HammerHeads
DESCRIPTION;ENCODING=QUOTED-PRINTABLE:Indigo Windigo at HammerHeads=0D=0A Time: 6:00 PM=0D=0A Location: Marymoor, Field 6
CLASS:PUBLIC
PRIORITY:5
BEGIN:VALARM
TRIGGER:-PT180M
ACTION:DISPLAY
DESCRIPTION:Reminder
END:VALARM
END:VEVENT
BEGIN:VEVENT
DTSTART:2016-08-10T01:00:00Z
DTEND:2016-08-10T03:30:00Z
LOCATION:HP1: Highland Park, Field 1
CATEGORIES:Softball,HammerHeads,BB/SAA
UID:109F44D2532BA5428AEDD83E7B1B210:
DTSTAMP:2026-04-21T05:43:54Z:
SUMMARY:HammerHeads at 110 Consulting
DESCRIPTION;ENCODING=QUOTED-PRINTABLE:HammerHeads at 110 Consulting=0D=0A Time: 6:00 PM=0D=0A Location: Highland Park, Field 1
CLASS:PUBLIC
PRIORITY:5
BEGIN:VALARM
TRIGGER:-PT180M
ACTION:DISPLAY
DESCRIPTION:Reminder
END:VALARM
END:VEVENT
BEGIN:VEVENT
DTSTART:2016-08-17T01:00:00Z
DTEND:2016-08-17T03:30:00Z
LOCATION:HV1: Hidden Valley, Field 1
CATEGORIES:Softball,HammerHeads,BB/SAA
UID:58640AFE026484887B4F1C26DD072:
DTSTAMP:2026-04-21T05:43:54Z:
SUMMARY:Hits Happen at HammerHeads
DESCRIPTION;ENCODING=QUOTED-PRINTABLE:Hits Happen at HammerHeads=0D=0A Time: 6:00 PM=0D=0A Location: Hidden Valley, Field 1
CLASS:PUBLIC
PRIORITY:5
BEGIN:VALARM
TRIGGER:-PT180M
ACTION:DISPLAY
DESCRIPTION:Reminder
END:VALARM
END:VEVENT
BEGIN:VEVENT
DTSTART:2016-08-24T01:00:00Z
DTEND:2016-08-24T03:30:00Z
LOCATION:MM8: Marymoor, Field 8
CATEGORIES:Softball,HammerHeads,BB/SAA
UID:273798DE5C751469B85A1A36B8B33D6:
DTSTAMP:2026-04-21T05:43:54Z:
SUMMARY:HammerHeads at Parker, Smith, and Feek
DESCRIPTION;ENCODING=QUOTED-PRINTABLE:HammerHeads at Parker, Smith, and Feek=0D=0A Time: 6:00 PM=0D=0A Location: Marymoor, Field 8
CLASS:PUBLIC
PRIORITY:5
BEGIN:VALARM
TRIGGER:-PT180M
ACTION:DISPLAY
DESCRIPTION:Reminder
END:VALARM
END:VEVENT
BEGIN:VEVENT
DTSTART:2016-08-31T03:30:00Z
DTEND:2016-08-31T06:00:00Z
LOCATION:MM6: Marymoor, Field 6
CATEGORIES:Softball,HammerHeads,BB/SAA
UID:67C91AE6EF2164B822F97A23AA5E65E:
DTSTAMP:2026-04-21T05:43:54Z:
SUMMARY:HammerHeads at Inglorious Batters
DESCRIPTION;ENCODING=QUOTED-PRINTABLE:HammerHeads at Inglorious Batters=0D=0A Time: 8:30 PM=0D=0A Location: Marymoor, Field 6
CLASS:PUBLIC
PRIORITY:5
BEGIN:VALARM
TRIGGER:-PT330M
ACTION:DISPLAY
DESCRIPTION:Reminder
END:VALARM
END:VEVENT
BEGIN:VEVENT
DTSTART:2016-09-07T01:00:00Z
DTEND:2016-09-07T03:30:00Z
LOCATION:HP1: Highland Park, Field 1
CATEGORIES:Softball,HammerHeads,BB/SAA
UID:314F13DF6D76B049BCEA9747E5C7E6CB:
DTSTAMP:2026-04-21T05:43:54Z:
SUMMARY:Indigo Windigo at HammerHeads
DESCRIPTION;ENCODING=QUOTED-PRINTABLE:Indigo Windigo at HammerHeads=0D=0A Time: 6:00 PM=0D=0A Location: Highland Park, Field 1
CLASS:PUBLIC
PRIORITY:5
BEGIN:VALARM
TRIGGER:-PT180M
ACTION:DISPLAY
DESCRIPTION:Reminder
END:VALARM
END:VEVENT
END:VCALENDAR
