BEGIN:VCALENDAR
PRODID:-//Microsoft Corporation//Outlook 11.0 MIMEDIR//EN
VERSION:2.0
METHOD:PUBLISH
BEGIN:VEVENT
DTSTART:2016-07-13T01:00:00Z
DTEND:2016-07-13T03:30:00Z
LOCATION:MM6: Marymoor, Field 6
CATEGORIES:Softball,110 Consulting,BB/SAA
UID:CA26D949115D2F45B762A2CE9BCB443:
DTSTAMP:2026-04-21T05:42:56Z:
SUMMARY:Parker, Smith, and Feek at 110 Consulting
DESCRIPTION;ENCODING=QUOTED-PRINTABLE:Parker, Smith, and Feek at 110 Consulting=0D=0A Time: 6:00 PM=0D=0A Location: Marymoor, Field 6
CLASS:PUBLIC
PRIORITY:5
BEGIN:VALARM
TRIGGER:-PT180M
ACTION:DISPLAY
DESCRIPTION:Reminder
END:VALARM
END:VEVENT
BEGIN:VEVENT
DTSTART:2016-07-20T01:00:00Z
DTEND:2016-07-20T03:30:00Z
LOCATION:MM4: Marymoor, Field 4
CATEGORIES:Softball,110 Consulting,BB/SAA
UID:8A71AB7B4D972F4C84231AA98F957198:
DTSTAMP:2026-04-21T05:42:56Z:
SUMMARY:110 Consulting at Indigo Windigo
DESCRIPTION;ENCODING=QUOTED-PRINTABLE:110 Consulting at Indigo Windigo=0D=0A Time: 6:00 PM=0D=0A Location: Marymoor, Field 4
CLASS:PUBLIC
PRIORITY:5
BEGIN:VALARM
TRIGGER:-PT180M
ACTION:DISPLAY
DESCRIPTION:Reminder
END:VALARM
END:VEVENT
BEGIN:VEVENT
DTSTART:2016-08-03T03:30:00Z
DTEND:2016-08-03T06:00:00Z
LOCATION:MM7: Marymoor, Field 7
CATEGORIES:Softball,110 Consulting,BB/SAA
UID:47278CDB31DDF1468E83E8776633F5D:
DTSTAMP:2026-04-21T05:42:56Z:
SUMMARY:110 Consulting at Hits Happen
DESCRIPTION;ENCODING=QUOTED-PRINTABLE:110 Consulting at Hits Happen=0D=0A Time: 8:30 PM=0D=0A Location: Marymoor, Field 7
CLASS:PUBLIC
PRIORITY:5
BEGIN:VALARM
TRIGGER:-PT330M
ACTION:DISPLAY
DESCRIPTION:Reminder
END:VALARM
END:VEVENT
BEGIN:VEVENT
DTSTART:2016-08-10T01:00:00Z
DTEND:2016-08-10T03:30:00Z
LOCATION:HP1: Highland Park, Field 1
CATEGORIES:Softball,110 Consulting,BB/SAA
UID:8ED6F53BCB13B147AD2EE8DC9DC16A79:
DTSTAMP:2026-04-21T05:42:56Z:
SUMMARY:HammerHeads at 110 Consulting
DESCRIPTION;ENCODING=QUOTED-PRINTABLE:HammerHeads at 110 Consulting=0D=0A Time: 6:00 PM=0D=0A Location: Highland Park, Field 1
CLASS:PUBLIC
PRIORITY:5
BEGIN:VALARM
TRIGGER:-PT180M
ACTION:DISPLAY
DESCRIPTION:Reminder
END:VALARM
END:VEVENT
BEGIN:VEVENT
DTSTART:2016-08-17T03:30:00Z
DTEND:2016-08-17T06:00:00Z
LOCATION:HV1: Hidden Valley, Field 1
CATEGORIES:Softball,110 Consulting,BB/SAA
UID:FA4D44982490424D902D91426EDA6AAC:
DTSTAMP:2026-04-21T05:42:56Z:
SUMMARY:Inglorious Batters at 110 Consulting
DESCRIPTION;ENCODING=QUOTED-PRINTABLE:Inglorious Batters at 110 Consulting=0D=0A Time: 8:30 PM=0D=0A Location: Hidden Valley, Field 1
CLASS:PUBLIC
PRIORITY:5
BEGIN:VALARM
TRIGGER:-PT330M
ACTION:DISPLAY
DESCRIPTION:Reminder
END:VALARM
END:VEVENT
BEGIN:VEVENT
DTSTART:2016-08-24T03:30:00Z
DTEND:2016-08-24T06:00:00Z
LOCATION:MM7: Marymoor, Field 7
CATEGORIES:Softball,110 Consulting,BB/SAA
UID:BA43CC1A1B441A4B92D6B6DAF473CD3:
DTSTAMP:2026-04-21T05:42:56Z:
SUMMARY:110 Consulting at High and Outside
DESCRIPTION;ENCODING=QUOTED-PRINTABLE:110 Consulting at High and Outside=0D=0A Time: 8:30 PM=0D=0A Location: Marymoor, Field 7
CLASS:PUBLIC
PRIORITY:5
BEGIN:VALARM
TRIGGER:-PT330M
ACTION:DISPLAY
DESCRIPTION:Reminder
END:VALARM
END:VEVENT
BEGIN:VEVENT
DTSTART:2016-08-31T03:30:00Z
DTEND:2016-08-31T06:00:00Z
LOCATION:HP1: Highland Park, Field 1
CATEGORIES:Softball,110 Consulting,BB/SAA
UID:78C5381587A353469F2150C8C041EBE8:
DTSTAMP:2026-04-21T05:42:56Z:
SUMMARY:Parker, Smith, and Feek at 110 Consulting
DESCRIPTION;ENCODING=QUOTED-PRINTABLE:Parker, Smith, and Feek at 110 Consulting=0D=0A Time: 8:30 PM=0D=0A Location: Highland Park, Field 1
CLASS:PUBLIC
PRIORITY:5
BEGIN:VALARM
TRIGGER:-PT330M
ACTION:DISPLAY
DESCRIPTION:Reminder
END:VALARM
END:VEVENT
BEGIN:VEVENT
DTSTART:2016-09-07T01:00:00Z
DTEND:2016-09-07T03:30:00Z
LOCATION:HV1: Hidden Valley, Field 1
CATEGORIES:Softball,110 Consulting,BB/SAA
UID:B46767E317563E40B4863E8FD6101E49:
DTSTAMP:2026-04-21T05:42:56Z:
SUMMARY:110 Consulting at Parker, Smith, and Feek
DESCRIPTION;ENCODING=QUOTED-PRINTABLE:110 Consulting at Parker, Smith, and Feek=0D=0A Time: 6:00 PM=0D=0A Location: Hidden Valley, Field 1
CLASS:PUBLIC
PRIORITY:5
BEGIN:VALARM
TRIGGER:-PT180M
ACTION:DISPLAY
DESCRIPTION:Reminder
END:VALARM
END:VEVENT
BEGIN:VEVENT
DTSTART:2016-09-21T01:00:00Z
DTEND:2016-09-21T03:30:00Z
LOCATION:HV1: Hidden Valley, Field 1
CATEGORIES:Softball,110 Consulting,BB/SAA
UID:72E25C60761FE04190A2949E31945C77:
DTSTAMP:2026-04-21T05:42:56Z:
SUMMARY:Inglorious Batters at 110 Consulting
DESCRIPTION;ENCODING=QUOTED-PRINTABLE:Inglorious Batters at 110 Consulting=0D=0A Time: 6:00 PM=0D=0A Location: Hidden Valley, Field 1
CLASS:PUBLIC
PRIORITY:5
BEGIN:VALARM
TRIGGER:-PT180M
ACTION:DISPLAY
DESCRIPTION:Reminder
END:VALARM
END:VEVENT
END:VCALENDAR
