BEGIN:VCALENDAR
PRODID:-//Microsoft Corporation//Outlook 11.0 MIMEDIR//EN
VERSION:2.0
METHOD:PUBLISH
BEGIN:VEVENT
DTSTART:2016-07-12T01:00:00Z
DTEND:2016-07-12T03:30:00Z
LOCATION:MM7: Marymoor, Field 7
CATEGORIES:Softball,The Fresh Crew,BB/SAA
UID:B779C7E31C9E9488011204E1CB0558D:
DTSTAMP:2026-04-21T05:42:57Z:
SUMMARY:MOD Squad at The Fresh Crew
DESCRIPTION;ENCODING=QUOTED-PRINTABLE:MOD Squad at The Fresh Crew=0D=0A Time: 6:00 PM=0D=0A Location: Marymoor, Field 7
CLASS:PUBLIC
PRIORITY:5
BEGIN:VALARM
TRIGGER:-PT180M
ACTION:DISPLAY
DESCRIPTION:Reminder
END:VALARM
END:VEVENT
BEGIN:VEVENT
DTSTART:2016-07-19T01:00:00Z
DTEND:2016-07-19T03:30:00Z
LOCATION:HP1: Highland Park, Field 1
CATEGORIES:Softball,The Fresh Crew,BB/SAA
UID:7B265328ECB7C54EA4AEA89476A2481:
DTSTAMP:2026-04-21T05:42:57Z:
SUMMARY:The Fresh Crew at The Base Campers
DESCRIPTION;ENCODING=QUOTED-PRINTABLE:The Fresh Crew at The Base Campers=0D=0A Time: 6:00 PM=0D=0A Location: Highland Park, Field 1
CLASS:PUBLIC
PRIORITY:5
BEGIN:VALARM
TRIGGER:-PT180M
ACTION:DISPLAY
DESCRIPTION:Reminder
END:VALARM
END:VEVENT
BEGIN:VEVENT
DTSTART:2016-07-26T03:30:00Z
DTEND:2016-07-26T06:00:00Z
LOCATION:HV1: Hidden Valley, Field 1
CATEGORIES:Softball,The Fresh Crew,BB/SAA
UID:7DEF675435257849B84BB134695DC1AC:
DTSTAMP:2026-04-21T05:42:57Z:
SUMMARY:The Fresh Crew at KnowHitters
DESCRIPTION;ENCODING=QUOTED-PRINTABLE:The Fresh Crew at KnowHitters=0D=0A Time: 8:30 PM=0D=0A Location: Hidden Valley, Field 1
CLASS:PUBLIC
PRIORITY:5
BEGIN:VALARM
TRIGGER:-PT330M
ACTION:DISPLAY
DESCRIPTION:Reminder
END:VALARM
END:VEVENT
BEGIN:VEVENT
DTSTART:2016-08-02T01:00:00Z
DTEND:2016-08-02T03:30:00Z
LOCATION:HV1: Hidden Valley, Field 1
CATEGORIES:Softball,The Fresh Crew,BB/SAA
UID:9BE19F6C4DBEFB4E899DE6FA6C1B83C8:
DTSTAMP:2026-04-21T05:42:57Z:
SUMMARY:Team Woodmark at The Fresh Crew
DESCRIPTION;ENCODING=QUOTED-PRINTABLE:Team Woodmark at The Fresh Crew=0D=0A Time: 6:00 PM=0D=0A Location: Hidden Valley, Field 1
CLASS:PUBLIC
PRIORITY:5
BEGIN:VALARM
TRIGGER:-PT180M
ACTION:DISPLAY
DESCRIPTION:Reminder
END:VALARM
END:VEVENT
BEGIN:VEVENT
DTSTART:2016-08-09T01:00:00Z
DTEND:2016-08-09T03:30:00Z
LOCATION:MM7: Marymoor, Field 7
CATEGORIES:Softball,The Fresh Crew,BB/SAA
UID:F35340278FBDBB4A9BB2C9C567F58458:
DTSTAMP:2026-04-21T05:42:57Z:
SUMMARY:The Fresh Crew at Batta Blockers
DESCRIPTION;ENCODING=QUOTED-PRINTABLE:The Fresh Crew at Batta Blockers=0D=0A Time: 6:00 PM=0D=0A Location: Marymoor, Field 7
CLASS:PUBLIC
PRIORITY:5
BEGIN:VALARM
TRIGGER:-PT180M
ACTION:DISPLAY
DESCRIPTION:Reminder
END:VALARM
END:VEVENT
BEGIN:VEVENT
DTSTART:2016-08-16T03:30:00Z
DTEND:2016-08-16T06:00:00Z
LOCATION:HV1: Hidden Valley, Field 1
CATEGORIES:Softball,The Fresh Crew,BB/SAA
UID:AA8F1BDCB7A142AB188D8E8D4D4D2:
DTSTAMP:2026-04-21T05:42:57Z:
SUMMARY:MOD Squad at The Fresh Crew
DESCRIPTION;ENCODING=QUOTED-PRINTABLE:MOD Squad at The Fresh Crew=0D=0A Time: 8:30 PM=0D=0A Location: Hidden Valley, Field 1
CLASS:PUBLIC
PRIORITY:5
BEGIN:VALARM
TRIGGER:-PT330M
ACTION:DISPLAY
DESCRIPTION:Reminder
END:VALARM
END:VEVENT
BEGIN:VEVENT
DTSTART:2016-08-23T03:30:00Z
DTEND:2016-08-23T06:00:00Z
LOCATION:MM6: Marymoor, Field 6
CATEGORIES:Softball,The Fresh Crew,BB/SAA
UID:BB2AF9F5C16BBF4A8BFBF58D03C73B:
DTSTAMP:2026-04-21T05:42:57Z:
SUMMARY:The Fresh Crew at The Base Campers
DESCRIPTION;ENCODING=QUOTED-PRINTABLE:The Fresh Crew at The Base Campers=0D=0A Time: 8:30 PM=0D=0A Location: Marymoor, Field 6
CLASS:PUBLIC
PRIORITY:5
BEGIN:VALARM
TRIGGER:-PT330M
ACTION:DISPLAY
DESCRIPTION:Reminder
END:VALARM
END:VEVENT
BEGIN:VEVENT
DTSTART:2016-08-30T03:30:00Z
DTEND:2016-08-30T06:00:00Z
LOCATION:MM6: Marymoor, Field 6
CATEGORIES:Softball,The Fresh Crew,BB/SAA
UID:BAD1B65656FDDC478282F09493BFFC17:
DTSTAMP:2026-04-21T05:42:57Z:
SUMMARY:KnowHitters at The Fresh Crew
DESCRIPTION;ENCODING=QUOTED-PRINTABLE:KnowHitters at The Fresh Crew=0D=0A Time: 8:30 PM=0D=0A Location: Marymoor, Field 6
CLASS:PUBLIC
PRIORITY:5
BEGIN:VALARM
TRIGGER:-PT330M
ACTION:DISPLAY
DESCRIPTION:Reminder
END:VALARM
END:VEVENT
BEGIN:VEVENT
DTSTART:2016-09-13T02:30:00Z
DTEND:2016-09-13T05:00:00Z
LOCATION:MM6: Marymoor, Field 6
CATEGORIES:Softball,The Fresh Crew,BB/SAA
UID:6045F38140895940B1D17B4220F21AA2:
DTSTAMP:2026-04-21T05:42:57Z:
SUMMARY:The Fresh Crew at Batta Blockers
DESCRIPTION;ENCODING=QUOTED-PRINTABLE:The Fresh Crew at Batta Blockers=0D=0A Time: 7:30 PM=0D=0A Location: Marymoor, Field 6
CLASS:PUBLIC
PRIORITY:5
BEGIN:VALARM
TRIGGER:-PT270M
ACTION:DISPLAY
DESCRIPTION:Reminder
END:VALARM
END:VEVENT
END:VCALENDAR
