BEGIN:VCALENDAR
PRODID:-//Microsoft Corporation//Outlook 11.0 MIMEDIR//EN
VERSION:2.0
METHOD:PUBLISH
BEGIN:VEVENT
DTSTART:2016-07-12T03:30:00Z
DTEND:2016-07-12T06:00:00Z
LOCATION:HP1: Highland Park, Field 1
CATEGORIES:Softball,KnowHitters,BB/SAA
UID:C2FCE41D4D6C7D4597FA61EE2B879D2B:
DTSTAMP:2026-04-21T07:19:39Z:
SUMMARY:KnowHitters at Batta Blockers
DESCRIPTION;ENCODING=QUOTED-PRINTABLE:KnowHitters at Batta Blockers=0D=0A Time: 8:30 PM=0D=0A Location: Highland Park, Field 1
CLASS:PUBLIC
PRIORITY:5
BEGIN:VALARM
TRIGGER:-PT330M
ACTION:DISPLAY
DESCRIPTION:Reminder
END:VALARM
END:VEVENT
BEGIN:VEVENT
DTSTART:2016-07-19T01:00:00Z
DTEND:2016-07-19T03:30:00Z
LOCATION:HV1: Hidden Valley, Field 1
CATEGORIES:Softball,KnowHitters,BB/SAA
UID:3C27DB9341BD2C439161E7E652C9CDBB:
DTSTAMP:2026-04-21T07:19:39Z:
SUMMARY:Team Woodmark at KnowHitters
DESCRIPTION;ENCODING=QUOTED-PRINTABLE:Team Woodmark at KnowHitters=0D=0A Time: 6:00 PM=0D=0A Location: Hidden Valley, Field 1
CLASS:PUBLIC
PRIORITY:5
BEGIN:VALARM
TRIGGER:-PT180M
ACTION:DISPLAY
DESCRIPTION:Reminder
END:VALARM
END:VEVENT
BEGIN:VEVENT
DTSTART:2016-07-26T03:30:00Z
DTEND:2016-07-26T06:00:00Z
LOCATION:HV1: Hidden Valley, Field 1
CATEGORIES:Softball,KnowHitters,BB/SAA
UID:41AE94B17E448041A18195C09B835BE:
DTSTAMP:2026-04-21T07:19:39Z:
SUMMARY:The Fresh Crew at KnowHitters
DESCRIPTION;ENCODING=QUOTED-PRINTABLE:The Fresh Crew at KnowHitters=0D=0A Time: 8:30 PM=0D=0A Location: Hidden Valley, Field 1
CLASS:PUBLIC
PRIORITY:5
BEGIN:VALARM
TRIGGER:-PT330M
ACTION:DISPLAY
DESCRIPTION:Reminder
END:VALARM
END:VEVENT
BEGIN:VEVENT
DTSTART:2016-08-02T01:00:00Z
DTEND:2016-08-02T03:30:00Z
LOCATION:HP1: Highland Park, Field 1
CATEGORIES:Softball,KnowHitters,BB/SAA
UID:4C491B398C304A8C50982F6A4F295:
DTSTAMP:2026-04-21T07:19:39Z:
SUMMARY:KnowHitters at MOD Squad
DESCRIPTION;ENCODING=QUOTED-PRINTABLE:KnowHitters at MOD Squad=0D=0A Time: 6:00 PM=0D=0A Location: Highland Park, Field 1
CLASS:PUBLIC
PRIORITY:5
BEGIN:VALARM
TRIGGER:-PT180M
ACTION:DISPLAY
DESCRIPTION:Reminder
END:VALARM
END:VEVENT
BEGIN:VEVENT
DTSTART:2016-08-09T01:00:00Z
DTEND:2016-08-09T03:30:00Z
LOCATION:HV1: Hidden Valley, Field 1
CATEGORIES:Softball,KnowHitters,BB/SAA
UID:66A125E2B149B64485158B3F465254:
DTSTAMP:2026-04-21T07:19:39Z:
SUMMARY:The Base Campers at KnowHitters
DESCRIPTION;ENCODING=QUOTED-PRINTABLE:The Base Campers at KnowHitters=0D=0A Time: 6:00 PM=0D=0A Location: Hidden Valley, Field 1
CLASS:PUBLIC
PRIORITY:5
BEGIN:VALARM
TRIGGER:-PT180M
ACTION:DISPLAY
DESCRIPTION:Reminder
END:VALARM
END:VEVENT
BEGIN:VEVENT
DTSTART:2016-08-16T01:00:00Z
DTEND:2016-08-16T03:30:00Z
LOCATION:MM6: Marymoor, Field 6
CATEGORIES:Softball,KnowHitters,BB/SAA
UID:451C11FAE75258499D1153A377BFAB:
DTSTAMP:2026-04-21T07:19:39Z:
SUMMARY:Batta Blockers at KnowHitters
DESCRIPTION;ENCODING=QUOTED-PRINTABLE:Batta Blockers at KnowHitters=0D=0A Time: 6:00 PM=0D=0A Location: Marymoor, Field 6
CLASS:PUBLIC
PRIORITY:5
BEGIN:VALARM
TRIGGER:-PT180M
ACTION:DISPLAY
DESCRIPTION:Reminder
END:VALARM
END:VEVENT
BEGIN:VEVENT
DTSTART:2016-08-23T01:00:00Z
DTEND:2016-08-23T03:30:00Z
LOCATION:MM7: Marymoor, Field 7
CATEGORIES:Softball,KnowHitters,BB/SAA
UID:A8E8E2533224A04E9E3E4A19CF57F744:
DTSTAMP:2026-04-21T07:19:39Z:
SUMMARY:KnowHitters at Team Woodmark
DESCRIPTION;ENCODING=QUOTED-PRINTABLE:KnowHitters at Team Woodmark=0D=0A Time: 6:00 PM=0D=0A Location: Marymoor, Field 7
CLASS:PUBLIC
PRIORITY:5
BEGIN:VALARM
TRIGGER:-PT180M
ACTION:DISPLAY
DESCRIPTION:Reminder
END:VALARM
END:VEVENT
BEGIN:VEVENT
DTSTART:2016-08-30T03:30:00Z
DTEND:2016-08-30T06:00:00Z
LOCATION:MM6: Marymoor, Field 6
CATEGORIES:Softball,KnowHitters,BB/SAA
UID:D576276492685946A735AD5C1324B31:
DTSTAMP:2026-04-21T07:19:39Z:
SUMMARY:KnowHitters at The Fresh Crew
DESCRIPTION;ENCODING=QUOTED-PRINTABLE:KnowHitters at The Fresh Crew=0D=0A Time: 8:30 PM=0D=0A Location: Marymoor, Field 6
CLASS:PUBLIC
PRIORITY:5
BEGIN:VALARM
TRIGGER:-PT330M
ACTION:DISPLAY
DESCRIPTION:Reminder
END:VALARM
END:VEVENT
END:VCALENDAR
