BEGIN:VCALENDAR
PRODID:-//Microsoft Corporation//Outlook 11.0 MIMEDIR//EN
VERSION:2.0
METHOD:PUBLISH
BEGIN:VEVENT
DTSTART:2016-07-12T03:30:00Z
DTEND:2016-07-12T06:00:00Z
LOCATION:MM6: Marymoor, Field 6
CATEGORIES:Softball,The Base Campers,BB/SAA
UID:DAA81E241797942B8AE21628EDE468C:
DTSTAMP:2026-04-21T05:42:30Z:
SUMMARY:The Base Campers at Team Woodmark
DESCRIPTION;ENCODING=QUOTED-PRINTABLE:The Base Campers at Team Woodmark=0D=0A Time: 8:30 PM=0D=0A Location: Marymoor, Field 6
CLASS:PUBLIC
PRIORITY:5
BEGIN:VALARM
TRIGGER:-PT330M
ACTION:DISPLAY
DESCRIPTION:Reminder
END:VALARM
END:VEVENT
BEGIN:VEVENT
DTSTART:2016-07-19T01:00:00Z
DTEND:2016-07-19T03:30:00Z
LOCATION:HP1: Highland Park, Field 1
CATEGORIES:Softball,The Base Campers,BB/SAA
UID:A15D555E983374899A9D0262BA79EED:
DTSTAMP:2026-04-21T05:42:30Z:
SUMMARY:The Fresh Crew at The Base Campers
DESCRIPTION;ENCODING=QUOTED-PRINTABLE:The Fresh Crew at The Base Campers=0D=0A Time: 6:00 PM=0D=0A Location: Highland Park, Field 1
CLASS:PUBLIC
PRIORITY:5
BEGIN:VALARM
TRIGGER:-PT180M
ACTION:DISPLAY
DESCRIPTION:Reminder
END:VALARM
END:VEVENT
BEGIN:VEVENT
DTSTART:2016-07-26T01:00:00Z
DTEND:2016-07-26T03:30:00Z
LOCATION:HP1: Highland Park, Field 1
CATEGORIES:Softball,The Base Campers,BB/SAA
UID:CF4D313A373A664E8B583270AB35897F:
DTSTAMP:2026-04-21T05:42:30Z:
SUMMARY:The Base Campers at MOD Squad
DESCRIPTION;ENCODING=QUOTED-PRINTABLE:The Base Campers at MOD Squad=0D=0A Time: 6:00 PM=0D=0A Location: Highland Park, Field 1
CLASS:PUBLIC
PRIORITY:5
BEGIN:VALARM
TRIGGER:-PT180M
ACTION:DISPLAY
DESCRIPTION:Reminder
END:VALARM
END:VEVENT
BEGIN:VEVENT
DTSTART:2016-08-02T01:00:00Z
DTEND:2016-08-02T03:30:00Z
LOCATION:MM6: Marymoor, Field 6
CATEGORIES:Softball,The Base Campers,BB/SAA
UID:8E9DB3AA7B6FC3439633421BC1D05793:
DTSTAMP:2026-04-21T05:42:30Z:
SUMMARY:Batta Blockers at The Base Campers
DESCRIPTION;ENCODING=QUOTED-PRINTABLE:Batta Blockers at The Base Campers=0D=0A Time: 6:00 PM=0D=0A Location: Marymoor, Field 6
CLASS:PUBLIC
PRIORITY:5
BEGIN:VALARM
TRIGGER:-PT180M
ACTION:DISPLAY
DESCRIPTION:Reminder
END:VALARM
END:VEVENT
BEGIN:VEVENT
DTSTART:2016-08-09T01:00:00Z
DTEND:2016-08-09T03:30:00Z
LOCATION:HV1: Hidden Valley, Field 1
CATEGORIES:Softball,The Base Campers,BB/SAA
UID:7EE582C84FFE534FBC89983866446A1:
DTSTAMP:2026-04-21T05:42:30Z:
SUMMARY:The Base Campers at KnowHitters
DESCRIPTION;ENCODING=QUOTED-PRINTABLE:The Base Campers at KnowHitters=0D=0A Time: 6:00 PM=0D=0A Location: Hidden Valley, Field 1
CLASS:PUBLIC
PRIORITY:5
BEGIN:VALARM
TRIGGER:-PT180M
ACTION:DISPLAY
DESCRIPTION:Reminder
END:VALARM
END:VEVENT
BEGIN:VEVENT
DTSTART:2016-08-16T01:00:00Z
DTEND:2016-08-16T03:30:00Z
LOCATION:MM7: Marymoor, Field 7
CATEGORIES:Softball,The Base Campers,BB/SAA
UID:DC7472F18714F24E90DA4E4C7CC0FB:
DTSTAMP:2026-04-21T05:42:30Z:
SUMMARY:Team Woodmark at The Base Campers
DESCRIPTION;ENCODING=QUOTED-PRINTABLE:Team Woodmark at The Base Campers=0D=0A Time: 6:00 PM=0D=0A Location: Marymoor, Field 7
CLASS:PUBLIC
PRIORITY:5
BEGIN:VALARM
TRIGGER:-PT180M
ACTION:DISPLAY
DESCRIPTION:Reminder
END:VALARM
END:VEVENT
BEGIN:VEVENT
DTSTART:2016-08-23T03:30:00Z
DTEND:2016-08-23T06:00:00Z
LOCATION:MM6: Marymoor, Field 6
CATEGORIES:Softball,The Base Campers,BB/SAA
UID:817E9199EAC36441AF7E9298D7B43299:
DTSTAMP:2026-04-21T05:42:30Z:
SUMMARY:The Fresh Crew at The Base Campers
DESCRIPTION;ENCODING=QUOTED-PRINTABLE:The Fresh Crew at The Base Campers=0D=0A Time: 8:30 PM=0D=0A Location: Marymoor, Field 6
CLASS:PUBLIC
PRIORITY:5
BEGIN:VALARM
TRIGGER:-PT330M
ACTION:DISPLAY
DESCRIPTION:Reminder
END:VALARM
END:VEVENT
BEGIN:VEVENT
DTSTART:2016-08-30T03:30:00Z
DTEND:2016-08-30T06:00:00Z
LOCATION:HP1: Highland Park, Field 1
CATEGORIES:Softball,The Base Campers,BB/SAA
UID:CCD3C8F1272B849AFC6E61258F83FC8:
DTSTAMP:2026-04-21T05:42:30Z:
SUMMARY:The Base Campers at MOD Squad
DESCRIPTION;ENCODING=QUOTED-PRINTABLE:The Base Campers at MOD Squad=0D=0A Time: 8:30 PM=0D=0A Location: Highland Park, Field 1
CLASS:PUBLIC
PRIORITY:5
BEGIN:VALARM
TRIGGER:-PT330M
ACTION:DISPLAY
DESCRIPTION:Reminder
END:VALARM
END:VEVENT
END:VCALENDAR
