BEGIN:VCALENDAR
PRODID:-//Microsoft Corporation//Outlook 11.0 MIMEDIR//EN
VERSION:2.0
METHOD:PUBLISH
BEGIN:VEVENT
DTSTART:2016-07-13T01:00:00Z
DTEND:2016-07-13T03:30:00Z
LOCATION:MM3: Marymoor, Field 3
CATEGORIES:Softball,Where my Pitches at,BB/SAA
UID:DBA3D3DA3638E84296B0D652A5B279A6:
DTSTAMP:2026-04-21T06:58:30Z:
SUMMARY:Combine at Where my Pitches at
DESCRIPTION;ENCODING=QUOTED-PRINTABLE:Combine at Where my Pitches at=0D=0A Time: 6:00 PM=0D=0A Location: Marymoor, Field 3
CLASS:PUBLIC
PRIORITY:5
BEGIN:VALARM
TRIGGER:-PT180M
ACTION:DISPLAY
DESCRIPTION:Reminder
END:VALARM
END:VEVENT
BEGIN:VEVENT
DTSTART:2016-07-20T01:00:00Z
DTEND:2016-07-20T03:30:00Z
LOCATION:HV1: Hidden Valley, Field 1
CATEGORIES:Softball,Where my Pitches at,BB/SAA
UID:93D5105A7C56354CA1A2CB5A232BA327:
DTSTAMP:2026-04-21T06:58:30Z:
SUMMARY:Where my Pitches at at Dream Killers
DESCRIPTION;ENCODING=QUOTED-PRINTABLE:Where my Pitches at at Dream Killers=0D=0A Time: 6:00 PM=0D=0A Location: Hidden Valley, Field 1
CLASS:PUBLIC
PRIORITY:5
BEGIN:VALARM
TRIGGER:-PT180M
ACTION:DISPLAY
DESCRIPTION:Reminder
END:VALARM
END:VEVENT
BEGIN:VEVENT
DTSTART:2016-07-27T01:00:00Z
DTEND:2016-07-27T03:30:00Z
LOCATION:MM8: Marymoor, Field 8
CATEGORIES:Softball,Where my Pitches at,BB/SAA
UID:F251448DC69F48A7C15932327AEB6B:
DTSTAMP:2026-04-21T06:58:30Z:
SUMMARY:Bellevue Club at Where my Pitches at
DESCRIPTION;ENCODING=QUOTED-PRINTABLE:Bellevue Club at Where my Pitches at=0D=0A Time: 6:00 PM=0D=0A Location: Marymoor, Field 8
CLASS:PUBLIC
PRIORITY:5
BEGIN:VALARM
TRIGGER:-PT180M
ACTION:DISPLAY
DESCRIPTION:Reminder
END:VALARM
END:VEVENT
BEGIN:VEVENT
DTSTART:2016-08-03T03:30:00Z
DTEND:2016-08-03T06:00:00Z
LOCATION:HV1: Hidden Valley, Field 1
CATEGORIES:Softball,Where my Pitches at,BB/SAA
UID:58A5527B4AD6C48BB556C9919D83152:
DTSTAMP:2026-04-21T06:58:30Z:
SUMMARY:TRIAD Group at Where my Pitches at
DESCRIPTION;ENCODING=QUOTED-PRINTABLE:TRIAD Group at Where my Pitches at=0D=0A Time: 8:30 PM=0D=0A Location: Hidden Valley, Field 1
CLASS:PUBLIC
PRIORITY:5
BEGIN:VALARM
TRIGGER:-PT330M
ACTION:DISPLAY
DESCRIPTION:Reminder
END:VALARM
END:VEVENT
BEGIN:VEVENT
DTSTART:2016-08-10T03:30:00Z
DTEND:2016-08-10T06:00:00Z
LOCATION:HV1: Hidden Valley, Field 1
CATEGORIES:Softball,Where my Pitches at,BB/SAA
UID:5955498B931CA1499D72CD8E76C7ABC1:
DTSTAMP:2026-04-21T06:58:30Z:
SUMMARY:Where my Pitches at at Axia Loan Rangers
DESCRIPTION;ENCODING=QUOTED-PRINTABLE:Where my Pitches at at Axia Loan Rangers=0D=0A Time: 8:30 PM=0D=0A Location: Hidden Valley, Field 1
CLASS:PUBLIC
PRIORITY:5
BEGIN:VALARM
TRIGGER:-PT330M
ACTION:DISPLAY
DESCRIPTION:Reminder
END:VALARM
END:VEVENT
BEGIN:VEVENT
DTSTART:2016-08-17T01:00:00Z
DTEND:2016-08-17T03:30:00Z
LOCATION:HP1: Highland Park, Field 1
CATEGORIES:Softball,Where my Pitches at,BB/SAA
UID:38EB4C9481E4B243AD1729C6259D9423:
DTSTAMP:2026-04-21T06:58:30Z:
SUMMARY:Where my Pitches at at Combine
DESCRIPTION;ENCODING=QUOTED-PRINTABLE:Where my Pitches at at Combine=0D=0A Time: 6:00 PM=0D=0A Location: Highland Park, Field 1
CLASS:PUBLIC
PRIORITY:5
BEGIN:VALARM
TRIGGER:-PT180M
ACTION:DISPLAY
DESCRIPTION:Reminder
END:VALARM
END:VEVENT
BEGIN:VEVENT
DTSTART:2016-08-24T01:00:00Z
DTEND:2016-08-24T03:30:00Z
LOCATION:MM7: Marymoor, Field 7
CATEGORIES:Softball,Where my Pitches at,BB/SAA
UID:8167E216FB44349B917342894B7BB33:
DTSTAMP:2026-04-21T06:58:30Z:
SUMMARY:Where my Pitches at at Dream Killers
DESCRIPTION;ENCODING=QUOTED-PRINTABLE:Where my Pitches at at Dream Killers=0D=0A Time: 6:00 PM=0D=0A Location: Marymoor, Field 7
CLASS:PUBLIC
PRIORITY:5
BEGIN:VALARM
TRIGGER:-PT180M
ACTION:DISPLAY
DESCRIPTION:Reminder
END:VALARM
END:VEVENT
BEGIN:VEVENT
DTSTART:2016-08-31T03:30:00Z
DTEND:2016-08-31T06:00:00Z
LOCATION:MM7: Marymoor, Field 7
CATEGORIES:Softball,Where my Pitches at,BB/SAA
UID:6BF047574BE6294AB2957B3D2235B49A:
DTSTAMP:2026-04-21T06:58:30Z:
SUMMARY:Bellevue Club at Where my Pitches at
DESCRIPTION;ENCODING=QUOTED-PRINTABLE:Bellevue Club at Where my Pitches at=0D=0A Time: 8:30 PM=0D=0A Location: Marymoor, Field 7
CLASS:PUBLIC
PRIORITY:5
BEGIN:VALARM
TRIGGER:-PT330M
ACTION:DISPLAY
DESCRIPTION:Reminder
END:VALARM
END:VEVENT
BEGIN:VEVENT
DTSTART:2016-09-07T01:00:00Z
DTEND:2016-09-07T03:30:00Z
LOCATION:MM7: Marymoor, Field 7
CATEGORIES:Softball,Where my Pitches at,BB/SAA
UID:496CD8978CAEAD4AA9E5FFF8BD8254A5:
DTSTAMP:2026-04-21T06:58:30Z:
SUMMARY:Where my Pitches at at Dream Killers
DESCRIPTION;ENCODING=QUOTED-PRINTABLE:Where my Pitches at at Dream Killers=0D=0A Time: 6:00 PM=0D=0A Location: Marymoor, Field 7
CLASS:PUBLIC
PRIORITY:5
BEGIN:VALARM
TRIGGER:-PT180M
ACTION:DISPLAY
DESCRIPTION:Reminder
END:VALARM
END:VEVENT
END:VCALENDAR
