BEGIN:VCALENDAR
PRODID:-//Microsoft Corporation//Outlook 11.0 MIMEDIR//EN
VERSION:2.0
METHOD:PUBLISH
BEGIN:VEVENT
DTSTART:2016-07-13T03:30:00Z
DTEND:2016-07-13T06:00:00Z
LOCATION:HP1: Highland Park, Field 1
CATEGORIES:Softball,TRIAD Group,BB/SAA
UID:68B879AFC3B44849BA159085118C44AA:
DTSTAMP:2026-04-21T05:42:31Z:
SUMMARY:TRIAD Group at Bellevue Club
DESCRIPTION;ENCODING=QUOTED-PRINTABLE:TRIAD Group at Bellevue Club=0D=0A Time: 8:30 PM=0D=0A Location: Highland Park, Field 1
CLASS:PUBLIC
PRIORITY:5
BEGIN:VALARM
TRIGGER:-PT330M
ACTION:DISPLAY
DESCRIPTION:Reminder
END:VALARM
END:VEVENT
BEGIN:VEVENT
DTSTART:2016-07-20T01:00:00Z
DTEND:2016-07-20T03:30:00Z
LOCATION:MM6: Marymoor, Field 6
CATEGORIES:Softball,TRIAD Group,BB/SAA
UID:19DAB39578A1D498612199D7AA64342:
DTSTAMP:2026-04-21T05:42:31Z:
SUMMARY:Axia Loan Rangers at TRIAD Group
DESCRIPTION;ENCODING=QUOTED-PRINTABLE:Axia Loan Rangers at TRIAD Group=0D=0A Time: 6:00 PM=0D=0A Location: Marymoor, Field 6
CLASS:PUBLIC
PRIORITY:5
BEGIN:VALARM
TRIGGER:-PT180M
ACTION:DISPLAY
DESCRIPTION:Reminder
END:VALARM
END:VEVENT
BEGIN:VEVENT
DTSTART:2016-07-27T03:30:00Z
DTEND:2016-07-27T06:00:00Z
LOCATION:MM7: Marymoor, Field 7
CATEGORIES:Softball,TRIAD Group,BB/SAA
UID:67C04C11FB985469280EB6F7BB8C519:
DTSTAMP:2026-04-21T05:42:31Z:
SUMMARY:Dream Killers at TRIAD Group
DESCRIPTION;ENCODING=QUOTED-PRINTABLE:Dream Killers at TRIAD Group=0D=0A Time: 8:30 PM=0D=0A Location: Marymoor, Field 7
CLASS:PUBLIC
PRIORITY:5
BEGIN:VALARM
TRIGGER:-PT330M
ACTION:DISPLAY
DESCRIPTION:Reminder
END:VALARM
END:VEVENT
BEGIN:VEVENT
DTSTART:2016-08-03T03:30:00Z
DTEND:2016-08-03T06:00:00Z
LOCATION:HV1: Hidden Valley, Field 1
CATEGORIES:Softball,TRIAD Group,BB/SAA
UID:5F7D318D81F4B74898AB137C32F88240:
DTSTAMP:2026-04-21T05:42:31Z:
SUMMARY:TRIAD Group at Where my Pitches at
DESCRIPTION;ENCODING=QUOTED-PRINTABLE:TRIAD Group at Where my Pitches at=0D=0A Time: 8:30 PM=0D=0A Location: Hidden Valley, Field 1
CLASS:PUBLIC
PRIORITY:5
BEGIN:VALARM
TRIGGER:-PT330M
ACTION:DISPLAY
DESCRIPTION:Reminder
END:VALARM
END:VEVENT
BEGIN:VEVENT
DTSTART:2016-08-10T01:00:00Z
DTEND:2016-08-10T03:30:00Z
LOCATION:MM7: Marymoor, Field 7
CATEGORIES:Softball,TRIAD Group,BB/SAA
UID:2DBD4B94CD7C640B2C2E7925032A24A:
DTSTAMP:2026-04-21T05:42:31Z:
SUMMARY:TRIAD Group at Combine
DESCRIPTION;ENCODING=QUOTED-PRINTABLE:TRIAD Group at Combine=0D=0A Time: 6:00 PM=0D=0A Location: Marymoor, Field 7
CLASS:PUBLIC
PRIORITY:5
BEGIN:VALARM
TRIGGER:-PT180M
ACTION:DISPLAY
DESCRIPTION:Reminder
END:VALARM
END:VEVENT
BEGIN:VEVENT
DTSTART:2016-08-17T01:00:00Z
DTEND:2016-08-17T03:30:00Z
LOCATION:MM8: Marymoor, Field 8
CATEGORIES:Softball,TRIAD Group,BB/SAA
UID:A3CC988C68BBE4BBAEBD92D8733AFF6:
DTSTAMP:2026-04-21T05:42:31Z:
SUMMARY:TRIAD Group at Bellevue Club
DESCRIPTION;ENCODING=QUOTED-PRINTABLE:TRIAD Group at Bellevue Club=0D=0A Time: 6:00 PM=0D=0A Location: Marymoor, Field 8
CLASS:PUBLIC
PRIORITY:5
BEGIN:VALARM
TRIGGER:-PT180M
ACTION:DISPLAY
DESCRIPTION:Reminder
END:VALARM
END:VEVENT
BEGIN:VEVENT
DTSTART:2016-08-24T01:00:00Z
DTEND:2016-08-24T03:30:00Z
LOCATION:HV1: Hidden Valley, Field 1
CATEGORIES:Softball,TRIAD Group,BB/SAA
UID:7FB887EC9B4DB241B0097DF8D9326:
DTSTAMP:2026-04-21T05:42:31Z:
SUMMARY:Axia Loan Rangers at TRIAD Group
DESCRIPTION;ENCODING=QUOTED-PRINTABLE:Axia Loan Rangers at TRIAD Group=0D=0A Time: 6:00 PM=0D=0A Location: Hidden Valley, Field 1
CLASS:PUBLIC
PRIORITY:5
BEGIN:VALARM
TRIGGER:-PT180M
ACTION:DISPLAY
DESCRIPTION:Reminder
END:VALARM
END:VEVENT
BEGIN:VEVENT
DTSTART:2016-08-31T01:00:00Z
DTEND:2016-08-31T03:30:00Z
LOCATION:MM7: Marymoor, Field 7
CATEGORIES:Softball,TRIAD Group,BB/SAA
UID:F2BF21424C9A6749A54966A92636B73:
DTSTAMP:2026-04-21T05:42:31Z:
SUMMARY:Dream Killers at TRIAD Group
DESCRIPTION;ENCODING=QUOTED-PRINTABLE:Dream Killers at TRIAD Group=0D=0A Time: 6:00 PM=0D=0A Location: Marymoor, Field 7
CLASS:PUBLIC
PRIORITY:5
BEGIN:VALARM
TRIGGER:-PT180M
ACTION:DISPLAY
DESCRIPTION:Reminder
END:VALARM
END:VEVENT
BEGIN:VEVENT
DTSTART:2016-09-07T02:30:00Z
DTEND:2016-09-07T05:00:00Z
LOCATION:MM7: Marymoor, Field 7
CATEGORIES:Softball,TRIAD Group,BB/SAA
UID:9028EC2789854140AF1D98FA1D3B3C99:
DTSTAMP:2026-04-21T05:42:31Z:
SUMMARY:Axia Loan Rangers at TRIAD Group
DESCRIPTION;ENCODING=QUOTED-PRINTABLE:Axia Loan Rangers at TRIAD Group=0D=0A Time: 7:30 PM=0D=0A Location: Marymoor, Field 7
CLASS:PUBLIC
PRIORITY:5
BEGIN:VALARM
TRIGGER:-PT270M
ACTION:DISPLAY
DESCRIPTION:Reminder
END:VALARM
END:VEVENT
END:VCALENDAR
