BEGIN:VCALENDAR
PRODID:-//Microsoft Corporation//Outlook 11.0 MIMEDIR//EN
VERSION:2.0
METHOD:PUBLISH
BEGIN:VEVENT
DTSTART:2016-07-13T01:00:00Z
DTEND:2016-07-13T03:30:00Z
LOCATION:MM3: Marymoor, Field 3
CATEGORIES:Softball,Combine,BB/SAA
UID:1F40A7F6F0AF66428F851EFF4B75152:
DTSTAMP:2026-04-21T05:42:56Z:
SUMMARY:Combine at Where my Pitches at
DESCRIPTION;ENCODING=QUOTED-PRINTABLE:Combine at Where my Pitches at=0D=0A Time: 6:00 PM=0D=0A Location: Marymoor, Field 3
CLASS:PUBLIC
PRIORITY:5
BEGIN:VALARM
TRIGGER:-PT180M
ACTION:DISPLAY
DESCRIPTION:Reminder
END:VALARM
END:VEVENT
BEGIN:VEVENT
DTSTART:2016-07-20T01:00:00Z
DTEND:2016-07-20T03:30:00Z
LOCATION:MM7: Marymoor, Field 7
CATEGORIES:Softball,Combine,BB/SAA
UID:77C06F802576594798DD404D33AEA7AD:
DTSTAMP:2026-04-21T05:42:56Z:
SUMMARY:Combine at Bellevue Club
DESCRIPTION;ENCODING=QUOTED-PRINTABLE:Combine at Bellevue Club=0D=0A Time: 6:00 PM=0D=0A Location: Marymoor, Field 7
CLASS:PUBLIC
PRIORITY:5
BEGIN:VALARM
TRIGGER:-PT180M
ACTION:DISPLAY
DESCRIPTION:Reminder
END:VALARM
END:VEVENT
BEGIN:VEVENT
DTSTART:2016-07-27T03:30:00Z
DTEND:2016-07-27T06:00:00Z
LOCATION:HP1: Highland Park, Field 1
CATEGORIES:Softball,Combine,BB/SAA
UID:696C3A119FC0CA43A89DBA8332BD2A2:
DTSTAMP:2026-04-21T05:42:56Z:
SUMMARY:Axia Loan Rangers at Combine
DESCRIPTION;ENCODING=QUOTED-PRINTABLE:Axia Loan Rangers at Combine=0D=0A Time: 8:30 PM=0D=0A Location: Highland Park, Field 1
CLASS:PUBLIC
PRIORITY:5
BEGIN:VALARM
TRIGGER:-PT330M
ACTION:DISPLAY
DESCRIPTION:Reminder
END:VALARM
END:VEVENT
BEGIN:VEVENT
DTSTART:2016-08-03T03:30:00Z
DTEND:2016-08-03T06:00:00Z
LOCATION:HP1: Highland Park, Field 1
CATEGORIES:Softball,Combine,BB/SAA
UID:EDF6B8B52C84A41BE549C31110B8B7:
DTSTAMP:2026-04-21T05:42:56Z:
SUMMARY:Combine at Dream Killers
DESCRIPTION;ENCODING=QUOTED-PRINTABLE:Combine at Dream Killers=0D=0A Time: 8:30 PM=0D=0A Location: Highland Park, Field 1
CLASS:PUBLIC
PRIORITY:5
BEGIN:VALARM
TRIGGER:-PT330M
ACTION:DISPLAY
DESCRIPTION:Reminder
END:VALARM
END:VEVENT
BEGIN:VEVENT
DTSTART:2016-08-10T01:00:00Z
DTEND:2016-08-10T03:30:00Z
LOCATION:MM7: Marymoor, Field 7
CATEGORIES:Softball,Combine,BB/SAA
UID:1D12C651525E634F881B32F98ACA5DF:
DTSTAMP:2026-04-21T05:42:56Z:
SUMMARY:TRIAD Group at Combine
DESCRIPTION;ENCODING=QUOTED-PRINTABLE:TRIAD Group at Combine=0D=0A Time: 6:00 PM=0D=0A Location: Marymoor, Field 7
CLASS:PUBLIC
PRIORITY:5
BEGIN:VALARM
TRIGGER:-PT180M
ACTION:DISPLAY
DESCRIPTION:Reminder
END:VALARM
END:VEVENT
BEGIN:VEVENT
DTSTART:2016-08-17T01:00:00Z
DTEND:2016-08-17T03:30:00Z
LOCATION:HP1: Highland Park, Field 1
CATEGORIES:Softball,Combine,BB/SAA
UID:A383F821C6711045B9B9694E38E9421:
DTSTAMP:2026-04-21T05:42:56Z:
SUMMARY:Where my Pitches at at Combine
DESCRIPTION;ENCODING=QUOTED-PRINTABLE:Where my Pitches at at Combine=0D=0A Time: 6:00 PM=0D=0A Location: Highland Park, Field 1
CLASS:PUBLIC
PRIORITY:5
BEGIN:VALARM
TRIGGER:-PT180M
ACTION:DISPLAY
DESCRIPTION:Reminder
END:VALARM
END:VEVENT
BEGIN:VEVENT
DTSTART:2016-08-24T03:30:00Z
DTEND:2016-08-24T06:00:00Z
LOCATION:HV1: Hidden Valley, Field 1
CATEGORIES:Softball,Combine,BB/SAA
UID:F73954AAF7A92F488D5D8367991AF7:
DTSTAMP:2026-04-21T05:42:56Z:
SUMMARY:Combine at Bellevue Club
DESCRIPTION;ENCODING=QUOTED-PRINTABLE:Combine at Bellevue Club=0D=0A Time: 8:30 PM=0D=0A Location: Hidden Valley, Field 1
CLASS:PUBLIC
PRIORITY:5
BEGIN:VALARM
TRIGGER:-PT330M
ACTION:DISPLAY
DESCRIPTION:Reminder
END:VALARM
END:VEVENT
BEGIN:VEVENT
DTSTART:2016-08-31T01:00:00Z
DTEND:2016-08-31T03:30:00Z
LOCATION:MM8: Marymoor, Field 8
CATEGORIES:Softball,Combine,BB/SAA
UID:D48042717C1664D9B6B38754A1D0A8:
DTSTAMP:2026-04-21T05:42:56Z:
SUMMARY:Axia Loan Rangers at Combine
DESCRIPTION;ENCODING=QUOTED-PRINTABLE:Axia Loan Rangers at Combine=0D=0A Time: 6:00 PM=0D=0A Location: Marymoor, Field 8
CLASS:PUBLIC
PRIORITY:5
BEGIN:VALARM
TRIGGER:-PT180M
ACTION:DISPLAY
DESCRIPTION:Reminder
END:VALARM
END:VEVENT
END:VCALENDAR
