BEGIN:VCALENDAR
PRODID:-//Microsoft Corporation//Outlook 11.0 MIMEDIR//EN
VERSION:2.0
METHOD:PUBLISH
BEGIN:VEVENT
DTSTART:2016-07-13T01:00:00Z
DTEND:2016-07-13T03:30:00Z
LOCATION:HP1: Highland Park, Field 1
CATEGORIES:Softball,Newport Knockouts,BB/SAA
UID:683927D7D565484C8F1B2EE15A606E86:
DTSTAMP:2026-04-21T08:24:12Z:
SUMMARY:Newport Knockouts at Bonsai LaBombers
DESCRIPTION;ENCODING=QUOTED-PRINTABLE:Newport Knockouts at Bonsai LaBombers=0D=0A Time: 6:00 PM=0D=0A Location: Highland Park, Field 1
CLASS:PUBLIC
PRIORITY:5
BEGIN:VALARM
TRIGGER:-PT180M
ACTION:DISPLAY
DESCRIPTION:Reminder
END:VALARM
END:VEVENT
BEGIN:VEVENT
DTSTART:2016-07-20T03:30:00Z
DTEND:2016-07-20T06:00:00Z
LOCATION:HV1: Hidden Valley, Field 1
CATEGORIES:Softball,Newport Knockouts,BB/SAA
UID:E37840EC111014458A761E8D9880B5C5:
DTSTAMP:2026-04-21T08:24:12Z:
SUMMARY:Killer Kleats at Newport Knockouts
DESCRIPTION;ENCODING=QUOTED-PRINTABLE:Killer Kleats at Newport Knockouts=0D=0A Time: 8:30 PM=0D=0A Location: Hidden Valley, Field 1
CLASS:PUBLIC
PRIORITY:5
BEGIN:VALARM
TRIGGER:-PT330M
ACTION:DISPLAY
DESCRIPTION:Reminder
END:VALARM
END:VEVENT
BEGIN:VEVENT
DTSTART:2016-07-27T03:30:00Z
DTEND:2016-07-27T06:00:00Z
LOCATION:HV1: Hidden Valley, Field 1
CATEGORIES:Softball,Newport Knockouts,BB/SAA
UID:E8908A21884E49B3ED85DB745271E3:
DTSTAMP:2026-04-21T08:24:12Z:
SUMMARY:Newport Knockouts at Dreadsox
DESCRIPTION;ENCODING=QUOTED-PRINTABLE:Newport Knockouts at Dreadsox=0D=0A Time: 8:30 PM=0D=0A Location: Hidden Valley, Field 1
CLASS:PUBLIC
PRIORITY:5
BEGIN:VALARM
TRIGGER:-PT330M
ACTION:DISPLAY
DESCRIPTION:Reminder
END:VALARM
END:VEVENT
BEGIN:VEVENT
DTSTART:2016-08-03T01:00:00Z
DTEND:2016-08-03T03:30:00Z
LOCATION:MM7: Marymoor, Field 7
CATEGORIES:Softball,Newport Knockouts,BB/SAA
UID:CC4C830C5E19E4AAA664C195F59285:
DTSTAMP:2026-04-21T08:24:12Z:
SUMMARY:Brookshire Homes at Newport Knockouts
DESCRIPTION;ENCODING=QUOTED-PRINTABLE:Brookshire Homes at Newport Knockouts=0D=0A Time: 6:00 PM=0D=0A Location: Marymoor, Field 7
CLASS:PUBLIC
PRIORITY:5
BEGIN:VALARM
TRIGGER:-PT180M
ACTION:DISPLAY
DESCRIPTION:Reminder
END:VALARM
END:VEVENT
BEGIN:VEVENT
DTSTART:2016-08-10T03:30:00Z
DTEND:2016-08-10T06:00:00Z
LOCATION:MM6: Marymoor, Field 6
CATEGORIES:Softball,Newport Knockouts,BB/SAA
UID:F1D1F809E8B4A47B4584EA8382C9370:
DTSTAMP:2026-04-21T08:24:12Z:
SUMMARY:Boys and Babes with Balls at Newport Knockouts
DESCRIPTION;ENCODING=QUOTED-PRINTABLE:Boys and Babes with Balls at Newport Knockouts=0D=0A Time: 8:30 PM=0D=0A Location: Marymoor, Field 6
CLASS:PUBLIC
PRIORITY:5
BEGIN:VALARM
TRIGGER:-PT330M
ACTION:DISPLAY
DESCRIPTION:Reminder
END:VALARM
END:VEVENT
BEGIN:VEVENT
DTSTART:2016-08-17T01:00:00Z
DTEND:2016-08-17T03:30:00Z
LOCATION:MM4: Marymoor, Field 4
CATEGORIES:Softball,Newport Knockouts,BB/SAA
UID:EAD8C7AC2B686F4390E8F091AF351583:
DTSTAMP:2026-04-21T08:24:12Z:
SUMMARY:Newport Knockouts at Bonsai LaBombers
DESCRIPTION;ENCODING=QUOTED-PRINTABLE:Newport Knockouts at Bonsai LaBombers=0D=0A Time: 6:00 PM=0D=0A Location: Marymoor, Field 4
CLASS:PUBLIC
PRIORITY:5
BEGIN:VALARM
TRIGGER:-PT180M
ACTION:DISPLAY
DESCRIPTION:Reminder
END:VALARM
END:VEVENT
BEGIN:VEVENT
DTSTART:2016-08-24T01:00:00Z
DTEND:2016-08-24T03:30:00Z
LOCATION:MM6: Marymoor, Field 6
CATEGORIES:Softball,Newport Knockouts,BB/SAA
UID:84C572F639C1CE479CC076DCD831619:
DTSTAMP:2026-04-21T08:24:12Z:
SUMMARY:Killer Kleats at Newport Knockouts
DESCRIPTION;ENCODING=QUOTED-PRINTABLE:Killer Kleats at Newport Knockouts=0D=0A Time: 6:00 PM=0D=0A Location: Marymoor, Field 6
CLASS:PUBLIC
PRIORITY:5
BEGIN:VALARM
TRIGGER:-PT180M
ACTION:DISPLAY
DESCRIPTION:Reminder
END:VALARM
END:VEVENT
BEGIN:VEVENT
DTSTART:2016-08-31T01:00:00Z
DTEND:2016-08-31T03:30:00Z
LOCATION:HP1: Highland Park, Field 1
CATEGORIES:Softball,Newport Knockouts,BB/SAA
UID:DF48A7113D43F643BC37565A8E562D2B:
DTSTAMP:2026-04-21T08:24:12Z:
SUMMARY:Newport Knockouts at Dreadsox
DESCRIPTION;ENCODING=QUOTED-PRINTABLE:Newport Knockouts at Dreadsox=0D=0A Time: 6:00 PM=0D=0A Location: Highland Park, Field 1
CLASS:PUBLIC
PRIORITY:5
BEGIN:VALARM
TRIGGER:-PT180M
ACTION:DISPLAY
DESCRIPTION:Reminder
END:VALARM
END:VEVENT
END:VCALENDAR
