BEGIN:VCALENDAR
PRODID:-//Microsoft Corporation//Outlook 11.0 MIMEDIR//EN
VERSION:2.0
METHOD:PUBLISH
BEGIN:VEVENT
DTSTART:2016-07-13T01:00:00Z
DTEND:2016-07-13T03:30:00Z
LOCATION:MM7: Marymoor, Field 7
CATEGORIES:Softball,Brookshire Homes,BB/SAA
UID:6CC375B7E714E1449CDB82104B6318:
DTSTAMP:2026-04-23T10:10:26Z:
SUMMARY:Brookshire Homes at Killer Kleats
DESCRIPTION;ENCODING=QUOTED-PRINTABLE:Brookshire Homes at Killer Kleats=0D=0A Time: 6:00 PM=0D=0A Location: Marymoor, Field 7
CLASS:PUBLIC
PRIORITY:5
BEGIN:VALARM
TRIGGER:-PT180M
ACTION:DISPLAY
DESCRIPTION:Reminder
END:VALARM
END:VEVENT
BEGIN:VEVENT
DTSTART:2016-07-20T03:30:00Z
DTEND:2016-07-20T06:00:00Z
LOCATION:HP1: Highland Park, Field 1
CATEGORIES:Softball,Brookshire Homes,BB/SAA
UID:A0F9D4D2A493A64E9DB4C3B241155E65:
DTSTAMP:2026-04-23T10:10:26Z:
SUMMARY:Brookshire Homes at Boys and Babes with Balls
DESCRIPTION;ENCODING=QUOTED-PRINTABLE:Brookshire Homes at Boys and Babes with Balls=0D=0A Time: 8:30 PM=0D=0A Location: Highland Park, Field 1
CLASS:PUBLIC
PRIORITY:5
BEGIN:VALARM
TRIGGER:-PT330M
ACTION:DISPLAY
DESCRIPTION:Reminder
END:VALARM
END:VEVENT
BEGIN:VEVENT
DTSTART:2016-07-27T01:00:00Z
DTEND:2016-07-27T03:30:00Z
LOCATION:HV1: Hidden Valley, Field 1
CATEGORIES:Softball,Brookshire Homes,BB/SAA
UID:61659B647D03C429D19BAC8102AE3CA:
DTSTAMP:2026-04-23T10:10:26Z:
SUMMARY:Bonsai LaBombers at Brookshire Homes
DESCRIPTION;ENCODING=QUOTED-PRINTABLE:Bonsai LaBombers at Brookshire Homes=0D=0A Time: 6:00 PM=0D=0A Location: Hidden Valley, Field 1
CLASS:PUBLIC
PRIORITY:5
BEGIN:VALARM
TRIGGER:-PT180M
ACTION:DISPLAY
DESCRIPTION:Reminder
END:VALARM
END:VEVENT
BEGIN:VEVENT
DTSTART:2016-08-03T01:00:00Z
DTEND:2016-08-03T03:30:00Z
LOCATION:MM7: Marymoor, Field 7
CATEGORIES:Softball,Brookshire Homes,BB/SAA
UID:71A080F5BAF84D4EA203878DE282E3E:
DTSTAMP:2026-04-23T10:10:26Z:
SUMMARY:Brookshire Homes at Newport Knockouts
DESCRIPTION;ENCODING=QUOTED-PRINTABLE:Brookshire Homes at Newport Knockouts=0D=0A Time: 6:00 PM=0D=0A Location: Marymoor, Field 7
CLASS:PUBLIC
PRIORITY:5
BEGIN:VALARM
TRIGGER:-PT180M
ACTION:DISPLAY
DESCRIPTION:Reminder
END:VALARM
END:VEVENT
BEGIN:VEVENT
DTSTART:2016-08-10T01:00:00Z
DTEND:2016-08-10T03:30:00Z
LOCATION:HV1: Hidden Valley, Field 1
CATEGORIES:Softball,Brookshire Homes,BB/SAA
UID:85526C98E5A8446A1CB265469AD2C1E:
DTSTAMP:2026-04-23T10:10:26Z:
SUMMARY:Dreadsox at Brookshire Homes
DESCRIPTION;ENCODING=QUOTED-PRINTABLE:Dreadsox at Brookshire Homes=0D=0A Time: 6:00 PM=0D=0A Location: Hidden Valley, Field 1
CLASS:PUBLIC
PRIORITY:5
BEGIN:VALARM
TRIGGER:-PT180M
ACTION:DISPLAY
DESCRIPTION:Reminder
END:VALARM
END:VEVENT
BEGIN:VEVENT
DTSTART:2016-08-17T03:30:00Z
DTEND:2016-08-17T06:00:00Z
LOCATION:MM7: Marymoor, Field 7
CATEGORIES:Softball,Brookshire Homes,BB/SAA
UID:5584704932FD204CAE3A6E447965EB6D:
DTSTAMP:2026-04-23T10:10:26Z:
SUMMARY:Killer Kleats at Brookshire Homes
DESCRIPTION;ENCODING=QUOTED-PRINTABLE:Killer Kleats at Brookshire Homes=0D=0A Time: 8:30 PM=0D=0A Location: Marymoor, Field 7
CLASS:PUBLIC
PRIORITY:5
BEGIN:VALARM
TRIGGER:-PT330M
ACTION:DISPLAY
DESCRIPTION:Reminder
END:VALARM
END:VEVENT
BEGIN:VEVENT
DTSTART:2016-08-24T03:30:00Z
DTEND:2016-08-24T06:00:00Z
LOCATION:HP1: Highland Park, Field 1
CATEGORIES:Softball,Brookshire Homes,BB/SAA
UID:FD1DA94FCC3744F865BCBF61F99AEA0:
DTSTAMP:2026-04-23T10:10:26Z:
SUMMARY:Brookshire Homes at Boys and Babes with Balls
DESCRIPTION;ENCODING=QUOTED-PRINTABLE:Brookshire Homes at Boys and Babes with Balls=0D=0A Time: 8:30 PM=0D=0A Location: Highland Park, Field 1
CLASS:PUBLIC
PRIORITY:5
BEGIN:VALARM
TRIGGER:-PT330M
ACTION:DISPLAY
DESCRIPTION:Reminder
END:VALARM
END:VEVENT
BEGIN:VEVENT
DTSTART:2016-08-31T01:00:00Z
DTEND:2016-08-31T03:30:00Z
LOCATION:HV1: Hidden Valley, Field 1
CATEGORIES:Softball,Brookshire Homes,BB/SAA
UID:26D342858BD2E4EA2BD6E3843E4D7C4:
DTSTAMP:2026-04-23T10:10:26Z:
SUMMARY:Bonsai LaBombers at Brookshire Homes
DESCRIPTION;ENCODING=QUOTED-PRINTABLE:Bonsai LaBombers at Brookshire Homes=0D=0A Time: 6:00 PM=0D=0A Location: Hidden Valley, Field 1
CLASS:PUBLIC
PRIORITY:5
BEGIN:VALARM
TRIGGER:-PT180M
ACTION:DISPLAY
DESCRIPTION:Reminder
END:VALARM
END:VEVENT
BEGIN:VEVENT
DTSTART:2016-09-14T02:30:00Z
DTEND:2016-09-14T05:00:00Z
LOCATION:HP1: Highland Park, Field 1
CATEGORIES:Softball,Brookshire Homes,BB/SAA
UID:ECCBC7C8DCA041BEFAA8DD19D5AD6:
DTSTAMP:2026-04-23T10:10:26Z:
SUMMARY:Brookshire Homes at Killer Kleats
DESCRIPTION;ENCODING=QUOTED-PRINTABLE:Brookshire Homes at Killer Kleats=0D=0A Time: 7:30 PM=0D=0A Location: Highland Park, Field 1
CLASS:PUBLIC
PRIORITY:5
BEGIN:VALARM
TRIGGER:-PT270M
ACTION:DISPLAY
DESCRIPTION:Reminder
END:VALARM
END:VEVENT
END:VCALENDAR
