BEGIN:VCALENDAR
PRODID:-//Microsoft Corporation//Outlook 11.0 MIMEDIR//EN
VERSION:2.0
METHOD:PUBLISH
BEGIN:VEVENT
DTSTART:2016-07-13T01:00:00Z
DTEND:2016-07-13T03:30:00Z
LOCATION:MM4: Marymoor, Field 4
CATEGORIES:Softball,Boys and Babes with Balls,BB/SAA
UID:DC181B918D27BB49B8D2834E54A6A11F:
DTSTAMP:2026-04-21T06:48:46Z:
SUMMARY:Dreadsox at Boys and Babes with Balls
DESCRIPTION;ENCODING=QUOTED-PRINTABLE:Dreadsox at Boys and Babes with Balls=0D=0A Time: 6:00 PM=0D=0A Location: Marymoor, Field 4
CLASS:PUBLIC
PRIORITY:5
BEGIN:VALARM
TRIGGER:-PT180M
ACTION:DISPLAY
DESCRIPTION:Reminder
END:VALARM
END:VEVENT
BEGIN:VEVENT
DTSTART:2016-07-20T03:30:00Z
DTEND:2016-07-20T06:00:00Z
LOCATION:HP1: Highland Park, Field 1
CATEGORIES:Softball,Boys and Babes with Balls,BB/SAA
UID:A8C95CAE7E5C447B168339C35135D45:
DTSTAMP:2026-04-21T06:48:46Z:
SUMMARY:Brookshire Homes at Boys and Babes with Balls
DESCRIPTION;ENCODING=QUOTED-PRINTABLE:Brookshire Homes at Boys and Babes with Balls=0D=0A Time: 8:30 PM=0D=0A Location: Highland Park, Field 1
CLASS:PUBLIC
PRIORITY:5
BEGIN:VALARM
TRIGGER:-PT330M
ACTION:DISPLAY
DESCRIPTION:Reminder
END:VALARM
END:VEVENT
BEGIN:VEVENT
DTSTART:2016-07-27T01:00:00Z
DTEND:2016-07-27T03:30:00Z
LOCATION:HP1: Highland Park, Field 1
CATEGORIES:Softball,Boys and Babes with Balls,BB/SAA
UID:53C7F4FFC7EEB74E95ED824577213ACC:
DTSTAMP:2026-04-21T06:48:46Z:
SUMMARY:Boys and Babes with Balls at Killer Kleats
DESCRIPTION;ENCODING=QUOTED-PRINTABLE:Boys and Babes with Balls at Killer Kleats=0D=0A Time: 6:00 PM=0D=0A Location: Highland Park, Field 1
CLASS:PUBLIC
PRIORITY:5
BEGIN:VALARM
TRIGGER:-PT180M
ACTION:DISPLAY
DESCRIPTION:Reminder
END:VALARM
END:VEVENT
BEGIN:VEVENT
DTSTART:2016-08-03T01:00:00Z
DTEND:2016-08-03T03:30:00Z
LOCATION:HP1: Highland Park, Field 1
CATEGORIES:Softball,Boys and Babes with Balls,BB/SAA
UID:7338C9FE7D4BF04A9B466DBC7EDC65:
DTSTAMP:2026-04-21T06:48:46Z:
SUMMARY:Boys and Babes with Balls at Bonsai LaBombers
DESCRIPTION;ENCODING=QUOTED-PRINTABLE:Boys and Babes with Balls at Bonsai LaBombers=0D=0A Time: 6:00 PM=0D=0A Location: Highland Park, Field 1
CLASS:PUBLIC
PRIORITY:5
BEGIN:VALARM
TRIGGER:-PT180M
ACTION:DISPLAY
DESCRIPTION:Reminder
END:VALARM
END:VEVENT
BEGIN:VEVENT
DTSTART:2016-08-10T03:30:00Z
DTEND:2016-08-10T06:00:00Z
LOCATION:MM6: Marymoor, Field 6
CATEGORIES:Softball,Boys and Babes with Balls,BB/SAA
UID:FB322DB9B5E8E74FB85C161343966AC:
DTSTAMP:2026-04-21T06:48:46Z:
SUMMARY:Boys and Babes with Balls at Newport Knockouts
DESCRIPTION;ENCODING=QUOTED-PRINTABLE:Boys and Babes with Balls at Newport Knockouts=0D=0A Time: 8:30 PM=0D=0A Location: Marymoor, Field 6
CLASS:PUBLIC
PRIORITY:5
BEGIN:VALARM
TRIGGER:-PT330M
ACTION:DISPLAY
DESCRIPTION:Reminder
END:VALARM
END:VEVENT
BEGIN:VEVENT
DTSTART:2016-08-17T01:00:00Z
DTEND:2016-08-17T03:30:00Z
LOCATION:MM7: Marymoor, Field 7
CATEGORIES:Softball,Boys and Babes with Balls,BB/SAA
UID:B7DCC97BE819BB4792477882246C619:
DTSTAMP:2026-04-21T06:48:46Z:
SUMMARY:Dreadsox at Boys and Babes with Balls
DESCRIPTION;ENCODING=QUOTED-PRINTABLE:Dreadsox at Boys and Babes with Balls=0D=0A Time: 6:00 PM=0D=0A Location: Marymoor, Field 7
CLASS:PUBLIC
PRIORITY:5
BEGIN:VALARM
TRIGGER:-PT180M
ACTION:DISPLAY
DESCRIPTION:Reminder
END:VALARM
END:VEVENT
BEGIN:VEVENT
DTSTART:2016-08-24T03:30:00Z
DTEND:2016-08-24T06:00:00Z
LOCATION:HP1: Highland Park, Field 1
CATEGORIES:Softball,Boys and Babes with Balls,BB/SAA
UID:4F7171A31A14DB5675753CAC4152:
DTSTAMP:2026-04-21T06:48:46Z:
SUMMARY:Brookshire Homes at Boys and Babes with Balls
DESCRIPTION;ENCODING=QUOTED-PRINTABLE:Brookshire Homes at Boys and Babes with Balls=0D=0A Time: 8:30 PM=0D=0A Location: Highland Park, Field 1
CLASS:PUBLIC
PRIORITY:5
BEGIN:VALARM
TRIGGER:-PT330M
ACTION:DISPLAY
DESCRIPTION:Reminder
END:VALARM
END:VEVENT
BEGIN:VEVENT
DTSTART:2016-08-31T03:30:00Z
DTEND:2016-08-31T06:00:00Z
LOCATION:HV1: Hidden Valley, Field 1
CATEGORIES:Softball,Boys and Babes with Balls,BB/SAA
UID:3D8B03AECC24541B6247E4F754BA97:
DTSTAMP:2026-04-21T06:48:46Z:
SUMMARY:Boys and Babes with Balls at Killer Kleats
DESCRIPTION;ENCODING=QUOTED-PRINTABLE:Boys and Babes with Balls at Killer Kleats=0D=0A Time: 8:30 PM=0D=0A Location: Hidden Valley, Field 1
CLASS:PUBLIC
PRIORITY:5
BEGIN:VALARM
TRIGGER:-PT330M
ACTION:DISPLAY
DESCRIPTION:Reminder
END:VALARM
END:VEVENT
BEGIN:VEVENT
DTSTART:2016-09-14T01:00:00Z
DTEND:2016-09-14T03:30:00Z
LOCATION:HP1: Highland Park, Field 1
CATEGORIES:Softball,Boys and Babes with Balls,BB/SAA
UID:8DF0C0F8C8C7C4479CB310BDF164CB80:
DTSTAMP:2026-04-21T06:48:46Z:
SUMMARY:Boys and Babes with Balls at Bonsai LaBombers
DESCRIPTION;ENCODING=QUOTED-PRINTABLE:Boys and Babes with Balls at Bonsai LaBombers=0D=0A Time: 6:00 PM=0D=0A Location: Highland Park, Field 1
CLASS:PUBLIC
PRIORITY:5
BEGIN:VALARM
TRIGGER:-PT180M
ACTION:DISPLAY
DESCRIPTION:Reminder
END:VALARM
END:VEVENT
END:VCALENDAR
